BEGIN:VCALENDAR
VERSION:2.0
PRODID:-//AD Los Molinos, Asociación - ECPv6.15.18//NONSGML v1.0//EN
CALSCALE:GREGORIAN
METHOD:PUBLISH
X-ORIGINAL-URL:https://www.admolinos.org
X-WR-CALDESC:Eventos para AD Los Molinos, Asociación
REFRESH-INTERVAL;VALUE=DURATION:PT1H
X-Robots-Tag:noindex
X-PUBLISHED-TTL:PT1H
BEGIN:VTIMEZONE
TZID:Europe/Helsinki
BEGIN:DAYLIGHT
TZOFFSETFROM:+0200
TZOFFSETTO:+0300
TZNAME:EEST
DTSTART:20200329T010000
END:DAYLIGHT
BEGIN:STANDARD
TZOFFSETFROM:+0300
TZOFFSETTO:+0200
TZNAME:EET
DTSTART:20201025T010000
END:STANDARD
BEGIN:DAYLIGHT
TZOFFSETFROM:+0200
TZOFFSETTO:+0300
TZNAME:EEST
DTSTART:20210328T010000
END:DAYLIGHT
BEGIN:STANDARD
TZOFFSETFROM:+0300
TZOFFSETTO:+0200
TZNAME:EET
DTSTART:20211031T010000
END:STANDARD
BEGIN:DAYLIGHT
TZOFFSETFROM:+0200
TZOFFSETTO:+0300
TZNAME:EEST
DTSTART:20220327T010000
END:DAYLIGHT
BEGIN:STANDARD
TZOFFSETFROM:+0300
TZOFFSETTO:+0200
TZNAME:EET
DTSTART:20221030T010000
END:STANDARD
END:VTIMEZONE
BEGIN:VEVENT
DTSTART;TZID=Europe/Helsinki:20210407T100000
DTEND;TZID=Europe/Helsinki:20210407T143000
DTSTAMP:20260425T223411
CREATED:20210224T182909Z
LAST-MODIFIED:20210504T121744Z
UID:10532-1617789600-1617805800@www.admolinos.org
SUMMARY:Inicio Curso Ayuda a Domicilio
DESCRIPTION:Inicio: 7 de Abril al 28 de Mayo de 2021.\nDuración: 140 h.\nLugar: Madrid (metro Pan Bendito)\nDirigido: Personas en búsqueda activa de empleo y en situación vulnerable\nRequisitos: Conocimientos de español nivel medio. Estar dado/a de alta en el Servicio de Empleo de Asociación AD Los Molinos.\nContenido: Formación teórica-práctica básica sobre cuidados\, movilizaciones\, alimentación\, etc. de personas dependientes en sus domicilios.\nInscripciones: rellena el FORMULARIO.
URL:https://www.admolinos.org/evento/inicio-curso-ayuda-a-domicilio/
CATEGORIES:Cursos,Empleo,Formación empleo
END:VEVENT
BEGIN:VEVENT
DTSTART;TZID=Europe/Helsinki:20210420T093000
DTEND;TZID=Europe/Helsinki:20210420T143000
DTSTAMP:20260425T223411
CREATED:20210330T113355Z
LAST-MODIFIED:20210330T113605Z
UID:10797-1618911000-1618929000@www.admolinos.org
SUMMARY:Inicio Curso de JARDINERÍA
DESCRIPTION:Fecha de inicio: 20 de Abril de 2021.\nFecha de finalización: 10 de Junio de 2021.\nHorario: De lunes a viernes\, de 9:30 a 14:30h.\nDuración: 175h (incluye 80 horas prácticas en empresas y carnet de Manipulación de Productos Fitosanitarios)\nLocalidad: Collado Villalba\nRequisitos: Conocimientos de español y de matemáticas nivel medio. Estar dado/a de alta en el Servicio de Empleo de Asociación AD Los Molinos.\nContenido: Formación teórica-práctica para la adquisición de conocimientos y competencias para trabajar como auxiliar de Jardinería.\nColabora: Ayuntamiento de Collado Villalba\nInscripciones: rellena el FORMULARIO.
URL:https://www.admolinos.org/evento/inicio-curso-de-jardineria/
CATEGORIES:Cursos,Empleo,Formación empleo
END:VEVENT
END:VCALENDAR