BEGIN:VCALENDAR
VERSION:2.0
PRODID:-//AD Los Molinos, Asociación - ECPv6.15.18//NONSGML v1.0//EN
CALSCALE:GREGORIAN
METHOD:PUBLISH
X-ORIGINAL-URL:https://www.admolinos.org
X-WR-CALDESC:Eventos para AD Los Molinos, Asociación
REFRESH-INTERVAL;VALUE=DURATION:PT1H
X-Robots-Tag:noindex
X-PUBLISHED-TTL:PT1H
BEGIN:VTIMEZONE
TZID:Europe/Helsinki
BEGIN:DAYLIGHT
TZOFFSETFROM:+0200
TZOFFSETTO:+0300
TZNAME:EEST
DTSTART:20200329T010000
END:DAYLIGHT
BEGIN:STANDARD
TZOFFSETFROM:+0300
TZOFFSETTO:+0200
TZNAME:EET
DTSTART:20201025T010000
END:STANDARD
BEGIN:DAYLIGHT
TZOFFSETFROM:+0200
TZOFFSETTO:+0300
TZNAME:EEST
DTSTART:20210328T010000
END:DAYLIGHT
BEGIN:STANDARD
TZOFFSETFROM:+0300
TZOFFSETTO:+0200
TZNAME:EET
DTSTART:20211031T010000
END:STANDARD
BEGIN:DAYLIGHT
TZOFFSETFROM:+0200
TZOFFSETTO:+0300
TZNAME:EEST
DTSTART:20220327T010000
END:DAYLIGHT
BEGIN:STANDARD
TZOFFSETFROM:+0300
TZOFFSETTO:+0200
TZNAME:EET
DTSTART:20221030T010000
END:STANDARD
END:VTIMEZONE
BEGIN:VEVENT
DTSTART;TZID=Europe/Helsinki:20211014T090000
DTEND;TZID=Europe/Helsinki:20211014T140000
DTSTAMP:20260425T143622
CREATED:20211025T123649Z
LAST-MODIFIED:20211025T123649Z
UID:11692-1634202000-1634220000@www.admolinos.org
SUMMARY:Incio Curso de Conducción de Carretillas Elevadoras. Murcia.
DESCRIPTION:nicio: 14 de Octubre de 2021\nFin: 25 de Octubre de 2021\nDuración: 40h\nLocalidad: Murcia.\nDirigido a Personas inmigrantes con NIE no comunitario\nOtra información: Formación teórica-práctica para la adquisición de conocimientos y competencias para el manejo de carretillas elevadoras . Carnet oficial
URL:https://www.admolinos.org/evento/incio-curso-de-conduccion-de-carretillas-elevadoras-murcia-2/
CATEGORIES:Cursos,Empleo,Formación empleo
END:VEVENT
BEGIN:VEVENT
DTSTART;TZID=Europe/Helsinki:20211018T170000
DTEND;TZID=Europe/Helsinki:20211018T200000
DTSTAMP:20260425T143622
CREATED:20210423T090844Z
LAST-MODIFIED:20210423T090844Z
UID:10873-1634576400-1634587200@www.admolinos.org
SUMMARY:Curso Técnico Asesoramiento para el Autoempleo de Inmigrantes 2021
DESCRIPTION:Inicio: 18/10/2021.\nFin: 29/11/2021.\n2 Modalidades: formación virtual (con sesiones formativas virtuales) y formación on line.\nHoras: 100h\nFormación virtual: Lunes y Miércoles\, de 17 a 20h.\nDirigido a profesionales del ámbito social. personal y voluntarios/as de entidades sociales\, y a personas que deseen especializarse en este sector\, de Madrid y otras CCAA.\nFormulario de INSCRIPCIÓN
URL:https://www.admolinos.org/evento/curso-tecnico-asesoramiento-para-el-autoempleo-de-inmigrantes-2021/
CATEGORIES:Autoempleo,Cursos,Formación técnica
END:VEVENT
BEGIN:VEVENT
DTSTART;TZID=Europe/Helsinki:20211019T090000
DTEND;TZID=Europe/Helsinki:20211019T140000
DTSTAMP:20260425T143622
CREATED:20210527T150007Z
LAST-MODIFIED:20210913T070031Z
UID:11145-1634634000-1634652000@www.admolinos.org
SUMMARY:Inicio Curso Limpieza Hospitalaria ON LINE
DESCRIPTION:Fechas: 19 de Octubre a 19 de Noviembre de 2021.\nDuración: 40 h.\nModalidad: ON LINE\nDirigido: Personas inmigrantes con NIE no comunitario ni protección internacional\nRequisitos: Conocimientos de español nivel medio. Estar dado/a de alta en el Servicio de Empleo de Asociación AD Los Molinos.\nContenido: Técnicas y sitemas de limpieza y desinfección hospitalaria según zonas del hospital. Recogida y eliminación de rsiduos hospitalarios. Prevención de riesgos laborales. Módulo específico COVID19.\nInscripciones: rellena el FORMULARIO.
URL:https://www.admolinos.org/evento/inicio-curso-limpieza-hospitalaria-on-line/
CATEGORIES:Cursos,Empleo,Formación empleo
END:VEVENT
END:VCALENDAR