BEGIN:VCALENDAR
VERSION:2.0
PRODID:-//AD Los Molinos, Asociación - ECPv6.15.18//NONSGML v1.0//EN
CALSCALE:GREGORIAN
METHOD:PUBLISH
X-ORIGINAL-URL:https://www.admolinos.org
X-WR-CALDESC:Eventos para AD Los Molinos, Asociación
REFRESH-INTERVAL;VALUE=DURATION:PT1H
X-Robots-Tag:noindex
X-PUBLISHED-TTL:PT1H
BEGIN:VTIMEZONE
TZID:Europe/Helsinki
BEGIN:DAYLIGHT
TZOFFSETFROM:+0200
TZOFFSETTO:+0300
TZNAME:EEST
DTSTART:20200329T010000
END:DAYLIGHT
BEGIN:STANDARD
TZOFFSETFROM:+0300
TZOFFSETTO:+0200
TZNAME:EET
DTSTART:20201025T010000
END:STANDARD
BEGIN:DAYLIGHT
TZOFFSETFROM:+0200
TZOFFSETTO:+0300
TZNAME:EEST
DTSTART:20210328T010000
END:DAYLIGHT
BEGIN:STANDARD
TZOFFSETFROM:+0300
TZOFFSETTO:+0200
TZNAME:EET
DTSTART:20211031T010000
END:STANDARD
BEGIN:DAYLIGHT
TZOFFSETFROM:+0200
TZOFFSETTO:+0300
TZNAME:EEST
DTSTART:20220327T010000
END:DAYLIGHT
BEGIN:STANDARD
TZOFFSETFROM:+0300
TZOFFSETTO:+0200
TZNAME:EET
DTSTART:20221030T010000
END:STANDARD
END:VTIMEZONE
BEGIN:VEVENT
DTSTART;TZID=Europe/Helsinki:20210316T100000
DTEND;TZID=Europe/Helsinki:20210316T170000
DTSTAMP:20260426T013955
CREATED:20210129T173952Z
LAST-MODIFIED:20210504T121633Z
UID:10395-1615888800-1615914000@www.admolinos.org
SUMMARY:Inicio Curso Limpieza Hospitalaria
DESCRIPTION:Inicio: 16 de Marzo al 30 de Abril de 2021.\nDuración:: 40 h.\nModalidad: ON LINE\nDirigido: Personas en búsqueda activa de empleo y en situación vulnerable\nRequisitos: Teléfono/ordenador con conexión a internet. Conocimientos de español nivel medio. Estar dado/a de alta en el Servicio de Empleo  de Asociación AD Los Molinos.\nContenido: Técnicas y sistemas de limpieza y desinfección hospitalaria según zonas del hospital. Recogida y eliminación de residuos hospitalarios. Prevención de riesgos laborales. Módulo específico COVID19.\nInscripción: 607 45 36 51
URL:https://www.admolinos.org/evento/inicio-curso-limpieza-hospitalaria/
CATEGORIES:Cursos,Empleo,Formación empleo
END:VEVENT
END:VCALENDAR