BEGIN:VCALENDAR
VERSION:2.0
PRODID:-//AD Los Molinos, Asociación - ECPv6.15.18//NONSGML v1.0//EN
CALSCALE:GREGORIAN
METHOD:PUBLISH
X-ORIGINAL-URL:https://www.admolinos.org
X-WR-CALDESC:Eventos para AD Los Molinos, Asociación
REFRESH-INTERVAL;VALUE=DURATION:PT1H
X-Robots-Tag:noindex
X-PUBLISHED-TTL:PT1H
BEGIN:VTIMEZONE
TZID:Europe/Helsinki
BEGIN:DAYLIGHT
TZOFFSETFROM:+0200
TZOFFSETTO:+0300
TZNAME:EEST
DTSTART:20200329T010000
END:DAYLIGHT
BEGIN:STANDARD
TZOFFSETFROM:+0300
TZOFFSETTO:+0200
TZNAME:EET
DTSTART:20201025T010000
END:STANDARD
BEGIN:DAYLIGHT
TZOFFSETFROM:+0200
TZOFFSETTO:+0300
TZNAME:EEST
DTSTART:20210328T010000
END:DAYLIGHT
BEGIN:STANDARD
TZOFFSETFROM:+0300
TZOFFSETTO:+0200
TZNAME:EET
DTSTART:20211031T010000
END:STANDARD
BEGIN:DAYLIGHT
TZOFFSETFROM:+0200
TZOFFSETTO:+0300
TZNAME:EEST
DTSTART:20220327T010000
END:DAYLIGHT
BEGIN:STANDARD
TZOFFSETFROM:+0300
TZOFFSETTO:+0200
TZNAME:EET
DTSTART:20221030T010000
END:STANDARD
END:VTIMEZONE
BEGIN:VEVENT
DTSTART;TZID=Europe/Helsinki:20211014T090000
DTEND;TZID=Europe/Helsinki:20211014T140000
DTSTAMP:20260425T160718
CREATED:20211025T123649Z
LAST-MODIFIED:20211025T123649Z
UID:11692-1634202000-1634220000@www.admolinos.org
SUMMARY:Incio Curso de Conducción de Carretillas Elevadoras. Murcia.
DESCRIPTION:nicio: 14 de Octubre de 2021\nFin: 25 de Octubre de 2021\nDuración: 40h\nLocalidad: Murcia.\nDirigido a Personas inmigrantes con NIE no comunitario\nOtra información: Formación teórica-práctica para la adquisición de conocimientos y competencias para el manejo de carretillas elevadoras . Carnet oficial
URL:https://www.admolinos.org/evento/incio-curso-de-conduccion-de-carretillas-elevadoras-murcia-2/
CATEGORIES:Cursos,Empleo,Formación empleo
END:VEVENT
END:VCALENDAR