BEGIN:VCALENDAR
VERSION:2.0
PRODID:-//AD Los Molinos, Asociación - ECPv6.15.18//NONSGML v1.0//EN
CALSCALE:GREGORIAN
METHOD:PUBLISH
X-ORIGINAL-URL:https://www.admolinos.org
X-WR-CALDESC:Eventos para AD Los Molinos, Asociación
REFRESH-INTERVAL;VALUE=DURATION:PT1H
X-Robots-Tag:noindex
X-PUBLISHED-TTL:PT1H
BEGIN:VTIMEZONE
TZID:Europe/Helsinki
BEGIN:DAYLIGHT
TZOFFSETFROM:+0200
TZOFFSETTO:+0300
TZNAME:EEST
DTSTART:20210328T010000
END:DAYLIGHT
BEGIN:STANDARD
TZOFFSETFROM:+0300
TZOFFSETTO:+0200
TZNAME:EET
DTSTART:20211031T010000
END:STANDARD
BEGIN:DAYLIGHT
TZOFFSETFROM:+0200
TZOFFSETTO:+0300
TZNAME:EEST
DTSTART:20220327T010000
END:DAYLIGHT
BEGIN:STANDARD
TZOFFSETFROM:+0300
TZOFFSETTO:+0200
TZNAME:EET
DTSTART:20221030T010000
END:STANDARD
BEGIN:DAYLIGHT
TZOFFSETFROM:+0200
TZOFFSETTO:+0300
TZNAME:EEST
DTSTART:20230326T010000
END:DAYLIGHT
BEGIN:STANDARD
TZOFFSETFROM:+0300
TZOFFSETTO:+0200
TZNAME:EET
DTSTART:20231029T010000
END:STANDARD
END:VTIMEZONE
BEGIN:VEVENT
DTSTART;TZID=Europe/Helsinki:20220914T120000
DTEND;TZID=Europe/Helsinki:20220914T140000
DTSTAMP:20260424T174009
CREATED:20220913T144417Z
LAST-MODIFIED:20220914T083713Z
UID:12837-1663156800-1663164000@www.admolinos.org
SUMMARY:Aula Digital
DESCRIPTION:Día: 14 de Septiembre de 2022\nHorario: de 12:00 a 14:00h\nLugar: Collado Villalba\nDirigido: Personas residentes en la COMUNIDAD DE MADRID\, en búsqueda activa de empleo y en situación vulnerable.\nRequisitos: Conocimientos de español nivel medio. Estar inscrita/o en el Servicio de Empleo de Asociación AD Los Molinos.\nContenido: Sesión práctica para mejorar las competencias digitales relacionadas con el almacenamiento de archivos en la nube\, el registro en webs de empleo\, la realización de trámites administrativos online\, etc.\nColabora: Ayuntamiento de Collado Villalba\nInscripciones: rellena el FORMULARIO.
URL:https://www.admolinos.org/evento/aula-digital-21/
CATEGORIES:Empleo,Taller empleo
END:VEVENT
BEGIN:VEVENT
DTSTART;TZID=Europe/Helsinki:20220920T120000
DTEND;TZID=Europe/Helsinki:20220920T140000
DTSTAMP:20260424T174009
CREATED:20220913T144913Z
LAST-MODIFIED:20220914T083521Z
UID:12843-1663675200-1663682400@www.admolinos.org
SUMMARY:Aula Digital
DESCRIPTION:Día: 20 de Septiembre de 2022\nHorario: de 12:00 a 14:00h\nLugar: Collado Villalba\nDirigido: Personas residentes en la COMUNIDAD DE MADRID\, en búsqueda activa de empleo y en situación vulnerable.\nRequisitos: Conocimientos de español nivel medio. Estar inscrita/o en el Servicio de Empleo de Asociación AD Los Molinos.\nContenido: Sesión práctica para mejorar las competencias digitales relacionadas con el almacenamiento de archivos en la nube\, el registro en webs de empleo\, la realización de trámites administrativos online\, etc.\nColabora: Ayuntamiento de Collado Villalba\nInscripciones: rellena el FORMULARIO.
URL:https://www.admolinos.org/evento/aula-digital-22/
CATEGORIES:Empleo,Taller empleo
END:VEVENT
BEGIN:VEVENT
DTSTART;TZID=Europe/Helsinki:20220922T100000
DTEND;TZID=Europe/Helsinki:20220922T120000
DTSTAMP:20260424T174009
CREATED:20220913T141354Z
LAST-MODIFIED:20220913T141354Z
UID:12829-1663840800-1663848000@www.admolinos.org
SUMMARY:Taller Búsqueda Activa de Empleo a través de Aplicaciones Móviles
DESCRIPTION:Día: 22 de Septiembre de 2022\nHorario: de 10:00 a 12:00h\nLugar: Madrid (metro: Pan Bendito)\nDirigido: Personas residentes en la COMUNIDAD DE MADRID\, en búsqueda activa de empleo y en situación vulnerable.\nContenido: Cómo mejorar tu perfil en redes sociales y la utilización de estas redes y aplicaciones móviles para la búsqueda de empleo.\nInscripciones: rellena el FORMULARIO.
URL:https://www.admolinos.org/evento/taller-busqueda-activa-de-empleo-a-traves-de-aplicaciones-moviles/
CATEGORIES:Empleo,Taller empleo
END:VEVENT
BEGIN:VEVENT
DTSTART;TZID=Europe/Helsinki:20220929T100000
DTEND;TZID=Europe/Helsinki:20220929T120000
DTSTAMP:20260424T174009
CREATED:20220913T143421Z
LAST-MODIFIED:20220913T143421Z
UID:12833-1664445600-1664452800@www.admolinos.org
SUMMARY:Taller ON LINE Orientación formativa
DESCRIPTION:Día: 29 de Septiembre de 2022\nHorario: de 10:00 a 12:00h\nModalidad: ON LINE\nDirigido: Personas residentes en la COMUNIDAD DE MADRID\, en búsqueda activa de empleo y en situación vulnerable.\nRequisitos: Teléfono/ordenador con conexión a internet. Conocimientos de español nivel medio. Estar inscrita/o en el Servicio de Empleo de Asociación AD Los Molinos.\nContenido: Información sobre diferentes opciones de formación gratuita para mejorar la empleabilidad: formación ocupacional\, certificados de profesionalidad\, formación profesional\, etc.\nInscripciones: rellena el FORMULARIO.
URL:https://www.admolinos.org/evento/taller-on-line-orientacion-formativa-7/
CATEGORIES:Empleo,Taller empleo
END:VEVENT
BEGIN:VEVENT
DTSTART;TZID=Europe/Helsinki:20220930T100000
DTEND;TZID=Europe/Helsinki:20220930T120000
DTSTAMP:20260424T174009
CREATED:20220913T145211Z
LAST-MODIFIED:20220913T145211Z
UID:12847-1664532000-1664539200@www.admolinos.org
SUMMARY:Aula Digital
DESCRIPTION:Día: 30 de Septiembre de 2022\nHorario: de 10:00 a 12:00h\nLugar: El Escorial\nDirigido: Personas residentes en la COMUNIDAD DE MADRID\, en búsqueda activa de empleo y en situación vulnerable.\nRequisitos: Conocimientos de español nivel medio. Estar inscrita/o en el Servicio de Empleo de Asociación AD Los Molinos.\nContenido: Sesión práctica para mejorar las competencias digitales relacionadas con el almacenamiento de archivos en la nube\, el registro en webs de empleo\, la realización de trámites administrativos online\, etc.\nColabora: Ayuntamiento de El Escorial\nInscripciones: rellena el FORMULARIO.
URL:https://www.admolinos.org/evento/aula-digital-23/
CATEGORIES:Empleo,Taller empleo
END:VEVENT
END:VCALENDAR