BEGIN:VCALENDAR
VERSION:2.0
PRODID:-//AD Los Molinos, Asociación - ECPv6.15.18//NONSGML v1.0//EN
CALSCALE:GREGORIAN
METHOD:PUBLISH
X-ORIGINAL-URL:https://www.admolinos.org
X-WR-CALDESC:Eventos para AD Los Molinos, Asociación
REFRESH-INTERVAL;VALUE=DURATION:PT1H
X-Robots-Tag:noindex
X-PUBLISHED-TTL:PT1H
BEGIN:VTIMEZONE
TZID:Europe/Helsinki
BEGIN:DAYLIGHT
TZOFFSETFROM:+0200
TZOFFSETTO:+0300
TZNAME:EEST
DTSTART:20210328T010000
END:DAYLIGHT
BEGIN:STANDARD
TZOFFSETFROM:+0300
TZOFFSETTO:+0200
TZNAME:EET
DTSTART:20211031T010000
END:STANDARD
BEGIN:DAYLIGHT
TZOFFSETFROM:+0200
TZOFFSETTO:+0300
TZNAME:EEST
DTSTART:20220327T010000
END:DAYLIGHT
BEGIN:STANDARD
TZOFFSETFROM:+0300
TZOFFSETTO:+0200
TZNAME:EET
DTSTART:20221030T010000
END:STANDARD
BEGIN:DAYLIGHT
TZOFFSETFROM:+0200
TZOFFSETTO:+0300
TZNAME:EEST
DTSTART:20230326T010000
END:DAYLIGHT
BEGIN:STANDARD
TZOFFSETFROM:+0300
TZOFFSETTO:+0200
TZNAME:EET
DTSTART:20231029T010000
END:STANDARD
END:VTIMEZONE
BEGIN:VEVENT
DTSTART;TZID=Europe/Helsinki:20221003T093000
DTEND;TZID=Europe/Helsinki:20221003T143000
DTSTAMP:20260424T162810
CREATED:20220201T173843Z
LAST-MODIFIED:20220923T111124Z
UID:12004-1664789400-1664807400@www.admolinos.org
SUMMARY:Inicio Curso MANIPULACIÓN DE ALIMENTOS
DESCRIPTION:Fechas: 3 y 5 de Octubre de 2022.\nDuración: 10 h.\nLugar: Madrid\nDirigido: Personas inmigrantes con NIE no comunitario ni protección internacional\nRequisitos: Conocimientos de español nivel medio. Estar dado/a de alta en el Servicio de Empleo de Asociación AD Los Molinos.\nContenido: Certificado oficial. Formación dirigida al conocimiento y práctica de las normas higiénico-sanitarias de obligado cumplimiento relacionadas con instalaciones\, locales\, utillaje y manipulación de alimentos para evitar riesgos de infecciones alimentarias y contaminación ambiental\nInscripciones: rellena el FORMULARIO.
URL:https://www.admolinos.org/evento/inicio-curso-manipulacion-de-alimentos/
CATEGORIES:Empleo,Formación empleo
END:VEVENT
BEGIN:VEVENT
DTSTART;TZID=Europe/Helsinki:20221006T100000
DTEND;TZID=Europe/Helsinki:20221006T120000
DTSTAMP:20260424T162810
CREATED:20221005T125552Z
LAST-MODIFIED:20221005T125754Z
UID:12971-1665050400-1665057600@www.admolinos.org
SUMMARY:Taller Activa tu Búsqueda de Empleo
DESCRIPTION:Día: 6 de Octubre de 2022\nHorario: de 10:00 a 12:00h\nLugar: Madrid (zona metro Argüelles)\nDirigido: Personas residentes en la COMUNIDAD DE MADRID\, en búsqueda activa de empleo y en situación vulnerable.\nContenido: Formación teórica sobre herramientas para la búsqueda activa de empleo: currículum\, carta de presentación\, auto candidaturas\, webs de empleo\, etc..\nInscripciones: rellena el FORMULARIO.
URL:https://www.admolinos.org/evento/taller-taller-activa-tu-busqueda-de-empleo/
CATEGORIES:Empleo,Taller empleo
END:VEVENT
BEGIN:VEVENT
DTSTART;TZID=Europe/Helsinki:20221018T090000
DTEND;TZID=Europe/Helsinki:20221018T140000
DTSTAMP:20260424T162810
CREATED:20221006T102418Z
LAST-MODIFIED:20221006T102418Z
UID:12997-1666083600-1666101600@www.admolinos.org
SUMMARY:Inicio Curso USO Y MANEJO DE CARRETILLAS ELEVADORAS
DESCRIPTION:Fechas: Del 18 al 27 de Octubre de 2022.\nDuración: 40 h.\nLugar: Murcia\nDirigido: Personas inmigrantes con NIE no comunitario ni protección internacional.\nRequisitos: Conocimientos de español nivel medio. Estar dado/a de alta en el Servicio de Empleo de Asociación AD Los Molinos.\nContenido: Formación teórico-práctica sobre tipos de carretillas elevadoras\, características de su uso\, prevención de riesgos laborales\, etc.\nInscripciones: Llamar al teléfono 613 05 24 74.
URL:https://www.admolinos.org/evento/inicio-curso-uso-y-manejo-de-carretillas-elevadoras/
CATEGORIES:Empleo,Formación empleo
END:VEVENT
BEGIN:VEVENT
DTSTART;TZID=Europe/Helsinki:20221019T100000
DTEND;TZID=Europe/Helsinki:20221019T120000
DTSTAMP:20260424T162810
CREATED:20221006T072409Z
LAST-MODIFIED:20221006T072409Z
UID:12980-1666173600-1666180800@www.admolinos.org
SUMMARY:Taller entrevistas laborales I
DESCRIPTION:Día: 19 de Octubre de 2022\nHorario: de 10:00 a 12:00h\nLugar: Madrid (metro: Pan Bendito)\nDirigido: Personas residentes en la COMUNIDAD DE MADRID\, en búsqueda activa de empleo y en situación vulnerable.\nContenido: Formación teórica-práctica dirigida a adquirir los conocimientos y competencias necesarias para afrontar las entrevistas de selección con más posibilidades de éxito.\nInscripciones: rellena el FORMULARIO.
URL:https://www.admolinos.org/evento/taller-entrevistas-laborales-i-2/
CATEGORIES:Empleo,Taller empleo
END:VEVENT
BEGIN:VEVENT
DTSTART;TZID=Europe/Helsinki:20221019T100000
DTEND;TZID=Europe/Helsinki:20221019T140000
DTSTAMP:20260424T162810
CREATED:20221006T101259Z
LAST-MODIFIED:20221006T101259Z
UID:12993-1666173600-1666188000@www.admolinos.org
SUMMARY:Inicio Curso AYUDA A DOMICILIO
DESCRIPTION:Fechas: Del 19 de Octubre al 20 de Diciembre de 2022.\nDuración: 140 h.\nLugar: Madrid (zona metro Pan Bendito)\nDirigido: Personas residentes en la COMUNIDAD DE MADRID\, en búsqueda activa de empleo y en situación vulnerable.\nRequisitos: Conocimientos de español nivel medio. Estar dado/a de alta en el Servicio de Empleo de Asociación AD Los Molinos.\nContenido: Formación teórica-práctica básica sobre cuidados\, movilizaciones\, alimentación\, etc. de personas dependientes en sus domicilios.\nInscripciones: rellena el FORMULARIO.
URL:https://www.admolinos.org/evento/inicio-curso-ayuda-a-domicilio-2/
CATEGORIES:Empleo,Formación empleo
END:VEVENT
BEGIN:VEVENT
DTSTART;TZID=Europe/Helsinki:20221024T100000
DTEND;TZID=Europe/Helsinki:20221024T120000
DTSTAMP:20260424T162810
CREATED:20221006T094648Z
LAST-MODIFIED:20221006T094648Z
UID:12984-1666605600-1666612800@www.admolinos.org
SUMMARY:Taller entrevistas laborales II
DESCRIPTION:Día: 24 de Octubre de 2022\nHorario: de 10:00 a 12:00h\nLugar: Madrid (metro: Pan Bendito)\nDirigido: Personas residentes en la COMUNIDAD DE MADRID\, en búsqueda activa de empleo y en situación vulnerable.\nContenido: Role playing de entrevistas de selección: ¡practica con una de nuestras expertas en el tema como si fuera una entrevista de trabajo real! Te ayudará a reforzar lo que ya haces bien y a superar aquellos aspectos que tengas que mejorar.\nInscripciones: rellena el FORMULARIO.
URL:https://www.admolinos.org/evento/taller-entrevistas-laborales-ii-2/
CATEGORIES:Empleo,Taller empleo
END:VEVENT
BEGIN:VEVENT
DTSTART;TZID=Europe/Helsinki:20221028T100000
DTEND;TZID=Europe/Helsinki:20221028T120000
DTSTAMP:20260424T162810
CREATED:20221006T095759Z
LAST-MODIFIED:20221006T095759Z
UID:12988-1666951200-1666958400@www.admolinos.org
SUMMARY:Aula Digital
DESCRIPTION:Día: 28 de Octubre de 2022\nHorario: de 10:00 a 12:00h\nLugar: El Escorial\nDirigido: Personas residentes en la COMUNIDAD DE MADRID\, en búsqueda activa de empleo y en situación vulnerable.\nRequisitos: Conocimientos de español nivel medio. Estar inscrita/o en el Servicio de Empleo de Asociación AD Los Molinos.\nContenido: Sesión práctica para mejorar las competencias digitales relacionadas con el almacenamiento de archivos en la nube\, el registro en webs de empleo\, la realización de trámites administrativos online\, etc.\nColabora: Ayuntamiento de El Escorial\nInscripciones: rellena el FORMULARIO.
URL:https://www.admolinos.org/evento/aula-digital-24/
CATEGORIES:Empleo,Taller empleo
END:VEVENT
END:VCALENDAR