BEGIN:VCALENDAR
VERSION:2.0
PRODID:-//AD Los Molinos, Asociación - ECPv6.15.18//NONSGML v1.0//EN
CALSCALE:GREGORIAN
METHOD:PUBLISH
X-WR-CALNAME:AD Los Molinos, Asociación
X-ORIGINAL-URL:https://www.admolinos.org
X-WR-CALDESC:Eventos para AD Los Molinos, Asociación
REFRESH-INTERVAL;VALUE=DURATION:PT1H
X-Robots-Tag:noindex
X-PUBLISHED-TTL:PT1H
BEGIN:VTIMEZONE
TZID:Europe/Helsinki
BEGIN:DAYLIGHT
TZOFFSETFROM:+0200
TZOFFSETTO:+0300
TZNAME:EEST
DTSTART:20210328T010000
END:DAYLIGHT
BEGIN:STANDARD
TZOFFSETFROM:+0300
TZOFFSETTO:+0200
TZNAME:EET
DTSTART:20211031T010000
END:STANDARD
BEGIN:DAYLIGHT
TZOFFSETFROM:+0200
TZOFFSETTO:+0300
TZNAME:EEST
DTSTART:20220327T010000
END:DAYLIGHT
BEGIN:STANDARD
TZOFFSETFROM:+0300
TZOFFSETTO:+0200
TZNAME:EET
DTSTART:20221030T010000
END:STANDARD
BEGIN:DAYLIGHT
TZOFFSETFROM:+0200
TZOFFSETTO:+0300
TZNAME:EEST
DTSTART:20230326T010000
END:DAYLIGHT
BEGIN:STANDARD
TZOFFSETFROM:+0300
TZOFFSETTO:+0200
TZNAME:EET
DTSTART:20231029T010000
END:STANDARD
END:VTIMEZONE
BEGIN:VEVENT
DTSTART;TZID=Europe/Helsinki:20221103T100000
DTEND;TZID=Europe/Helsinki:20221103T140000
DTSTAMP:20260424T151354
CREATED:20220201T174119Z
LAST-MODIFIED:20220914T074300Z
UID:12007-1667469600-1667484000@www.admolinos.org
SUMMARY:Inicio Curso USO DE PLATAFORMAS ELEVADORAS
DESCRIPTION:Fechas: 3 y 4 de Noviembre de 2022.\nDuración: 8 h.\nLugar: Fuenlabrada (Madrid)\nDirigido: Personas inmigrantes con NIE no comunitario ni protección internacional\nRequisitos: Conocimientos de español nivel medio. Estar dado/a de alta en el Servicio de Empleo de Asociación AD Los Molinos.\nContenido: Identificación de las partes de la máquina y los equipos utilizados. Carga de combustible y mantenimiento. Riesgos y seguridad laboral. Parte práctica: maniobras con y sin carga\, con accesorios\, con cargas de gran tamaño\, etc.\nInscripciones: rellena el FORMULARIO.
URL:https://www.admolinos.org/evento/inicio-curso-uso-de-plataformas-elevadoras/
CATEGORIES:Empleo,Formación empleo
END:VEVENT
BEGIN:VEVENT
DTSTART;TZID=Europe/Helsinki:20221104T100000
DTEND;TZID=Europe/Helsinki:20221104T140000
DTSTAMP:20260424T151354
CREATED:20220912T131320Z
LAST-MODIFIED:20220927T122202Z
UID:12796-1667556000-1667570400@www.admolinos.org
SUMMARY:VIII Jornadas Estrategias de Empleo 2022
DESCRIPTION:«Impacto de los cambios normativos\, económicos y sociosanitarios en la inserción sociolaboral» \n\nDía: 4/11/2022\nHorario: de 10 a 14h.\nLugar: Caixa Forum Madrid\nModalidad mixta: Presencial hasta completar aforo y Virtual (retransmisión en streaming)\nDirigido a asociaciones y entidades sociales\, técnicos/as de empleo/autoempleo\, personas inmigrantes y a cualquier persona interesada.\nMás información: 91 591 23 36\n\nInscripción gratuita\, a través del enlace «Inscripción VIII Jornadas Estrategias Empleo«.
URL:https://www.admolinos.org/evento/viii-jornadas-estrategias-de-empleo-2022/
CATEGORIES:Autoempleo,Empleo,Jornadas
END:VEVENT
BEGIN:VEVENT
DTSTART;TZID=Europe/Helsinki:20221114T100000
DTEND;TZID=Europe/Helsinki:20221114T140000
DTSTAMP:20260424T151354
CREATED:20221107T162923Z
LAST-MODIFIED:20221107T162923Z
UID:13104-1668420000-1668434400@www.admolinos.org
SUMMARY:Aula digital
DESCRIPTION:Día: Del 14 de noviembre al 18 de Noviembre de 2022.\nDuración: 20 h.\nHorario: de 10:00 a 14:00h\nLugar: Collado Villalba (Madrid)\nDirigido: Personas residentes en la COMUNIDAD DE MADRID\, en búsqueda activa de empleo y en situación vulnerable.\nContenido: Sesión práctica para mejorar las competencias digitales relacionadas con el almacenamiento de archivos en la nube\, el registro en webs de empleo\, la realización de trámites administrativos online\, etc.\nColabora: Ayuntamiento de Collado Villalba y Fundación «la Caixa»\nInscripciones: rellena el FORMULARIO.
URL:https://www.admolinos.org/evento/aula-digital-25/
CATEGORIES:Empleo,Taller empleo
END:VEVENT
BEGIN:VEVENT
DTSTART;TZID=Europe/Helsinki:20221115T100000
DTEND;TZID=Europe/Helsinki:20221115T120000
DTSTAMP:20260424T151354
CREATED:20221107T142411Z
LAST-MODIFIED:20221107T142411Z
UID:13074-1668506400-1668513600@www.admolinos.org
SUMMARY:Taller entrevistas laborales
DESCRIPTION:Día: 15 de Noviembre de 2022\nHorario: de 10:00 a 12:00h\nLugar: Colmenarejo (Madrid)\nDirigido: Personas residentes en la COMUNIDAD DE MADRID\, en búsqueda activa de empleo y en situación vulnerable.\nContenido: Formación teórica-práctica dirigida a adquirir los conocimientos y competencias necesarias para afrontar las entrevistas de selección con más posibilidades de éxito.\nInscripciones: rellena el FORMULARIO.
URL:https://www.admolinos.org/evento/taller-entrevistas-laborales/
CATEGORIES:Empleo,Taller empleo
END:VEVENT
BEGIN:VEVENT
DTSTART;TZID=Europe/Helsinki:20221116T100000
DTEND;TZID=Europe/Helsinki:20221116T120000
DTSTAMP:20260424T151354
CREATED:20221107T143639Z
LAST-MODIFIED:20221107T143639Z
UID:13088-1668592800-1668600000@www.admolinos.org
SUMMARY:Taller Búsqueda Activa de Empleo a través de Aplicaciones Móviles
DESCRIPTION:Día: 16 de Noviembre de 2022\nHorario: de 10:00 a 12:00h\nLugar: Madrid (metro: Pan Bendito)\nDirigido: Personas residentes en la COMUNIDAD DE MADRID\, en búsqueda activa de empleo y en situación vulnerable.\nContenido: Cómo mejorar tu perfil en redes sociales y la utilización de estas redes y aplicaciones móviles para la búsqueda de empleo.\nInscripciones: rellena el FORMULARIO.
URL:https://www.admolinos.org/evento/taller-busqueda-activa-de-empleo-a-traves-de-aplicaciones-moviles-2/
CATEGORIES:Empleo,Taller empleo
END:VEVENT
BEGIN:VEVENT
DTSTART;TZID=Europe/Helsinki:20221117T100000
DTEND;TZID=Europe/Helsinki:20221117T120000
DTSTAMP:20260424T151354
CREATED:20221107T142922Z
LAST-MODIFIED:20221107T142922Z
UID:13079-1668679200-1668686400@www.admolinos.org
SUMMARY:Taller entrevistas laborales
DESCRIPTION:Día: 17 de Noviembre de 2022\nHorario: de 10:00 a 12:00h\nLugar: El Escorial (Madrid)\nDirigido: Personas residentes en la COMUNIDAD DE MADRID\, en búsqueda activa de empleo y en situación vulnerable.\nContenido: Formación teórica-práctica dirigida a adquirir los conocimientos y competencias necesarias para afrontar las entrevistas de selección con más posibilidades de éxito.\nInscripciones: rellena el FORMULARIO.
URL:https://www.admolinos.org/evento/taller-entrevistas-laborales-3/
CATEGORIES:Empleo,Taller empleo
END:VEVENT
BEGIN:VEVENT
DTSTART;TZID=Europe/Helsinki:20221122T100000
DTEND;TZID=Europe/Helsinki:20221122T120000
DTSTAMP:20260424T151354
CREATED:20221107T144004Z
LAST-MODIFIED:20221107T144004Z
UID:13092-1669111200-1669118400@www.admolinos.org
SUMMARY:Taller Búsqueda Activa de Empleo a través de Aplicaciones Móviles
DESCRIPTION:Día: 22 de Noviembre de 2022\nHorario: de 10:00 a 12:00h\nLugar: Colmenarejo (Madrid)\nDirigido: Personas residentes en la COMUNIDAD DE MADRID\, en búsqueda activa de empleo y en situación vulnerable.\nContenido: Cómo mejorar tu perfil en redes sociales y la utilización de estas redes y aplicaciones móviles para la búsqueda de empleo.\nInscripciones: rellena el FORMULARIO.
URL:https://www.admolinos.org/evento/taller-busqueda-activa-de-empleo-a-traves-de-aplicaciones-moviles-3/
CATEGORIES:Empleo,Taller empleo
END:VEVENT
BEGIN:VEVENT
DTSTART;TZID=Europe/Helsinki:20221123T100000
DTEND;TZID=Europe/Helsinki:20221123T120000
DTSTAMP:20260424T151354
CREATED:20221107T143141Z
LAST-MODIFIED:20221107T143141Z
UID:13084-1669197600-1669204800@www.admolinos.org
SUMMARY:Taller entrevistas laborales
DESCRIPTION:Día: 23 de Noviembre de 2022\nHorario: de 10:00 a 12:00h\nLugar: Valdemorillo (Madrid)\nDirigido: Personas residentes en la COMUNIDAD DE MADRID\, en búsqueda activa de empleo y en situación vulnerable.\nContenido: Formación teórica-práctica dirigida a adquirir los conocimientos y competencias necesarias para afrontar las entrevistas de selección con más posibilidades de éxito.\nInscripciones: rellena el FORMULARIO.
URL:https://www.admolinos.org/evento/taller-entrevistas-laborales-4/
CATEGORIES:Empleo,Taller empleo
END:VEVENT
BEGIN:VEVENT
DTSTART;TZID=Europe/Helsinki:20221124T100000
DTEND;TZID=Europe/Helsinki:20221124T120000
DTSTAMP:20260424T151354
CREATED:20221107T145722Z
LAST-MODIFIED:20221107T145722Z
UID:13100-1669284000-1669291200@www.admolinos.org
SUMMARY:Taller Competencias profesionales en Ayuda a domicilio
DESCRIPTION:Día: 24 de Noviembre de 2022\nHorario: de 10:00 a 12:00h\nLugar: Madrid (zona Pan Bendito)\nDirigido: Personas residentes en la COMUNIDAD DE MADRID\, en búsqueda activa de empleo y en situación vulnerable.\nContenido: Formación teórica-práctica sobre las competencias profesionales más demandadas en la ocupación de Auxiliar de Ayuda a Domicilio así como información sobre empresas donde contratan con ese perfil y webs de empleo relacionadas.\nColabora: REDES Cooperativa\nInscripciones: rellena el FORMULARIO.
URL:https://www.admolinos.org/evento/taller-competencias-profesionales-en-ayuda-a-domicilio/
CATEGORIES:Empleo,Taller empleo
END:VEVENT
BEGIN:VEVENT
DTSTART;TZID=Europe/Helsinki:20221125T120000
DTEND;TZID=Europe/Helsinki:20221125T140000
DTSTAMP:20260424T151354
CREATED:20221107T163457Z
LAST-MODIFIED:20221107T163457Z
UID:13108-1669377600-1669384800@www.admolinos.org
SUMMARY:Aula digital
DESCRIPTION:Día: 25 de Noviembre de 2022\nHorario: de 12:00 a 14:00h\nLugar: El Escorial (Madrid)\nDirigido: Personas residentes en la COMUNIDAD DE MADRID\, en búsqueda activa de empleo y en situación vulnerable.\nContenido: Sesión práctica para mejorar las competencias digitales relacionadas con el almacenamiento de archivos en la nube\, el registro en webs de empleo\, la realización de trámites administrativos online\, etc.\nInscripciones: rellena el FORMULARIO.
URL:https://www.admolinos.org/evento/aula-digital-26/
CATEGORIES:Empleo,Taller empleo
END:VEVENT
BEGIN:VEVENT
DTSTART;TZID=Europe/Helsinki:20221129T093000
DTEND;TZID=Europe/Helsinki:20221129T133000
DTSTAMP:20260424T151354
CREATED:20221107T163817Z
LAST-MODIFIED:20221212T150857Z
UID:13112-1669714200-1669728600@www.admolinos.org
SUMMARY:Principales trámites administrativos online
DESCRIPTION:Día: 29 de Noviembre de 2022\nHorario: de 09:30 a 13:30h\nLugar: Galapagar (Madrid)\nDirigido: Personas residentes en la COMUNIDAD DE MADRID\, en búsqueda activa de empleo y en situación vulnerable.\nContenido: Sesión práctica en la que se abordará cómo realizar\, a través de internet\, gestiones relacionadas con la demanda de empleo\, vida laboral\, solicitud de becas\, etc.\nInscripciones: 619 40 61 93.
URL:https://www.admolinos.org/evento/principales-tramites-administrativos-online/
CATEGORIES:Empleo,Taller empleo
END:VEVENT
BEGIN:VEVENT
DTSTART;TZID=Europe/Helsinki:20221130T100000
DTEND;TZID=Europe/Helsinki:20221130T120000
DTSTAMP:20260424T151354
CREATED:20221107T144600Z
LAST-MODIFIED:20221107T144600Z
UID:13096-1669802400-1669809600@www.admolinos.org
SUMMARY:Taller Búsqueda Activa de Empleo a través de Aplicaciones Móviles
DESCRIPTION:Día: 30 de Noviembre de 2022\nHorario: de 10:00 a 12:00h\nLugar: Valdemorillo (Madrid)\nDirigido: Personas residentes en la COMUNIDAD DE MADRID\, en búsqueda activa de empleo y en situación vulnerable.\nContenido: Cómo mejorar tu perfil en redes sociales y la utilización de estas redes y aplicaciones móviles para la búsqueda de empleo.\nInscripciones: rellena el FORMULARIO.
URL:https://www.admolinos.org/evento/taller-busqueda-activa-de-empleo-a-traves-de-aplicaciones-moviles-4/
CATEGORIES:Empleo,Taller empleo
END:VEVENT
END:VCALENDAR