BEGIN:VCALENDAR
VERSION:2.0
PRODID:-//AD Los Molinos, Asociación - ECPv6.15.18//NONSGML v1.0//EN
CALSCALE:GREGORIAN
METHOD:PUBLISH
X-ORIGINAL-URL:https://www.admolinos.org
X-WR-CALDESC:Eventos para AD Los Molinos, Asociación
REFRESH-INTERVAL;VALUE=DURATION:PT1H
X-Robots-Tag:noindex
X-PUBLISHED-TTL:PT1H
BEGIN:VTIMEZONE
TZID:Europe/Helsinki
BEGIN:DAYLIGHT
TZOFFSETFROM:+0200
TZOFFSETTO:+0300
TZNAME:EEST
DTSTART:20220327T010000
END:DAYLIGHT
BEGIN:STANDARD
TZOFFSETFROM:+0300
TZOFFSETTO:+0200
TZNAME:EET
DTSTART:20221030T010000
END:STANDARD
BEGIN:DAYLIGHT
TZOFFSETFROM:+0200
TZOFFSETTO:+0300
TZNAME:EEST
DTSTART:20230326T010000
END:DAYLIGHT
BEGIN:STANDARD
TZOFFSETFROM:+0300
TZOFFSETTO:+0200
TZNAME:EET
DTSTART:20231029T010000
END:STANDARD
BEGIN:DAYLIGHT
TZOFFSETFROM:+0200
TZOFFSETTO:+0300
TZNAME:EEST
DTSTART:20240331T010000
END:DAYLIGHT
BEGIN:STANDARD
TZOFFSETFROM:+0300
TZOFFSETTO:+0200
TZNAME:EET
DTSTART:20241027T010000
END:STANDARD
END:VTIMEZONE
BEGIN:VEVENT
DTSTART;TZID=Europe/Helsinki:20230213T100000
DTEND;TZID=Europe/Helsinki:20230213T140000
DTSTAMP:20260424T112709
CREATED:20230207T143640Z
LAST-MODIFIED:20230207T143640Z
UID:13445-1676282400-1676296800@www.admolinos.org
SUMMARY:Inicio Curso básico  PRIMEROS AUXILIOS
DESCRIPTION:Fechas: 13 y 15 de febrero de 2023.\nHorario: 10:00 a 14:00h.\nDuración: 8 h.\nLugar: Madrid (zona metro Pan Bendito)\nDirigido: Personas en situación vulnerable\, con situación administrativa regularizada\, residentes en la Comunidad de Madrid.\nRequisitos: Conocimientos de español nivel medio. Estar dado/a de alta en el Servicio de Empleo de Asociación AD Los Molinos.\nContenido: Curso teórico-práctico en el que se abordan de una manera sencilla los contenidos más esenciales sobre Primeros Auxilios\, facilitando a las/os participantes las habilidades necesarias para poder hacer frente de una manera efectiva y segura\, a las diversas situaciones de urgencia/emergencia que se pueden encontrar en su contexto cotidiano.\nInscripciones: rellena el FORMULARIO.
URL:https://www.admolinos.org/evento/inicio-curso-basico-primeros-auxilios/
CATEGORIES:Empleo,Formación empleo
END:VEVENT
BEGIN:VEVENT
DTSTART;TZID=Europe/Helsinki:20230214T100000
DTEND;TZID=Europe/Helsinki:20230214T120000
DTSTAMP:20260424T112709
CREATED:20230207T134441Z
LAST-MODIFIED:20230207T135718Z
UID:13418-1676368800-1676376000@www.admolinos.org
SUMMARY:Taller Online ENCUENTRA EMPLEO CON TU MÓVIL
DESCRIPTION:Día: 14 de febrero de 2023\nHorario: de 10:00 a 12:00h\nModalidad: ON LINE\nDirigido: Personas residentes en la COMUNIDAD DE MADRID\, en búsqueda activa de empleo y en situación vulnerable.\nRequisitos: Teléfono/ordenador con conexión a internet. Conocimientos de español nivel medio. Estar inscrita/o en el Servicio de Empleo de Asociación AD Los Molinos.\nContenido: Formación muy práctica sobre las principales aplicaciones móviles para la búsqueda de empleo y cómo mejorar tu perfil en redes sociales y la utilización de estas redes para la localización y gestión de ofertas de empleo.\nInscripciones: rellena el FORMULARIO.
URL:https://www.admolinos.org/evento/taller-on-line-encuentra-empleo-con-tu-movil/
CATEGORIES:Empleo,Taller empleo
END:VEVENT
BEGIN:VEVENT
DTSTART;TZID=Europe/Helsinki:20230214T100000
DTEND;TZID=Europe/Helsinki:20230214T120000
DTSTAMP:20260424T112709
CREATED:20230207T135443Z
LAST-MODIFIED:20230207T135443Z
UID:13422-1676368800-1676376000@www.admolinos.org
SUMMARY:Aula digital
DESCRIPTION:Día: 14 de febrero de 2023.\nDuración: 2 h.\nHorario: de 10:00 a 12:00h\nLugar: Collado Villalba (Madrid)\nDirigido: Personas residentes en la COMUNIDAD DE MADRID\, en búsqueda activa de empleo y en situación vulnerable.\nContenido: Sesión práctica para mejorar las competencias digitales relacionadas con el almacenamiento de archivos en la nube\, el registro en webs de empleo\, la realización de trámites administrativos online\, etc.\nRequisitos: Conocimientos de español nivel medio. Estar inscrita/o en el Servicio de Empleo de Asociación AD Los Molinos.\nColabora: Ayuntamiento de Collado Villalba y Fundación «la Caixa»\nInscripciones: rellena el FORMULARIO.
URL:https://www.admolinos.org/evento/aula-digital-28/
CATEGORIES:Empleo,Taller empleo
END:VEVENT
BEGIN:VEVENT
DTSTART;TZID=Europe/Helsinki:20230216T100000
DTEND;TZID=Europe/Helsinki:20230216T120000
DTSTAMP:20260424T112709
CREATED:20230207T135949Z
LAST-MODIFIED:20230207T135949Z
UID:13426-1676541600-1676548800@www.admolinos.org
SUMMARY:Taller Online ORIENTA TU FORMACIÓN
DESCRIPTION:Día: 16 de febrero de 2023\nHorario: de 10:00 a 12:00h\nModalidad: ON LINE\nDirigido: Personas residentes en la COMUNIDAD DE MADRID\, en búsqueda activa de empleo y en situación vulnerable.\nRequisitos: Teléfono/ordenador con conexión a internet. Conocimientos de español nivel medio. Estar inscrita/o en el Servicio de Empleo de Asociación AD Los Molinos.\nContenido: Información sobre diferentes opciones de formación gratuita para aumentar las oportunidades de conseguir empleo: formación ocupacional\, certificados de profesionalidad\, formación profesional\, etc.\nInscripciones: rellena el FORMULARIO.
URL:https://www.admolinos.org/evento/taller-online-orienta-tu-formacion/
CATEGORIES:Empleo,Taller empleo
END:VEVENT
BEGIN:VEVENT
DTSTART;TZID=Europe/Helsinki:20230221T093000
DTEND;TZID=Europe/Helsinki:20230221T143000
DTSTAMP:20260424T112709
CREATED:20230207T144043Z
LAST-MODIFIED:20230207T144043Z
UID:13449-1676971800-1676989800@www.admolinos.org
SUMMARY:Inicio Curso MANIPULACIÓN DE ALIMENTOS
DESCRIPTION:Fechas: 21 y 22 de febrero de 2023.\nHorario: 09:30 a 14:30h.\nDuración: 10 h.\nLugar: Madrid (zona metro Pan Bendito)\nDirigido: Personas en situación vulnerable\, con situación administrativa regularizada\, residentes en la Comunidad de Madrid.\nRequisitos: Conocimientos de español nivel medio. Estar dado/a de alta en el Servicio de Empleo de Asociación AD Los Molinos.\nContenido: Certificado oficial. Formación dirigida al conocimiento y práctica de las normas higiénico-sanitarias de obligado cumplimiento relacionadas con instalaciones\, locales\, utillaje y manipulación de alimentos para evitar riesgos de infecciones alimentarias y contaminación ambiental.\nInscripciones: rellena el FORMULARIO.
URL:https://www.admolinos.org/evento/inicio-curso-manipulacion-de-alimentos-2/
CATEGORIES:Empleo,Formación empleo
END:VEVENT
BEGIN:VEVENT
DTSTART;TZID=Europe/Helsinki:20230223T100000
DTEND;TZID=Europe/Helsinki:20230223T120000
DTSTAMP:20260424T112709
CREATED:20230207T141218Z
LAST-MODIFIED:20230207T141218Z
UID:13433-1677146400-1677153600@www.admolinos.org
SUMMARY:Taller ACTIVA TU BÚSQUEDA DE EMPLEO
DESCRIPTION:Día: 23 de febrero de 2023\nHorario: de 10:00 a 12:00h\nLugar: Madrid (zona metro Argüelles)\nDirigido: Personas residentes en la COMUNIDAD DE MADRID\, en búsqueda activa de empleo y en situación vulnerable.\nContenido: Formación teórica sobre herramientas para la búsqueda activa de empleo: currículum\, carta de presentación\, auto candidaturas\, webs de empleo\, etc.\nRequisitos: Conocimientos de español nivel medio. Estar inscrita/o en el Servicio de Empleo de Asociación AD Los Molinos.\nInscripciones: rellena el FORMULARIO.
URL:https://www.admolinos.org/evento/taller-activa-tu-busqueda-de-empleo/
CATEGORIES:Empleo,Taller empleo
END:VEVENT
BEGIN:VEVENT
DTSTART;TZID=Europe/Helsinki:20230224T120000
DTEND;TZID=Europe/Helsinki:20230224T140000
DTSTAMP:20260424T112709
CREATED:20230207T142053Z
LAST-MODIFIED:20230207T142053Z
UID:13437-1677240000-1677247200@www.admolinos.org
SUMMARY:Aula digital
DESCRIPTION:Día: 24 de febrero de 2023\nHorario: de 12:00 a 14:00h\nLugar: El Escorial (Madrid)\nDirigido: Personas residentes en la COMUNIDAD DE MADRID\, en búsqueda activa de empleo y en situación vulnerable.\nContenido: Sesión práctica para mejorar las competencias digitales relacionadas con el almacenamiento de archivos en la nube\, el registro en webs de empleo\, la realización de trámites administrativos online\, etc.\nRequisitos: Conocimientos de español nivel medio. Estar inscrita/o en el Servicio de Empleo de Asociación AD Los Molinos.\nColabora: Ayuntamiento de El Escorial y Fundación «la Caixa»\nInscripciones: rellena el FORMULARIO
URL:https://www.admolinos.org/evento/aula-digital-29/
CATEGORIES:Empleo,Taller empleo
END:VEVENT
BEGIN:VEVENT
DTSTART;TZID=Europe/Helsinki:20230227T110000
DTEND;TZID=Europe/Helsinki:20230227T130000
DTSTAMP:20260424T112709
CREATED:20230207T142810Z
LAST-MODIFIED:20230207T142810Z
UID:13441-1677495600-1677502800@www.admolinos.org
SUMMARY:Taller ECHANDO CUENTAS…
DESCRIPTION:Día: 27 de febrero de 2023\nHorario: de 11:00 a 13:00h\nLugar: Madrid (zona metro Pan Bendito)\nDirigido: Personas residentes en la COMUNIDAD DE MADRID\, en búsqueda activa de empleo y en situación vulnerable.\nContenido: Sesión muy práctica donde una experta nos aconsejará sobre cómo gestionar mejor nuestro dinero para facilitar «llegar a fin de mes»\, poder ahorrar y las características de los diferentes tipos de tarjetas bancarias así como los tipos de préstamos y sus riesgos.\nRequisitos: Conocimientos de español nivel medio. Estar inscrita/o en el Servicio de Empleo de Asociación AD Los Molinos.\nInscripciones: rellena el FORMULARIO.
URL:https://www.admolinos.org/evento/taller-echando-cuentas/
CATEGORIES:Empleo,Taller empleo
END:VEVENT
END:VCALENDAR