BEGIN:VCALENDAR
VERSION:2.0
PRODID:-//AD Los Molinos, Asociación - ECPv6.15.18//NONSGML v1.0//EN
CALSCALE:GREGORIAN
METHOD:PUBLISH
X-ORIGINAL-URL:https://www.admolinos.org
X-WR-CALDESC:Eventos para AD Los Molinos, Asociación
REFRESH-INTERVAL;VALUE=DURATION:PT1H
X-Robots-Tag:noindex
X-PUBLISHED-TTL:PT1H
BEGIN:VTIMEZONE
TZID:Europe/Helsinki
BEGIN:DAYLIGHT
TZOFFSETFROM:+0200
TZOFFSETTO:+0300
TZNAME:EEST
DTSTART:20220327T010000
END:DAYLIGHT
BEGIN:STANDARD
TZOFFSETFROM:+0300
TZOFFSETTO:+0200
TZNAME:EET
DTSTART:20221030T010000
END:STANDARD
BEGIN:DAYLIGHT
TZOFFSETFROM:+0200
TZOFFSETTO:+0300
TZNAME:EEST
DTSTART:20230326T010000
END:DAYLIGHT
BEGIN:STANDARD
TZOFFSETFROM:+0300
TZOFFSETTO:+0200
TZNAME:EET
DTSTART:20231029T010000
END:STANDARD
BEGIN:DAYLIGHT
TZOFFSETFROM:+0200
TZOFFSETTO:+0300
TZNAME:EEST
DTSTART:20240331T010000
END:DAYLIGHT
BEGIN:STANDARD
TZOFFSETFROM:+0300
TZOFFSETTO:+0200
TZNAME:EET
DTSTART:20241027T010000
END:STANDARD
END:VTIMEZONE
BEGIN:VEVENT
DTSTART;TZID=Europe/Helsinki:20230412T100000
DTEND;TZID=Europe/Helsinki:20230412T120000
DTSTAMP:20260424T085021
CREATED:20230403T085739Z
LAST-MODIFIED:20230403T085739Z
UID:13721-1681293600-1681300800@www.admolinos.org
SUMMARY:Taller: Aula digital MADRID
DESCRIPTION:Día: Todos los miércoles de abril de 2023\nHorario: de 10:00 a 12:00h\nLugar: Madrid (zona metro Quevedo)\nDirigido: Personas residentes en la COMUNIDAD DE MADRID\, en búsqueda activa de empleo y en situación vulnerable.\nContenido: Sesión práctica para mejorar las competencias digitales relacionadas con el almacenamiento de archivos en la nube\, el registro en webs de empleo\, la realización de trámites administrativos online\, etc.\nRequisitos: Conocimientos de español nivel medio. Estar inscrita/o en el Servicio de Empleo de Asociación AD Los Molinos.\nInscripciones: rellena el FORMULARIO.
URL:https://www.admolinos.org/evento/taller-aula-digital-madrid-2/
CATEGORIES:Empleo,Taller empleo
END:VEVENT
BEGIN:VEVENT
DTSTART;TZID=Europe/Helsinki:20230414T100000
DTEND;TZID=Europe/Helsinki:20230414T120000
DTSTAMP:20260424T085021
CREATED:20230403T100959Z
LAST-MODIFIED:20230403T101445Z
UID:13749-1681466400-1681473600@www.admolinos.org
SUMMARY:Taller ON LINE: ORIENTACIÓN FORMATIVA
DESCRIPTION:Día: 14 de abril de 2023\nHorario: de 10:00 a 12:00h\nLugar: ON LINE\nDirigido: Personas residentes en la COMUNIDAD DE MADRID\, en búsqueda activa de empleo y en situación vulnerable.\nContenido: Información sobre el Servicio de Orientación Profesional de El Escorial y sobre diferentes opciones de formación gratuita para aumentar las oportunidades de conseguir empleo: formación ocupacional\, certificados de profesionalidad\, formación profesional\, etc.\nRequisitos: Teléfono/ordenador con conexión a internet. Conocimientos de español nivel medio.\nColabora: Ayuntamiento de El Escorial\nInscripciones: rellena el FORMULARIO
URL:https://www.admolinos.org/evento/taller-on-line-orientacion-formativa-8/
CATEGORIES:Empleo,Taller empleo
END:VEVENT
BEGIN:VEVENT
DTSTART;TZID=Europe/Helsinki:20230418T093000
DTEND;TZID=Europe/Helsinki:20230418T143000
DTSTAMP:20260424T085021
CREATED:20230207T150203Z
LAST-MODIFIED:20230207T150203Z
UID:13457-1681810200-1681828200@www.admolinos.org
SUMMARY:Inicio Curso AUX. DE MANTENIMIENTO DE JARDINES\, PARQUES Y ZONAS VERDES + MANIPULACIÓN DE PRODUCTOS FITOSANITARIOS  (carnet oficial)
DESCRIPTION:Fechas: Del 18 de abril al 6 de junio de 2023.\nHorario: 09:30 a 14:30h.\nDuración: 155 horas (incluye prácticas en empresas)\nLugar: Collado Villalba.\nDirigido: Personas inmigrantes con situación administrativa regularizada.\nRequisitos: Conocimientos de español nivel medio. Estar dado/a de alta en el Servicio de Empleo de Asociación AD Los Molinos.\nContenido: Curso teórico-práctico para adquirir las competencias necesarias para realizar el mantenimiento de elementos vegetales (riego\, abonado\, siega\, poda)\, la aplicación de productos fitosanitarios para el control de plagas y enfermedades en las plantas\, así como conocer la Normativa básica vigente en materia de mantenimiento de jardines\, parques y zonas verdes.\nInscripciones: rellena el FORMULARIO.
URL:https://www.admolinos.org/evento/inicio-curso-aux-de-mantenimiento-de-jardines-parques-y-zonas-verdes-manipulacion-de-productos-fitosanitarios-carnet-oficial/
CATEGORIES:Empleo,Formación empleo
END:VEVENT
BEGIN:VEVENT
DTSTART;TZID=Europe/Helsinki:20230419T100000
DTEND;TZID=Europe/Helsinki:20230419T120000
DTSTAMP:20260424T085021
CREATED:20230403T090656Z
LAST-MODIFIED:20230403T090656Z
UID:13725-1681898400-1681905600@www.admolinos.org
SUMMARY:Taller: ENTREVISTAS DE TRABAJO (parte I)
DESCRIPTION:Día: 19 de abril de 2023\nHorario: de 10:00 a 12:00h\nLugar: Madrid (zona metro Pan Bendito)\nDirigido: Personas residentes en la COMUNIDAD DE MADRID\, en búsqueda activa de empleo y en situación vulnerable.\nContenido: Formación teórica-práctica dirigida a adquirir los conocimientos y competencias necesarias para afrontar las entrevistas de selección con más posibilidades de éxito.\nRequisitos: Conocimientos de español nivel medio. Estar inscrita/o en el Servicio de Empleo de Asociación AD Los Molinos.\nInscripciones: rellena el FORMULARIO.
URL:https://www.admolinos.org/evento/taller-entrevistas-de-trabajo-parte-i/
CATEGORIES:Empleo,Taller empleo
END:VEVENT
BEGIN:VEVENT
DTSTART;TZID=Europe/Helsinki:20230419T100000
DTEND;TZID=Europe/Helsinki:20230419T120000
DTSTAMP:20260424T085021
CREATED:20230403T091448Z
LAST-MODIFIED:20230403T091448Z
UID:13733-1681898400-1681905600@www.admolinos.org
SUMMARY:Taller: ENCUENTRA EMPLEO CON TU MÓVIL
DESCRIPTION:Día: 19 de abril de 2023\nHorario: de 10:00 a 12:00h\nLugar: Madrid (zona metro Argüelles)\nDirigido: Personas residentes en la COMUNIDAD DE MADRID\, en búsqueda activa de empleo y en situación vulnerable.\nContenido: Formación muy práctica sobre las principales aplicaciones móviles para la búsqueda de empleo y cómo mejorar tu perfil en redes sociales y la utilización de estas redes para la localización y gestión de ofertas de empleo.\nRequisitos: Teléfono/ordenador con conexión a internet. Conocimientos de español nivel medio. Estar inscrita/o en el Servicio de Empleo de Asociación AD Los Molinos.\nInscripciones: rellena el FORMULARIO.
URL:https://www.admolinos.org/evento/taller-encuentra-empleo-con-tu-movil/
CATEGORIES:Empleo,Taller empleo
END:VEVENT
BEGIN:VEVENT
DTSTART;TZID=Europe/Helsinki:20230426T100000
DTEND;TZID=Europe/Helsinki:20230426T120000
DTSTAMP:20260424T085021
CREATED:20230403T091024Z
LAST-MODIFIED:20230403T091024Z
UID:13729-1682503200-1682510400@www.admolinos.org
SUMMARY:Taller: ENTREVISTAS DE TRABAJO (parte II)
DESCRIPTION:Día: 26 de abril de 2023\nHorario: de 10:00 a 12:00h\nLugar: Madrid (zona metro Pan Bendito)\nDirigido: Personas residentes en la COMUNIDAD DE MADRID\, en búsqueda activa de empleo y en situación vulnerable.\nContenido: ¡Practica con una de nuestras expertas en selección de personal como si fuera una entrevista de trabajo real! Te ayudará a reforzar lo que ya haces bien y a superar aquellos aspectos que tengas que mejorar.\nRequisitos: Conocimientos de español nivel medio. Estar inscrita/o en el Servicio de Empleo de Asociación AD Los Molinos.\nInscripciones: rellena el FORMULARIO.
URL:https://www.admolinos.org/evento/taller-entrevistas-de-trabajo-parte-ii-2/
CATEGORIES:Empleo,Taller empleo
END:VEVENT
BEGIN:VEVENT
DTSTART;TZID=Europe/Helsinki:20230427T100000
DTEND;TZID=Europe/Helsinki:20230427T120000
DTSTAMP:20260424T085021
CREATED:20230403T092137Z
LAST-MODIFIED:20230403T103500Z
UID:13738-1682589600-1682596800@www.admolinos.org
SUMMARY:Taller Online BECAS Y AYUDAS PARA LA FORMACIÓN
DESCRIPTION:Día: 27 de abril de 2023\nHorario: de 10:00 a 12:00h\nModalidad: ON LINE\nDirigido: Personas residentes en la COMUNIDAD DE MADRID\, en búsqueda activa de empleo y en situación vulnerable.\nRequisitos: Teléfono/ordenador con conexión a internet. Conocimientos de español nivel medio. Estar inscrita/o en el Servicio de Empleo de Asociación AD Los Molinos.\nContenido: Te ayudamos a conocer los tipos de becas\, las cuantías\, la documentación requerida y el proceso de solicitud.\nInscripciones: rellena el FORMULARIO.
URL:https://www.admolinos.org/evento/taller-online-becas-y-ayudas-para-la-formacion/
CATEGORIES:Empleo,Taller empleo
END:VEVENT
BEGIN:VEVENT
DTSTART;TZID=Europe/Helsinki:20230428T120000
DTEND;TZID=Europe/Helsinki:20230428T140000
DTSTAMP:20260424T085021
CREATED:20230403T092504Z
LAST-MODIFIED:20230403T101521Z
UID:13743-1682683200-1682690400@www.admolinos.org
SUMMARY:Taller Aula digital EL ESCORIAL
DESCRIPTION:Día: 28 de abril de 2023\nHorario: de 12:00 a 14:00h\nLugar: El Escorial (Madrid)\nDirigido: Personas residentes en la COMUNIDAD DE MADRID\, en búsqueda activa de empleo y en situación vulnerable.\nContenido: Sesión práctica para mejorar las competencias digitales relacionadas con el almacenamiento de archivos en la nube\, el registro en webs de empleo\, la realización de trámites administrativos online\, etc.\nRequisitos: Conocimientos de español nivel medio. Estar inscrita/o en el Servicio de Empleo de Asociación AD Los Molinos.\nColabora: Ayuntamiento de El Escorial\nInscripciones: rellena el FORMULARIO
URL:https://www.admolinos.org/evento/taller-aula-digital-el-escorial-2/
CATEGORIES:Empleo,Taller empleo
END:VEVENT
END:VCALENDAR