BEGIN:VCALENDAR
VERSION:2.0
PRODID:-//AD Los Molinos, Asociación - ECPv6.15.18//NONSGML v1.0//EN
CALSCALE:GREGORIAN
METHOD:PUBLISH
X-WR-CALNAME:AD Los Molinos, Asociación
X-ORIGINAL-URL:https://www.admolinos.org
X-WR-CALDESC:Eventos para AD Los Molinos, Asociación
REFRESH-INTERVAL;VALUE=DURATION:PT1H
X-Robots-Tag:noindex
X-PUBLISHED-TTL:PT1H
BEGIN:VTIMEZONE
TZID:Europe/Helsinki
BEGIN:DAYLIGHT
TZOFFSETFROM:+0200
TZOFFSETTO:+0300
TZNAME:EEST
DTSTART:20220327T010000
END:DAYLIGHT
BEGIN:STANDARD
TZOFFSETFROM:+0300
TZOFFSETTO:+0200
TZNAME:EET
DTSTART:20221030T010000
END:STANDARD
BEGIN:DAYLIGHT
TZOFFSETFROM:+0200
TZOFFSETTO:+0300
TZNAME:EEST
DTSTART:20230326T010000
END:DAYLIGHT
BEGIN:STANDARD
TZOFFSETFROM:+0300
TZOFFSETTO:+0200
TZNAME:EET
DTSTART:20231029T010000
END:STANDARD
BEGIN:DAYLIGHT
TZOFFSETFROM:+0200
TZOFFSETTO:+0300
TZNAME:EEST
DTSTART:20240331T010000
END:DAYLIGHT
BEGIN:STANDARD
TZOFFSETFROM:+0300
TZOFFSETTO:+0200
TZNAME:EET
DTSTART:20241027T010000
END:STANDARD
END:VTIMEZONE
BEGIN:VEVENT
DTSTART;TZID=Europe/Helsinki:20230504T080000
DTEND;TZID=Europe/Helsinki:20230504T170000
DTSTAMP:20260424T074128
CREATED:20230403T094221Z
LAST-MODIFIED:20230403T103344Z
UID:13746-1683187200-1683219600@www.admolinos.org
SUMMARY:Inicio Curso LIMPIEZA HOSPITALARIA
DESCRIPTION:Fechas: Del 4 de mayo al 4 de junio de 2023.\nModalidad: ON LINE\nDuración: 40 horas\nDirigido: Personas inmigrantes con situación administrativa regularizada.\nRequisitos: Conocimientos de español nivel medio. Estar dado/a de alta en el Servicio de Empleo de Asociación AD Los Molinos.\nContenido: Técnicas y sistemas de limpieza y desinfección según zonas del hospital. Recogida y eliminación de residuos hospitalarios. Prevención de riesgos laborales.\nCofinanciado por: Fundación «la Caixa»\nInscripciones: rellena el FORMULARIO.
URL:https://www.admolinos.org/evento/inicio-curso-limpieza-hospitalaria-2/
CATEGORIES:Empleo,Formación empleo,Taller empleo
END:VEVENT
BEGIN:VEVENT
DTSTART;TZID=Europe/Helsinki:20230510T100000
DTEND;TZID=Europe/Helsinki:20230510T120000
DTSTAMP:20260424T074128
CREATED:20230505T083106Z
LAST-MODIFIED:20230505T083106Z
UID:13898-1683712800-1683720000@www.admolinos.org
SUMMARY:Taller: Aula digital MADRID
DESCRIPTION:Día: Todos los miércoles de mayo de 2023\nHorario: de 10:00 a 12:00h\nLugar: Madrid (zona metro Quevedo)\nDirigido: Personas residentes en la COMUNIDAD DE MADRID\, en búsqueda activa de empleo y en situación vulnerable.\nContenido: Sesión práctica para mejorar las competencias digitales relacionadas con el almacenamiento de archivos en la nube\, el registro en webs de empleo\, la realización de trámites administrativos online\, etc.\nRequisitos: Conocimientos de español nivel medio. Estar inscrita/o en el Servicio de Empleo de Asociación AD Los Molinos.\nColabora: Fundación «la Caixa» \nInscripciones: rellena el FORMULARIO.
URL:https://www.admolinos.org/evento/taller-aula-digital-madrid-3/
CATEGORIES:Empleo,Taller empleo
END:VEVENT
BEGIN:VEVENT
DTSTART;TZID=Europe/Helsinki:20230519T100000
DTEND;TZID=Europe/Helsinki:20230519T120000
DTSTAMP:20260424T074128
CREATED:20230505T083922Z
LAST-MODIFIED:20231102T113130Z
UID:13902-1684490400-1684497600@www.admolinos.org
SUMMARY:Taller ONLINE: ENCUENTRA EMPLEO CON TU MÓVIL
DESCRIPTION:Día: 19 de mayo de 2023\nHorario: de 10:00 a 12:00h\nLugar: Vía ZOOM\nDirigido: Personas residentes en la COMUNIDAD DE MADRID\, en búsqueda activa de empleo y en situación vulnerable.\nContenido: Formación muy práctica sobre las principales aplicaciones móviles para la búsqueda de empleo y cómo mejorar tu perfil en redes sociales y la utilización de estas redes para la localización y gestión de ofertas de empleo.\nRequisitos: Teléfono/ordenador con conexión a internet. Conocimientos de español nivel medio. Estar inscrita/o en el Servicio de Empleo de Asociación AD Los Molinos.\nInscripciones: rellena el FORMULARIO.
URL:https://www.admolinos.org/evento/taller-oline-encuentra-empleo-con-tu-movil/
CATEGORIES:Empleo,Taller empleo
END:VEVENT
BEGIN:VEVENT
DTSTART;TZID=Europe/Helsinki:20230522T110000
DTEND;TZID=Europe/Helsinki:20230522T130000
DTSTAMP:20260424T074128
CREATED:20230505T084935Z
LAST-MODIFIED:20231102T113101Z
UID:13906-1684753200-1684760400@www.admolinos.org
SUMMARY:Taller ONLINE: ECHANDO CUENTAS…
DESCRIPTION:Día: 22 de mayo de 2023\nHorario: de 11:00 a 13:00h\nLugar: Vía ZOOM\nDirigido: Personas residentes en la COMUNIDAD DE MADRID\, en búsqueda activa de empleo y en situación vulnerable.\nContenido: Sesión muy práctica donde una experta nos aconsejará sobre cómo gestionar mejor nuestro dinero para facilitar «llegar a fin de mes»\, poder ahorrar y las características de los diferentes tipos de tarjetas bancarias así como los tipos de préstamos y sus riesgos.\nRequisitos: Teléfono/ordenador con conexión a internet. Conocimientos de español nivel medio. Estar inscrita/o en el Servicio de Empleo de Asociación AD Los Molinos.\nColabora: Voluntariado CaixaBank\nInscripciones: rellena el FORMULARIO.
URL:https://www.admolinos.org/evento/taller-oline-echando-cuentas/
CATEGORIES:Empleo,Taller empleo
END:VEVENT
BEGIN:VEVENT
DTSTART;TZID=Europe/Helsinki:20230531T100000
DTEND;TZID=Europe/Helsinki:20230531T120000
DTSTAMP:20260424T074128
CREATED:20230505T090318Z
LAST-MODIFIED:20231102T113032Z
UID:13913-1685527200-1685534400@www.admolinos.org
SUMMARY:Taller ONLINE: ACTIVA TU BÚSQUEDA DE EMPLEO
DESCRIPTION:Día: 31 de mayo de 2023\nHorario: de 10:00 a 12:00h\nLugar: Vía ZOOM\nDirigido: Personas residentes en la COMUNIDAD DE MADRID\, en búsqueda activa de empleo y en situación vulnerable.\nContenido: Formación teórica sobre herramientas para la búsqueda activa de empleo: curriculum\, carta de presentación\, webs de empleo\, etc.\nRequisitos: Teléfono/ordenador con conexión a internet. Conocimientos de español nivel medio. Estar inscrita/o en el Servicio de Empleo de Asociación AD Los Molinos.\nInscripciones: rellena el FORMULARIO.
URL:https://www.admolinos.org/evento/taller-oline-activa-tu-busqueda-de-empleo/
CATEGORIES:Empleo,Taller empleo
END:VEVENT
END:VCALENDAR