BEGIN:VCALENDAR
VERSION:2.0
PRODID:-//AD Los Molinos, Asociación - ECPv6.15.18//NONSGML v1.0//EN
CALSCALE:GREGORIAN
METHOD:PUBLISH
X-ORIGINAL-URL:https://www.admolinos.org
X-WR-CALDESC:Eventos para AD Los Molinos, Asociación
REFRESH-INTERVAL;VALUE=DURATION:PT1H
X-Robots-Tag:noindex
X-PUBLISHED-TTL:PT1H
BEGIN:VTIMEZONE
TZID:Europe/Madrid
BEGIN:DAYLIGHT
TZOFFSETFROM:+0100
TZOFFSETTO:+0200
TZNAME:CEST
DTSTART:20220327T010000
END:DAYLIGHT
BEGIN:STANDARD
TZOFFSETFROM:+0200
TZOFFSETTO:+0100
TZNAME:CET
DTSTART:20221030T010000
END:STANDARD
BEGIN:DAYLIGHT
TZOFFSETFROM:+0100
TZOFFSETTO:+0200
TZNAME:CEST
DTSTART:20230326T010000
END:DAYLIGHT
BEGIN:STANDARD
TZOFFSETFROM:+0200
TZOFFSETTO:+0100
TZNAME:CET
DTSTART:20231029T010000
END:STANDARD
BEGIN:DAYLIGHT
TZOFFSETFROM:+0100
TZOFFSETTO:+0200
TZNAME:CEST
DTSTART:20240331T010000
END:DAYLIGHT
BEGIN:STANDARD
TZOFFSETFROM:+0200
TZOFFSETTO:+0100
TZNAME:CET
DTSTART:20241027T010000
END:STANDARD
END:VTIMEZONE
BEGIN:VTIMEZONE
TZID:Europe/Helsinki
BEGIN:DAYLIGHT
TZOFFSETFROM:+0200
TZOFFSETTO:+0300
TZNAME:EEST
DTSTART:20220327T010000
END:DAYLIGHT
BEGIN:STANDARD
TZOFFSETFROM:+0300
TZOFFSETTO:+0200
TZNAME:EET
DTSTART:20221030T010000
END:STANDARD
BEGIN:DAYLIGHT
TZOFFSETFROM:+0200
TZOFFSETTO:+0300
TZNAME:EEST
DTSTART:20230326T010000
END:DAYLIGHT
BEGIN:STANDARD
TZOFFSETFROM:+0300
TZOFFSETTO:+0200
TZNAME:EET
DTSTART:20231029T010000
END:STANDARD
BEGIN:DAYLIGHT
TZOFFSETFROM:+0200
TZOFFSETTO:+0300
TZNAME:EEST
DTSTART:20240331T010000
END:DAYLIGHT
BEGIN:STANDARD
TZOFFSETFROM:+0300
TZOFFSETTO:+0200
TZNAME:EET
DTSTART:20241027T010000
END:STANDARD
END:VTIMEZONE
BEGIN:VEVENT
DTSTART;TZID=Europe/Madrid:20231005T100000
DTEND;TZID=Europe/Madrid:20231005T113000
DTSTAMP:20260424T005213
CREATED:20231004T075749Z
LAST-MODIFIED:20231102T112848Z
UID:14292-1696500000-1696505400@www.admolinos.org
SUMMARY:Taller ONLINE: COMPETENCIAS PROFESIONALES ORIENTADAS A LA ATENCIÓN AL CLIENTE
DESCRIPTION:Día: 5 de octubre de 2023\nHorario: de 10:00 a 11:30h\nLugar: Vía ZOOM\nDirigido: Personas residentes en la COMUNIDAD DE MADRID\, en búsqueda activa de empleo y en situación vulnerable.\nContenido: Formación teórica-práctica sobre las competencias profesionales más demandadas en ocupaciones relacionadas con la atención al cliente como dependiente/a\, camarera/o\, teleoperador/a\, etc.\nRequisitos: Teléfono/ordenador con conexión a internet. Conocimientos de español nivel medio. Estar inscrita/o en el Servicio de Empleo de Asociación AD Los Molinos.\nInscripciones: rellena el FORMULARIO.
URL:https://www.admolinos.org/evento/taller-oline-competencias-profesionales-orientadas-a-la-atencion-al-cliente/
CATEGORIES:Empleo,Taller empleo
END:VEVENT
BEGIN:VEVENT
DTSTART;TZID=Europe/Helsinki:20231006T080000
DTEND;TZID=Europe/Helsinki:20231006T170000
DTSTAMP:20260424T005214
CREATED:20230505T092128Z
LAST-MODIFIED:20231004T081621Z
UID:13921-1696579200-1696611600@www.admolinos.org
SUMMARY:Inicio Curso ATENCIÓN AL CLIENTE
DESCRIPTION:Fechas: Del 6 de octubre al 6 de noviembre de 2023.\nModalidad: Online\nDuración: 50 horas\nDirigido: Personas inmigrantes con NIE no comunitario ni protección internacional\, residentes en la COMUNIDAD DE MADRID\, en búsqueda activa de empleo y en situación vulnerable.\nRequisitos: Teléfono/ordenador con conexión a internet. Conocimientos de español nivel medio. Estar dado/a de alta en el Servicio de Empleo de Asociación AD Los Molinos.\nContenido: Formación teórico-práctica para conocer las claves para generar una comunicación fluida\, así como los tipos de clientes y los factores que influyen en la atención al cliente. Practicaremos las técnicas de apertura de venta\, de escucha activa\, de formulación de preguntas y de detección de las motivaciones del cliente.\nInscripciones: rellena el FORMULARIO.
URL:https://www.admolinos.org/evento/inicio-curso-atencion-al-cliente/
CATEGORIES:Cursos,Empleo,Formación empleo
END:VEVENT
BEGIN:VEVENT
DTSTART;TZID=Europe/Madrid:20231011T100000
DTEND;TZID=Europe/Madrid:20231011T120000
DTSTAMP:20260424T005214
CREATED:20231004T080142Z
LAST-MODIFIED:20231102T112743Z
UID:14296-1697018400-1697025600@www.admolinos.org
SUMMARY:Taller ONLINE: COMPETENCIAS PROFESIONALES MÁS IMPORTANTES COMO AUXILIAR DE LOGÍSTICA
DESCRIPTION:Día: 11 de octubre de 2023\nHorario: de 10:00 a 12:00h\nLugar: Vía ZOOM\nDirigido: Personas residentes en la COMUNIDAD DE MADRID\, en búsqueda activa de empleo y en situación vulnerable.\nContenido: Formación teórica-práctica sobre las competencias profesionales más demandadas en la ocupación de Auxiliar de Logística así como información sobre empresas donde contratan con ese perfil y webs de empleo relacionadas.\nRequisitos: Teléfono/ordenador con conexión a internet. Conocimientos de español nivel medio. Estar inscrita/o en el Servicio de Empleo de Asociación AD Los Molinos.\nInscripciones: rellena el FORMULARIO.
URL:https://www.admolinos.org/evento/taller-oline-competencias-profesionales-mas-importantes-como-auxiliar-de-logistica/
CATEGORIES:Empleo,Taller empleo
END:VEVENT
BEGIN:VEVENT
DTSTART;TZID=Europe/Madrid:20231018T100000
DTEND;TZID=Europe/Madrid:20231018T140000
DTSTAMP:20260424T005214
CREATED:20230908T091253Z
LAST-MODIFIED:20230908T091253Z
UID:14194-1697623200-1697637600@www.admolinos.org
SUMMARY:Inicio Curso AYUDA A DOMICILIO
DESCRIPTION:Fechas: Del 18 de octubre al 15 de diciembre de 2023.\nHorario: De 10:00 a 14:00 horas\nLugar: Madrid (zona Pan Bendito)\nDuración: 140 horas\nDirigido: Personas residentes en la COMUNIDAD DE MADRID\, en búsqueda activa de empleo y en situación vulnerable.\nRequisitos: Conocimientos de español nivel medio. Estar dado/a de alta en el Servicio de Empleo de Asociación AD Los Molinos.\nContenido: Formación teórica-práctica básica sobre cuidados\, movilizaciones\, alimentación\, etc. de personas dependientes en sus domicilios.\nInscripciones: rellena el FORMULARIO.
URL:https://www.admolinos.org/evento/inicio-curso-ayuda-a-domicilio-3/
CATEGORIES:Cursos,Empleo,Formación empleo
END:VEVENT
BEGIN:VEVENT
DTSTART;TZID=Europe/Helsinki:20231023T093000
DTEND;TZID=Europe/Helsinki:20231023T143000
DTSTAMP:20260424T005214
CREATED:20230505T091513Z
LAST-MODIFIED:20231011T103334Z
UID:13917-1698053400-1698071400@www.admolinos.org
SUMMARY:Inicio Curso AUXILIAR DE LOGÍSTICA\, CONTROL DE STOCK POR RADIOFRECUENCIA Y CONDUCCIÓN DE CARRETILLAS ELEVADORAS  (Carnet oficial)
DESCRIPTION:Fechas: Del 23 de octubre al 3 de noviembre de 2023.\nHorario: De 9:30 a 14:30 horas\nLugar: Fuenlabrada (Madrid)\nDuración: 45 horas\nDirigido: Personas inmigrantes con NIE no comunitario ni protección internacional\, residentes en la COMUNIDAD DE MADRID\, en búsqueda activa de empleo y en situación vulnerable.\nRequisitos: Conocimientos de español nivel medio. Estar dado/a de alta en el Servicio de Empleo de Asociación AD Los Molinos.\nContenido: Carnet oficial. Teoría y práctica sobre el manejo de diferentes tipos de carretillas elevadoras y uso de radiofrecuencia para la localización de productos en el almacén.\nInscripciones: rellena el FORMULARIO.
URL:https://www.admolinos.org/evento/inicio-curso-auxiliar-de-logistica-control-de-stock-por-radiofrecuencia-y-conduccion-de-carretillas-elevadoras-carnet-oficial-2/
CATEGORIES:Cursos,Empleo,Formación empleo
END:VEVENT
BEGIN:VEVENT
DTSTART;TZID=Europe/Madrid:20231026T100000
DTEND;TZID=Europe/Madrid:20231026T120000
DTSTAMP:20260424T005214
CREATED:20231004T080614Z
LAST-MODIFIED:20231004T080614Z
UID:14300-1698314400-1698321600@www.admolinos.org
SUMMARY:Taller Aula digital EL ESCORIAL
DESCRIPTION:Día: 26 de octubre de 2023\nHorario: de 10:00 a 12:00h\nLugar: El Escorial (Madrid)\nDirigido: Personas residentes en la COMUNIDAD DE MADRID\, en búsqueda activa de empleo y en situación vulnerable.\nContenido: Sesión práctica para mejorar las competencias digitales relacionadas con el almacenamiento de archivos en la nube\, el registro en webs de empleo\, la realización de trámites administrativos online\, etc.\nRequisitos: Conocimientos de español nivel medio. Estar inscrita/o en el Servicio de Empleo de Asociación AD Los Molinos.\nColabora: Ayuntamiento de El Escorial\nInscripciones: rellena el FORMULARIO
URL:https://www.admolinos.org/evento/taller-aula-digital-el-escorial-5/
CATEGORIES:Empleo,Taller empleo
END:VEVENT
BEGIN:VEVENT
DTSTART;TZID=Europe/Madrid:20231027T100000
DTEND;TZID=Europe/Madrid:20231027T140000
DTSTAMP:20260424T005214
CREATED:20231002T114648Z
LAST-MODIFIED:20231002T114648Z
UID:14230-1698400800-1698415200@www.admolinos.org
SUMMARY:IX Jornadas Estrategias de Empleo 2023
DESCRIPTION:Día: 27/10/2023\nHorario: de 10 a 14h.\nLugar: Caixa Forum Madrid\nModalidad mixta: Presencial hasta completar aforo y Virtual (retransmisión en streaming)\nDirigido a asociaciones y entidades sociales\, técnicos/as de empleo/autoempleo\, personas inmigrantes y a cualquier persona interesada.\nMás información: 91 591 23 36\n\nInscripción gratuita\, a través del enlace «Inscripción IX Jornadas Estrategias Empleo«.
URL:https://www.admolinos.org/evento/ix-jornadas-estrategias-de-empleo-2023/
CATEGORIES:Autoempleo,Empleo,Jornadas
END:VEVENT
BEGIN:VEVENT
DTSTART;TZID=Europe/Madrid:20231031T100000
DTEND;TZID=Europe/Madrid:20231031T120000
DTSTAMP:20260424T005214
CREATED:20231004T081334Z
LAST-MODIFIED:20231004T081334Z
UID:14306-1698746400-1698753600@www.admolinos.org
SUMMARY:Taller ENTREVISTAS DE TRABAJO
DESCRIPTION:Día: 31 de octubre de 2023\nHorario: de 10:00 a 12:00h\nLugar: Collado Villalba (Madrid)\nDirigido: Personas residentes en la COMUNIDAD DE MADRID\, en búsqueda activa de empleo y en situación vulnerable.\nContenido: Formación teórica-práctica dirigida a adquirir los conocimientos y competencias necesarias para afrontar las entrevistas de selección con más posibilidades de éxito.\nRequisitos: Conocimientos de español nivel medio. Estar inscrita/o en el Servicio de Empleo de Asociación AD Los Molinos.\nColabora: Ayuntamiento de Collado Villalba\nInscripciones: rellena el FORMULARIO
URL:https://www.admolinos.org/evento/taller-entrevistas-de-trabajo/
CATEGORIES:Empleo,Taller empleo
END:VEVENT
END:VCALENDAR