BEGIN:VCALENDAR
VERSION:2.0
PRODID:-//AD Los Molinos, Asociación - ECPv6.15.18//NONSGML v1.0//EN
CALSCALE:GREGORIAN
METHOD:PUBLISH
X-WR-CALNAME:AD Los Molinos, Asociación
X-ORIGINAL-URL:https://www.admolinos.org
X-WR-CALDESC:Eventos para AD Los Molinos, Asociación
REFRESH-INTERVAL;VALUE=DURATION:PT1H
X-Robots-Tag:noindex
X-PUBLISHED-TTL:PT1H
BEGIN:VTIMEZONE
TZID:Europe/Madrid
BEGIN:DAYLIGHT
TZOFFSETFROM:+0100
TZOFFSETTO:+0200
TZNAME:CEST
DTSTART:20220327T010000
END:DAYLIGHT
BEGIN:STANDARD
TZOFFSETFROM:+0200
TZOFFSETTO:+0100
TZNAME:CET
DTSTART:20221030T010000
END:STANDARD
BEGIN:DAYLIGHT
TZOFFSETFROM:+0100
TZOFFSETTO:+0200
TZNAME:CEST
DTSTART:20230326T010000
END:DAYLIGHT
BEGIN:STANDARD
TZOFFSETFROM:+0200
TZOFFSETTO:+0100
TZNAME:CET
DTSTART:20231029T010000
END:STANDARD
BEGIN:DAYLIGHT
TZOFFSETFROM:+0100
TZOFFSETTO:+0200
TZNAME:CEST
DTSTART:20240331T010000
END:DAYLIGHT
BEGIN:STANDARD
TZOFFSETFROM:+0200
TZOFFSETTO:+0100
TZNAME:CET
DTSTART:20241027T010000
END:STANDARD
END:VTIMEZONE
BEGIN:VEVENT
DTSTART;TZID=Europe/Madrid:20231107T080000
DTEND;TZID=Europe/Madrid:20231107T170000
DTSTAMP:20260423T232123
CREATED:20231004T082112Z
LAST-MODIFIED:20231004T082112Z
UID:14314-1699344000-1699376400@www.admolinos.org
SUMMARY:Inicio Curso AUXILIAR DE ALMACÉN
DESCRIPTION:Fechas: Del 7 de noviembre al 16 de noviembre de 2023.\nLugar: Murcia\nDuración: 40 horas\nDirigido: Personas inmigrantes con NIE no comunitario ni protección internacional\, residentes en la REGIÓN DE MURCIA\, en búsqueda activa de empleo y en situación vulnerable\nRequisitos: Conocimientos de español nivel medio. Estar inscrita/o en el Servicio de Empleo de Asociación AD Los Molinos.\nContenido: Formación teórico- práctica sobre la gestión de un almacén\, control de stock\, prevención de riesgos laborales y el manejo de carretillas elevadoras.\nInscripciones: rellena el FORMULARIO.
URL:https://www.admolinos.org/evento/inicio-curso-auxiliar-de-almacen/
CATEGORIES:Cursos,Empleo,Formación empleo
END:VEVENT
BEGIN:VEVENT
DTSTART;TZID=Europe/Madrid:20231116T100000
DTEND;TZID=Europe/Madrid:20231116T120000
DTSTAMP:20260423T232123
CREATED:20231102T100207Z
LAST-MODIFIED:20231102T112615Z
UID:14392-1700128800-1700136000@www.admolinos.org
SUMMARY:Taller ONLINE: ENCUENTRA EMPLEO CON TU MÓVIL
DESCRIPTION:Día: 16 de noviembre de 2023\nHorario: de 10:00 a 12:00h\nLugar: Vía ZOOM\nDirigido: Personas residentes en la COMUNIDAD DE MADRID\, en búsqueda activa de empleo y en situación vulnerable.\nContenido: Formación muy práctica sobre las principales aplicaciones móviles para la búsqueda de empleo y cómo mejorar tu perfil en redes sociales y la utilización de estas redes para la localización y gestión de ofertas de empleo.\nRequisitos: Teléfono/ordenador con conexión a internet. Conocimientos de español nivel medio. Estar inscrita/o en el Servicio de Empleo de Asociación AD Los Molinos.\nInscripciones: Rellena el FORMULARIO.
URL:https://www.admolinos.org/evento/taller-oline-encuentra-empleo-con-tu-movil-2/
CATEGORIES:Empleo,Taller empleo
END:VEVENT
BEGIN:VEVENT
DTSTART;TZID=Europe/Madrid:20231121T090000
DTEND;TZID=Europe/Madrid:20231121T140000
DTSTAMP:20260423T232123
CREATED:20231102T103954Z
LAST-MODIFIED:20231102T103954Z
UID:14400-1700557200-1700575200@www.admolinos.org
SUMMARY:Taller CONSIGUE TU CERTIFICADO DIGITAL
DESCRIPTION:Día: 21 de noviembre de 2023\nHorario: de 09:00 a 14:00h (Se realizarán 2 sesiones en diferente horario)\nLugar: FERIA «EMPLÉATE MÁS EN NAVIDAD» Collado Villalba (Madrid)\nDirigido: Personas residentes en la COMUNIDAD DE MADRID\, en búsqueda activa de empleo y en situación vulnerable.\nContenido: Acompañamiento en la solicitud\, instalación y uso del Certificado Digital.\nRequisitos: Disponer de teléfono móvil\, tablet u ordenador. Conocimientos de español nivel medio.\nColabora: Ayuntamiento de Collado Villalba\nInscripciones: rellena el FORMULARIO
URL:https://www.admolinos.org/evento/taller-consigue-tu-certificado-digital/
CATEGORIES:Empleo,Taller empleo
END:VEVENT
BEGIN:VEVENT
DTSTART;TZID=Europe/Madrid:20231121T100000
DTEND;TZID=Europe/Madrid:20231121T120000
DTSTAMP:20260423T232123
CREATED:20231102T101202Z
LAST-MODIFIED:20231102T112553Z
UID:14396-1700560800-1700568000@www.admolinos.org
SUMMARY:Taller ONLINE: ORIENTA TU FORMACIÓN
DESCRIPTION:Día: 21 de noviembre de 2023\nHorario: de 10:00 a 12:00h\nLugar: Vía ZOOM\nDirigido: Personas residentes en la COMUNIDAD DE MADRID\, en búsqueda activa de empleo y en situación vulnerable.\nContenido: Información sobre diferentes opciones de formación gratuita para aumentar las oportunidades de conseguir empleo: formación ocupacional\, certificados de profesionalidad\, formación profesional\, etc.\nRequisitos: Teléfono/ordenador con conexión a internet. Conocimientos de español nivel medio. Estar inscrita/o en el Servicio de Empleo de Asociación AD Los Molinos.\nInscripciones: Rellena el FORMULARIO.
URL:https://www.admolinos.org/evento/taller-oline-orienta-tu-formacion-2/
CATEGORIES:Empleo,Taller empleo
END:VEVENT
BEGIN:VEVENT
DTSTART;TZID=Europe/Madrid:20231124T100000
DTEND;TZID=Europe/Madrid:20231124T120000
DTSTAMP:20260423T232123
CREATED:20231102T104727Z
LAST-MODIFIED:20231102T104727Z
UID:14404-1700820000-1700827200@www.admolinos.org
SUMMARY:Taller Aula digital EL ESCORIAL
DESCRIPTION:Día: 24 de noviembre de 2023\nHorario: de 10:00 a 12:00h\nLugar: El Escorial (Madrid)\nDirigido: Personas residentes en la COMUNIDAD DE MADRID\, en búsqueda activa de empleo y en situación vulnerable.\nContenido: Sesión práctica para mejorar las competencias digitales relacionadas con el almacenamiento de archivos en la nube\, el registro en webs de empleo\, la realización de trámites administrativos online\, etc.\nRequisitos: Conocimientos de español nivel medio. Estar inscrita/o en el Servicio de Empleo de Asociación AD Los Molinos.\nColabora: Ayuntamiento de El Escorial\nInscripciones: rellena el FORMULARIO
URL:https://www.admolinos.org/evento/taller-aula-digital-el-escorial-6/
CATEGORIES:Empleo,Taller empleo
END:VEVENT
BEGIN:VEVENT
DTSTART;TZID=Europe/Madrid:20231127T100000
DTEND;TZID=Europe/Madrid:20231127T120000
DTSTAMP:20260423T232123
CREATED:20231102T105948Z
LAST-MODIFIED:20231102T112530Z
UID:14408-1701079200-1701086400@www.admolinos.org
SUMMARY:Taller ONLINE: PRINCIPALES PRESTACIONES SOCIALES Y DEL SEPE
DESCRIPTION:Día: 27 de noviembre de 2023\nHorario: de 10:00 a 12:00h\nLugar: Vía ZOOM\nDirigido: Personas residentes en la COMUNIDAD DE MADRID\, en búsqueda activa de empleo y en situación vulnerable.\nContenido: Información sobre las diferentes ayudas económicas existentes tanto desde el SEPE (Servicio Público de Empleo Éstatal) como desde los Servicios Sociales y los requisitos y trámites para poder acceder a ellas.\nRequisitos: Teléfono/ordenador con conexión a internet. Conocimientos de español nivel medio. Estar inscrita/o en el Servicio de Empleo de Asociación AD Los Molinos.\nInscripciones: Rellena el FORMULARIO.
URL:https://www.admolinos.org/evento/taller-oline-principales-prestaciones-sociales-y-del-sepe/
CATEGORIES:Empleo,Taller empleo
END:VEVENT
END:VCALENDAR