BEGIN:VCALENDAR
VERSION:2.0
PRODID:-//AD Los Molinos, Asociación - ECPv6.15.18//NONSGML v1.0//EN
CALSCALE:GREGORIAN
METHOD:PUBLISH
X-ORIGINAL-URL:https://www.admolinos.org
X-WR-CALDESC:Eventos para AD Los Molinos, Asociación
REFRESH-INTERVAL;VALUE=DURATION:PT1H
X-Robots-Tag:noindex
X-PUBLISHED-TTL:PT1H
BEGIN:VTIMEZONE
TZID:Europe/Madrid
BEGIN:DAYLIGHT
TZOFFSETFROM:+0100
TZOFFSETTO:+0200
TZNAME:CEST
DTSTART:20230326T010000
END:DAYLIGHT
BEGIN:STANDARD
TZOFFSETFROM:+0200
TZOFFSETTO:+0100
TZNAME:CET
DTSTART:20231029T010000
END:STANDARD
BEGIN:DAYLIGHT
TZOFFSETFROM:+0100
TZOFFSETTO:+0200
TZNAME:CEST
DTSTART:20240331T010000
END:DAYLIGHT
BEGIN:STANDARD
TZOFFSETFROM:+0200
TZOFFSETTO:+0100
TZNAME:CET
DTSTART:20241027T010000
END:STANDARD
BEGIN:DAYLIGHT
TZOFFSETFROM:+0100
TZOFFSETTO:+0200
TZNAME:CEST
DTSTART:20250330T010000
END:DAYLIGHT
BEGIN:STANDARD
TZOFFSETFROM:+0200
TZOFFSETTO:+0100
TZNAME:CET
DTSTART:20251026T010000
END:STANDARD
END:VTIMEZONE
BEGIN:VEVENT
DTSTART;TZID=Europe/Madrid:20240604T100000
DTEND;TZID=Europe/Madrid:20240604T120000
DTSTAMP:20260423T140557
CREATED:20240531T110036Z
LAST-MODIFIED:20240531T110036Z
UID:15171-1717495200-1717502400@www.admolinos.org
SUMMARY:Taller ORIENTA TU FORMACIÓN
DESCRIPTION:Día: 4 de junio de 2024\nHorario: de 10:00 a 12:00h\nLugar: Vía ZOOM\nDirigido: Personas residentes en la COMUNIDAD DE MADRID\, en búsqueda activa de empleo y en situación vulnerable.\nContenido: Información sobre diferentes opciones de formación gratuita para aumentar las oportunidades de conseguir empleo: formación ocupacional\, certificados de profesionalidad\, formación profesional\, etc.\nRequisitos: Teléfono/ordenador con conexión a internet. Conocimientos de español nivel medio. Estar inscrita/o en el Servicio de Empleo de Asociación AD Los Molinos.\nInscripciones: Rellena el FORMULARIO.\n\n 
URL:https://www.admolinos.org/evento/taller-orienta-tu-formacion/
CATEGORIES:Empleo,Taller empleo
END:VEVENT
BEGIN:VEVENT
DTSTART;TZID=Europe/Madrid:20240613T100000
DTEND;TZID=Europe/Madrid:20240613T120000
DTSTAMP:20260423T140557
CREATED:20240531T110433Z
LAST-MODIFIED:20240603T083649Z
UID:15175-1718272800-1718280000@www.admolinos.org
SUMMARY:Taller TU CERTIFICADO DIGÍTAL DE FORMA FÁCIL EN TU MÓVIL
DESCRIPTION:Día: 13 de junio de 2024\nHorario: de 10:00 a 12:00h\nLugar: Vía ZOOM\nDirigido: Personas residentes en la COMUNIDAD DE MADRID\, en búsqueda activa de empleo y en situación vulnerable.\nContenido: Acompañamiento en la solicitud\, instalación en el teléfono móvil e indicaciones sobre los múltiples usos del Certificado Digital: acceder a la vida laboral\, tramitar becas y ayudas económicas\, consultar expedientes en Extranjería\, Agencia Tributaria\, etc.\nRequisitos: Teléfono/ordenador con conexión a internet. Conocimientos de español nivel medio. Estar inscrita/o en el Servicio de Empleo de Asociación AD Los Molinos.\nInscripciones: Rellena el FORMULARIO.\n\n  \n \n 
URL:https://www.admolinos.org/evento/taller-tu-certificado-digital-de-forma-facil-en-tu-movil/
CATEGORIES:Empleo,Taller empleo
END:VEVENT
BEGIN:VEVENT
DTSTART;TZID=Europe/Madrid:20240618T080000
DTEND;TZID=Europe/Madrid:20240618T170000
DTSTAMP:20260423T140557
CREATED:20240605T094850Z
LAST-MODIFIED:20240605T094850Z
UID:15269-1718697600-1718730000@www.admolinos.org
SUMMARY:Curso EXCEL (nivel intermedio)
DESCRIPTION:Fechas: Del 18 de junio al 8 de julio de 2024.\nHorario: ¡A tu ritmo!\nDuración: 60 horas\nModalidad: Online\nDirigido: Personas desempleadas inscritas como demandantes de empleo en una Oficina de Empleo de la Comunidad de Madrid.\nRequisitos: Personas desempleadas inscritas como demandantes de empleo en una Oficina de Empleo de la Comunidad de Madrid.\nContenido: Con este curso de Excel aprenderás a aplicar Fórmulas\, realizar Funciones\, dar Formato avanzado de celdas\, crear Temas y formato condicional\, Edición de hojas y Crear gráficos\, Colocar datos en la web\, crear Matrices y referencias externas.\nInscripciones: rellena el FORMULARIO.\nFecha límite de inscripción: 16 de junio de 2024\nColabora: aprendea
URL:https://www.admolinos.org/evento/curso-excel-nivel-intermedio-2/
CATEGORIES:Cursos,Empleo,Formación empleo
END:VEVENT
BEGIN:VEVENT
DTSTART;TZID=Europe/Madrid:20240618T080000
DTEND;TZID=Europe/Madrid:20240618T170000
DTSTAMP:20260423T140557
CREATED:20240605T095510Z
LAST-MODIFIED:20240605T095510Z
UID:15275-1718697600-1718730000@www.admolinos.org
SUMMARY:Curso EXCEL (nivel avanzado)
DESCRIPTION:Fechas: Del 18 de junio al 8 de julio de 2024.\nHorario: ¡A tu ritmo!\nDuración: 60 horas\nModalidad: Online\nDirigido: Personas desempleadas inscritas como demandantes de empleo en una Oficina de Empleo de la Comunidad de Madrid.\nRequisitos: Teléfono/ordenador con conexión a internet. Conocimientos de español nivel medio. Estar inscrita/o como demandante de empleo en una Oficina de Empleo de la Comunidad de Madrid.\nContenido: Con este curso de Excel aprenderás a realizar Funciones\, crear Bases de Datos\, Formularios\, Vistas\, Estructuras de control\, hacer Análisis de datos\, crear Plantillas y Macros\, obtener Datos Externos\, crear Rangos e insertar objetos.\nInscripciones: rellena el FORMULARIO.\nFecha límite de inscripción: 16 de junio de 2024\nColabora: aprendea
URL:https://www.admolinos.org/evento/curso-excel-nivel-avanzado-2/
CATEGORIES:Cursos,Empleo,Formación empleo
END:VEVENT
BEGIN:VEVENT
DTSTART;TZID=Europe/Madrid:20240620T100000
DTEND;TZID=Europe/Madrid:20240620T120000
DTSTAMP:20260423T140557
CREATED:20240531T110959Z
LAST-MODIFIED:20240531T110959Z
UID:15182-1718877600-1718884800@www.admolinos.org
SUMMARY:Taller ¿QUIERES APROVECHAR LA INTELIGENCIA ARTIFICIAL EN TU BÚSQUEDA DE EMPLEO?
DESCRIPTION:Día: 20 de junio de 2024\nHorario: de 10:00 a 12:00h\nLugar: Vía ZOOM\nDirigido: Personas residentes en la COMUNIDAD DE MADRID\, en búsqueda activa de empleo y en situación vulnerable.\nContenido: ¿Quieres mejorar tu Curriculum? ¿Quieres saber qué competencias están pidiendo para ese trabajo que te interesa? ¿Quieres entrenar para preparar las entrevistas de trabajo? ¡Con la Inteligencia artificial lo conseguirás de manera sencilla!\nRequisitos: Teléfono/ordenador con conexión a internet. Conocimientos de español nivel medio. Estar inscrita/o en el Servicio de Empleo de Asociación AD Los Molinos.\nInscripciones: Rellena el FORMULARIO.\n\n 
URL:https://www.admolinos.org/evento/taller-quieres-aprovechar-la-inteligencia-artificial-en-tu-busqueda-de-empleo/
CATEGORIES:Empleo,Taller empleo
END:VEVENT
BEGIN:VEVENT
DTSTART;TZID=Europe/Madrid:20240621T080000
DTEND;TZID=Europe/Madrid:20240621T170000
DTSTAMP:20260423T140557
CREATED:20240612T102647Z
LAST-MODIFIED:20240612T103503Z
UID:15293-1718956800-1718989200@www.admolinos.org
SUMMARY:Curso INGLÉS (nivel A2.2)
DESCRIPTION:Fechas: Del 21 de junio al 11 de julio de 2024.\nHorario: ¡A tu ritmo!\nDuración: 60 horas\nModalidad: Online\nDirigido: Personas desempleadas inscritas como demandantes de empleo en una Oficina de Empleo de la Comunidad de Madrid.\nRequisitos: Teléfono/ordenador con conexión a internet. Conocimientos de español nivel medio. Estar inscrita/o como demandante de empleo en una Oficina de Empleo de la Comunidad de Madrid.\nContenido: Con esta formación aprenderás vocabulario y gramática a través de divertidas actividades orales y escritas para mejorar tu capacidad de lectura\, escritura y comunicación oral en inglés.\nInscripciones: rellena el FORMULARIO.\nFecha límite de inscripción: 16 de junio de 2024\nColabora: aprendea
URL:https://www.admolinos.org/evento/curso-ingles-nivel-a2-2/
CATEGORIES:Cursos,Empleo,Formación empleo
END:VEVENT
BEGIN:VEVENT
DTSTART;TZID=Europe/Madrid:20240628T120000
DTEND;TZID=Europe/Madrid:20240628T140000
DTSTAMP:20260423T140557
CREATED:20240531T114643Z
LAST-MODIFIED:20240531T114643Z
UID:15184-1719576000-1719583200@www.admolinos.org
SUMMARY:Taller Aula digital EL ESCORIAL
DESCRIPTION:Día: 28 de junio de 2024\nHorario: de 12:00 a 14:00h\nLugar: El Escorial (Madrid)\nDirigido: Personas residentes en la COMUNIDAD DE MADRID\, en búsqueda activa de empleo y en situación vulnerable.\nContenido: Sesión práctica para mejorar las competencias digitales relacionadas con el almacenamiento de archivos en la nube\, el registro en webs de empleo\, la realización de trámites administrativos online\, etc.\nRequisitos: Conocimientos de español nivel medio. Estar inscrita/o en el Servicio de Empleo de Asociación AD Los Molinos.\nColabora: Ayuntamiento de El Escorial\nInscripciones: rellena el FORMULARIO\n\n 
URL:https://www.admolinos.org/evento/taller-aula-digital-el-escorial-11/
CATEGORIES:Empleo,Taller empleo
END:VEVENT
END:VCALENDAR