BEGIN:VCALENDAR
VERSION:2.0
PRODID:-//AD Los Molinos, Asociación - ECPv6.15.18//NONSGML v1.0//EN
CALSCALE:GREGORIAN
METHOD:PUBLISH
X-WR-CALNAME:AD Los Molinos, Asociación
X-ORIGINAL-URL:https://www.admolinos.org
X-WR-CALDESC:Eventos para AD Los Molinos, Asociación
REFRESH-INTERVAL;VALUE=DURATION:PT1H
X-Robots-Tag:noindex
X-PUBLISHED-TTL:PT1H
BEGIN:VTIMEZONE
TZID:Europe/Madrid
BEGIN:DAYLIGHT
TZOFFSETFROM:+0100
TZOFFSETTO:+0200
TZNAME:CEST
DTSTART:20230326T010000
END:DAYLIGHT
BEGIN:STANDARD
TZOFFSETFROM:+0200
TZOFFSETTO:+0100
TZNAME:CET
DTSTART:20231029T010000
END:STANDARD
BEGIN:DAYLIGHT
TZOFFSETFROM:+0100
TZOFFSETTO:+0200
TZNAME:CEST
DTSTART:20240331T010000
END:DAYLIGHT
BEGIN:STANDARD
TZOFFSETFROM:+0200
TZOFFSETTO:+0100
TZNAME:CET
DTSTART:20241027T010000
END:STANDARD
BEGIN:DAYLIGHT
TZOFFSETFROM:+0100
TZOFFSETTO:+0200
TZNAME:CEST
DTSTART:20250330T010000
END:DAYLIGHT
BEGIN:STANDARD
TZOFFSETFROM:+0200
TZOFFSETTO:+0100
TZNAME:CET
DTSTART:20251026T010000
END:STANDARD
END:VTIMEZONE
BEGIN:VEVENT
DTSTART;TZID=Europe/Madrid:20240918T100000
DTEND;TZID=Europe/Madrid:20240918T120000
DTSTAMP:20260423T101038
CREATED:20240903T070639Z
LAST-MODIFIED:20240909T123723Z
UID:15415-1726653600-1726660800@www.admolinos.org
SUMMARY:Taller Online: ENCUENTRA EMPLEO CON TU MÓVIL
DESCRIPTION:Día: 18 de septiembre de 2024\nHorario: de 10:00 a 12:00h\nLugar: Vía ZOOM\nDirigido: Personas residentes en la COMUNIDAD DE MADRID\, en búsqueda activa de empleo y en situación vulnerable.\nContenido: Formación muy práctica sobre las principales aplicaciones móviles para la búsqueda de empleo y cómo mejorar tu perfil en redes sociales y la utilización de estas redes para la localización y gestión de ofertas de empleo.\nRequisitos: Teléfono/ordenador con conexión a internet. Conocimientos de español nivel medio. Estar inscrita/o en el Servicio de Empleo de Asociación AD Los Molinos.\nInscripciones: rellena el FORMULARIO
URL:https://www.admolinos.org/evento/taller-encuentra-empleo-con-tu-movil-5/
CATEGORIES:Empleo,Taller empleo
END:VEVENT
BEGIN:VEVENT
DTSTART;TZID=Europe/Madrid:20240925T100000
DTEND;TZID=Europe/Madrid:20240925T120000
DTSTAMP:20260423T101038
CREATED:20240903T071200Z
LAST-MODIFIED:20240903T084222Z
UID:15421-1727258400-1727265600@www.admolinos.org
SUMMARY:Taller Online ¿QUIERES APROVECHAR LA INTELIGENCIA ARTIFICIAL EN TU BÚSQUEDA DE EMPLEO?
DESCRIPTION:Día: 25 de septiembre de 2024\nHorario: de 10:00 a 12:00h\nLugar: Vía ZOOM\nDirigido: Personas residentes en la COMUNIDAD DE MADRID\, en búsqueda activa de empleo y en situación vulnerable.\nContenido: ¿Quieres mejorar tu Curriculum? ¿Quieres saber qué competencias están pidiendo para ese trabajo que te interesa? ¿Quieres entrenar para preparar las entrevistas de trabajo? ¡Con la Inteligencia artificial lo conseguirás de manera sencilla!\nRequisitos: Teléfono/ordenador con conexión a internet. Conocimientos de español nivel medio. Estar inscrita/o en el Servicio de Empleo de Asociación AD Los Molinos.\nInscripciones: Rellena el FORMULARIO.\n\n 
URL:https://www.admolinos.org/evento/taller-quieres-aprovechar-la-inteligencia-artificial-en-tu-busqueda-de-empleo-2/
CATEGORIES:Empleo,Taller empleo
END:VEVENT
BEGIN:VEVENT
DTSTART;TZID=Europe/Madrid:20240927T120000
DTEND;TZID=Europe/Madrid:20240927T140000
DTSTAMP:20260423T101038
CREATED:20240903T071517Z
LAST-MODIFIED:20240903T071517Z
UID:15425-1727438400-1727445600@www.admolinos.org
SUMMARY:Aula digital EL ESCORIAL
DESCRIPTION:Día: 27 de septiembre de 2024\nHorario: de 12:00 a 14:00h\nLugar: El Escorial (Madrid)\nDirigido: Personas residentes en la COMUNIDAD DE MADRID\, en búsqueda activa de empleo y en situación vulnerable.\nContenido: Sesión práctica para mejorar las competencias digitales relacionadas con el almacenamiento de archivos en la nube\, el registro en webs de empleo\, la realización de trámites administrativos online\, etc.\nRequisitos: Conocimientos de español nivel medio. Estar inscrita/o en el Servicio de Empleo de Asociación AD Los Molinos.\nColabora: Ayuntamiento de El Escorial\nInscripciones: rellena el FORMULARIO\n\n 
URL:https://www.admolinos.org/evento/aula-digital-el-escorial-18/
CATEGORIES:Empleo,Taller empleo
END:VEVENT
END:VCALENDAR