BEGIN:VCALENDAR
VERSION:2.0
PRODID:-//AD Los Molinos, Asociación - ECPv6.15.18//NONSGML v1.0//EN
CALSCALE:GREGORIAN
METHOD:PUBLISH
X-WR-CALNAME:AD Los Molinos, Asociación
X-ORIGINAL-URL:https://www.admolinos.org
X-WR-CALDESC:Eventos para AD Los Molinos, Asociación
REFRESH-INTERVAL;VALUE=DURATION:PT1H
X-Robots-Tag:noindex
X-PUBLISHED-TTL:PT1H
BEGIN:VTIMEZONE
TZID:Europe/Madrid
BEGIN:DAYLIGHT
TZOFFSETFROM:+0100
TZOFFSETTO:+0200
TZNAME:CEST
DTSTART:20230326T010000
END:DAYLIGHT
BEGIN:STANDARD
TZOFFSETFROM:+0200
TZOFFSETTO:+0100
TZNAME:CET
DTSTART:20231029T010000
END:STANDARD
BEGIN:DAYLIGHT
TZOFFSETFROM:+0100
TZOFFSETTO:+0200
TZNAME:CEST
DTSTART:20240331T010000
END:DAYLIGHT
BEGIN:STANDARD
TZOFFSETFROM:+0200
TZOFFSETTO:+0100
TZNAME:CET
DTSTART:20241027T010000
END:STANDARD
BEGIN:DAYLIGHT
TZOFFSETFROM:+0100
TZOFFSETTO:+0200
TZNAME:CEST
DTSTART:20250330T010000
END:DAYLIGHT
BEGIN:STANDARD
TZOFFSETFROM:+0200
TZOFFSETTO:+0100
TZNAME:CET
DTSTART:20251026T010000
END:STANDARD
END:VTIMEZONE
BEGIN:VEVENT
DTSTART;TZID=Europe/Madrid:20241120T100000
DTEND;TZID=Europe/Madrid:20241120T120000
DTSTAMP:20260423T072120
CREATED:20241106T102958Z
LAST-MODIFIED:20241106T102958Z
UID:15710-1732096800-1732104000@www.admolinos.org
SUMMARY:Taller: ENTREVISTAS DE TRABAJO
DESCRIPTION:Día: 20 de noviembre de 2024\nHorario: de 10:00 a 12:00h\nLugar: Madrid (zona Pan Bendito)\nDirigido: Personas residentes en la COMUNIDAD DE MADRID\, en búsqueda activa de empleo y en situación vulnerable.\nContenido:¡Practica con una de nuestras expertas en selección de personal como si fuera una entrevista de trabajo real! Te ayudará a reforzar lo que ya haces bien y a superar aquellos aspectos que tengas que mejorar.\nRequisitos: Teléfono/ordenador con conexión a internet. Conocimientos de español nivel medio. Estar inscrita/o en el Servicio de Empleo de Asociación AD Los Molinos.\nInscripciones: rellena el FORMULARIO
URL:https://www.admolinos.org/evento/taller-entrevistas-de-trabajo-2/
CATEGORIES:Empleo,Taller empleo
END:VEVENT
BEGIN:VEVENT
DTSTART;TZID=Europe/Madrid:20241126T000000
DTEND;TZID=Europe/Madrid:20241126T000000
DTSTAMP:20260423T072120
CREATED:20241106T104256Z
LAST-MODIFIED:20241106T104309Z
UID:15730-1732579200-1732579200@www.admolinos.org
SUMMARY:Curso OFIMÁTICA BÁSICA DE GESTIÓN
DESCRIPTION:Fechas: Del 26 de noviembre al 17 de diciembre de 2024.\nHorario: ¡A tu ritmo!\nDuración: 60 horas\nModalidad: Online\nDirigido: Personas desempleadas inscritas como demandantes de empleo en cualquier Oficina de Empleo a nivel NACIONAL.\nRequisitos: Teléfono\, tablet u ordenador con conexión a internet. Conocimientos de español nivel medio.\nContenido: Con esta formación aprenderás a utilizar aplicaciones ofimáticas básicas como Hojas de cálculo (Excel)\, Bases de datos (Access)\, Presentaciones gráficas (Power Point) y navegación en internet.\nInscripciones: rellena el FORMULARIO.\nColabora: aprendea
URL:https://www.admolinos.org/evento/curso-ofimatica-basica-de-gestion/
CATEGORIES:Cursos,Empleo,Formación empleo
END:VEVENT
BEGIN:VEVENT
DTSTART;TZID=Europe/Madrid:20241126T000000
DTEND;TZID=Europe/Madrid:20241126T000000
DTSTAMP:20260423T072120
CREATED:20241106T104452Z
LAST-MODIFIED:20241106T104452Z
UID:15733-1732579200-1732579200@www.admolinos.org
SUMMARY:Curso HERRAMIENTAS COLABORATIVAS
DESCRIPTION:Fechas: Del 26 de noviembre al 17 de diciembre de 2024.\nHorario: ¡A tu ritmo!\nDuración: 60 horas\nModalidad: Online\nDirigido: Personas desempleadas inscritas como demandantes de empleo en cualquier Oficina de Empleo a nivel NACIONAL.\nRequisitos: Teléfono\, tablet u ordenador con conexión a internet. Conocimientos de español nivel medio.\nContenido: Con este curso serás capaz de configurar los sistemas operativos más habituales\, a crear contenido\, tratar información con herramientas colaborativas y a comunicarte de forma correcta y segura con ellas.\nInscripciones: rellena el FORMULARIO.\nColabora: aprendea
URL:https://www.admolinos.org/evento/curso-herramientas-colaborativas/
CATEGORIES:Cursos,Empleo,Formación empleo
END:VEVENT
BEGIN:VEVENT
DTSTART;TZID=Europe/Madrid:20241126T000000
DTEND;TZID=Europe/Madrid:20241126T000000
DTSTAMP:20260423T072120
CREATED:20241106T104647Z
LAST-MODIFIED:20241106T104647Z
UID:15735-1732579200-1732579200@www.admolinos.org
SUMMARY:Curso DESARROLLO ÁGIL DE PROYECTOS DIGITALES
DESCRIPTION:Fechas: Del 26 de noviembre al 17 de diciembre de 2024.\nHorario: ¡A tu ritmo!\nDuración: 60 horas\nModalidad: Online\nDirigido: Personas desempleadas inscritas como demandantes de empleo en cualquier Oficina de Empleo a nivel NACIONAL.\nRequisitos: Teléfono\, tablet u ordenador con conexión a internet. Conocimientos de español nivel medio.\nContenido: Con este curso desarrollarás tus competencias digitales para ser capaz de crear modelos de negocio con metodologías ágiles y propuestas de valor actuales.\nInscripciones: rellena el FORMULARIO.\nColabora: aprendea
URL:https://www.admolinos.org/evento/curso-desarrollo-agil-de-proyectos-digitales/
CATEGORIES:Cursos,Empleo,Formación empleo
END:VEVENT
BEGIN:VEVENT
DTSTART;TZID=Europe/Madrid:20241126T000000
DTEND;TZID=Europe/Madrid:20241126T000000
DTSTAMP:20260423T072120
CREATED:20241106T104839Z
LAST-MODIFIED:20241106T104839Z
UID:15737-1732579200-1732579200@www.admolinos.org
SUMMARY:Curso BIG DATA Y BUSINESS INTELLIGENCE
DESCRIPTION:Fechas: Del 26 de noviembre al 17 de diciembre de 2024.\nHorario: ¡A tu ritmo!\nDuración: 60 horas\nModalidad: Online\nDirigido: Personas desempleadas inscritas como demandantes de empleo en cualquier Oficina de Empleo a nivel NACIONAL.\nRequisitos: Teléfono\, tablet u ordenador con conexión a internet. Conocimientos de español nivel medio.\nContenido: Con este curso aprenderás los fundamentos del Big Data y el Business Intelligence y sabrás aplicarlos de una forma estratégica en tu organización para obtener los resultados esperados.\nInscripciones: rellena el FORMULARIO.\nColabora: aprendea
URL:https://www.admolinos.org/evento/curso-big-data-y-business-intelligence/
CATEGORIES:Cursos,Empleo,Formación empleo
END:VEVENT
BEGIN:VEVENT
DTSTART;TZID=Europe/Madrid:20241128T100000
DTEND;TZID=Europe/Madrid:20241128T120000
DTSTAMP:20260423T072120
CREATED:20241106T103458Z
LAST-MODIFIED:20241106T103458Z
UID:15726-1732788000-1732795200@www.admolinos.org
SUMMARY:Taller Online ¿SABES SI PODRÍAS COBRAR EL IMV?
DESCRIPTION:Día: 28 de noviembre de 2024\nHorario: de 10:00 a 12:00h\nLugar: Vía ZOOM\nDirigido: Personas residentes en la COMUNIDAD DE MADRID\, en búsqueda activa de empleo y en situación vulnerable.\nContenido: Sesión donde\, con un lenguaje sencillo\, veremos cuáles son los requisitos para poder cobrar el Ingreso Mínimo Vital (IMV) y los trámites y documentación necesaria para solicitarlo.\nRequisitos: Teléfono/ordenador con conexión a internet. Conocimientos de español nivel medio. Estar inscrita/o en el Servicio de Empleo de Asociación AD Los Molinos.\nInscripciones: Rellena el FORMULARIO.\n\n 
URL:https://www.admolinos.org/evento/taller-online-sabes-si-podrias-cobrar-el-imv-2/
CATEGORIES:Empleo,Taller empleo
END:VEVENT
BEGIN:VEVENT
DTSTART;TZID=Europe/Madrid:20241129T120000
DTEND;TZID=Europe/Madrid:20241129T140000
DTSTAMP:20260423T072120
CREATED:20241106T103741Z
LAST-MODIFIED:20241106T103741Z
UID:15728-1732881600-1732888800@www.admolinos.org
SUMMARY:Aula digital EL ESCORIAL
DESCRIPTION:Día: 29 de noviembre de 2024\nHorario: de 12:00 a 14:00h\nLugar: El Escorial (Madrid)\nDirigido: Personas residentes en la COMUNIDAD DE MADRID\, en búsqueda activa de empleo y en situación vulnerable.\nContenido: Sesión práctica para mejorar las competencias digitales relacionadas con el almacenamiento de archivos en la nube\, el registro en webs de empleo\, la realización de trámites administrativos online\, etc.\nRequisitos: Conocimientos de español nivel medio. Estar inscrita/o en el Servicio de Empleo de Asociación AD Los Molinos.\nColabora: Ayuntamiento de El Escorial\nInscripciones: rellena el FORMULARIO
URL:https://www.admolinos.org/evento/aula-digital-el-escorial-20/
CATEGORIES:Empleo,Taller empleo
END:VEVENT
END:VCALENDAR