BEGIN:VCALENDAR
VERSION:2.0
PRODID:-//AD Los Molinos, Asociación - ECPv6.15.18//NONSGML v1.0//EN
CALSCALE:GREGORIAN
METHOD:PUBLISH
X-WR-CALNAME:AD Los Molinos, Asociación
X-ORIGINAL-URL:https://www.admolinos.org
X-WR-CALDESC:Eventos para AD Los Molinos, Asociación
REFRESH-INTERVAL;VALUE=DURATION:PT1H
X-Robots-Tag:noindex
X-PUBLISHED-TTL:PT1H
BEGIN:VTIMEZONE
TZID:Europe/Madrid
BEGIN:DAYLIGHT
TZOFFSETFROM:+0100
TZOFFSETTO:+0200
TZNAME:CEST
DTSTART:20240331T010000
END:DAYLIGHT
BEGIN:STANDARD
TZOFFSETFROM:+0200
TZOFFSETTO:+0100
TZNAME:CET
DTSTART:20241027T010000
END:STANDARD
BEGIN:DAYLIGHT
TZOFFSETFROM:+0100
TZOFFSETTO:+0200
TZNAME:CEST
DTSTART:20250330T010000
END:DAYLIGHT
BEGIN:STANDARD
TZOFFSETFROM:+0200
TZOFFSETTO:+0100
TZNAME:CET
DTSTART:20251026T010000
END:STANDARD
BEGIN:DAYLIGHT
TZOFFSETFROM:+0100
TZOFFSETTO:+0200
TZNAME:CEST
DTSTART:20260329T010000
END:DAYLIGHT
BEGIN:STANDARD
TZOFFSETFROM:+0200
TZOFFSETTO:+0100
TZNAME:CET
DTSTART:20261025T010000
END:STANDARD
END:VTIMEZONE
BEGIN:VEVENT
DTSTART;TZID=Europe/Madrid:20250306T100000
DTEND;TZID=Europe/Madrid:20250306T120000
DTSTAMP:20260423T020459
CREATED:20250303T110456Z
LAST-MODIFIED:20250303T110456Z
UID:16010-1741255200-1741262400@www.admolinos.org
SUMMARY:Taller Online: TU CERTIFICADO DIGITAL DE FORMA FÁCIL EN TU MÓVIL
DESCRIPTION:Día: 6 de marzo de 2025\nHorario: de 10:00 a 12:00h\nLugar: Vía ZOOM\nDirigido: Personas residentes en la COMUNIDAD DE MADRID\, en búsqueda activa de empleo y en situación vulnerable\nContenido: Acompañamiento en la solicitud\, instalación en el teléfono móvil e indicaciones sobre los múltiples usos del Certificado Digital: acceder a la vida laboral\, tramitar becas y ayudas económicas\, consultar expedientes en Extranjería\, Agencia Tributaria\, etc.\nRequisitos: Conocimientos de español nivel medio. Estar inscrita/o en el Servicio de Empleo de Asociación AD Los Molinos. Disponer de teléfono\, tablet u ordenador con conexión a internet.\nInscripciones: Rellena el FORMULARIO.
URL:https://www.admolinos.org/evento/taller-online-tu-certificado-digital-de-forma-facil-en-tu-movil/
CATEGORIES:Empleo,Taller empleo
END:VEVENT
BEGIN:VEVENT
DTSTART;TZID=Europe/Madrid:20250311T000000
DTEND;TZID=Europe/Madrid:20250311T000000
DTSTAMP:20260423T020459
CREATED:20250303T112822Z
LAST-MODIFIED:20250303T112822Z
UID:16033-1741651200-1741651200@www.admolinos.org
SUMMARY:Curso OFIMÁTICA BÁSICA DE GESTIÓN
DESCRIPTION:Fechas: Del 11 al 31 de marzo de 2025.\nHorario: ¡A tu ritmo!\nDuración: 60 horas\nModalidad: Online\nDirigido: Personas desempleadas inscritas como demandantes de empleo en cualquier Oficina de Empleo a nivel NACIONAL.\nRequisitos: Teléfono\, tablet u ordenador con conexión a internet. Conocimientos de español nivel medio.\nContenido: Con esta formación aprenderás a utilizar aplicaciones ofimáticas básicas como Hojas de cálculo (Excel)\, Bases de datos (Access)\, Presentaciones gráficas (Power Point) y navegación en internet.\nInscripciones: rellena el FORMULARIO.\nColabora: aprendea
URL:https://www.admolinos.org/evento/curso-ofimatica-basica-de-gestion-3/
CATEGORIES:Cursos,Empleo,Formación empleo
END:VEVENT
BEGIN:VEVENT
DTSTART;TZID=Europe/Madrid:20250311T000000
DTEND;TZID=Europe/Madrid:20250311T000000
DTSTAMP:20260423T020459
CREATED:20250303T113002Z
LAST-MODIFIED:20250303T113002Z
UID:16035-1741651200-1741651200@www.admolinos.org
SUMMARY:Curso HERRAMIENTAS COLABORATIVAS
DESCRIPTION:Fechas: Del 11 al 31 de marzo de 2025.\nHorario: ¡A tu ritmo!\nDuración: 60 horas\nModalidad: Online\nDirigido: Personas desempleadas inscritas como demandantes de empleo en cualquier Oficina de Empleo a nivel NACIONAL.\nRequisitos: Teléfono\, tablet u ordenador con conexión a internet. Conocimientos de español nivel medio.\nContenido: Con este curso serás capaz de configurar los sistemas operativos más habituales\, a crear contenido\, tratar información con herramientas colaborativas y a comunicarte de forma correcta y segura con ellas.\nInscripciones: rellena el FORMULARIO.\nColabora: aprendea
URL:https://www.admolinos.org/evento/curso-herramientas-colaborativas-3/
CATEGORIES:Cursos,Empleo,Formación empleo
END:VEVENT
BEGIN:VEVENT
DTSTART;TZID=Europe/Madrid:20250311T000000
DTEND;TZID=Europe/Madrid:20250311T000000
DTSTAMP:20260423T020459
CREATED:20250303T113140Z
LAST-MODIFIED:20250303T113140Z
UID:16037-1741651200-1741651200@www.admolinos.org
SUMMARY:Curso DESARROLLO ÁGIL DE PROYECTOS DIGITALES
DESCRIPTION:Fechas: Del 11 al 31 de marzo de 2025.\nHorario: ¡A tu ritmo!\nDuración: 60 horas\nModalidad: Online\nDirigido: Personas desempleadas inscritas como demandantes de empleo en cualquier Oficina de Empleo a nivel NACIONAL.\nRequisitos: Teléfono\, tablet u ordenador con conexión a internet. Conocimientos de español nivel medio.\nContenido: Con este curso desarrollarás tus competencias digitales para ser capaz de crear modelos de negocio con metodologías ágiles y propuestas de valor actuales.\nInscripciones: rellena el FORMULARIO.\nColabora: aprendea
URL:https://www.admolinos.org/evento/curso-desarrollo-agil-de-proyectos-digitales-3/
CATEGORIES:Cursos,Empleo,Formación empleo
END:VEVENT
BEGIN:VEVENT
DTSTART;TZID=Europe/Madrid:20250311T000000
DTEND;TZID=Europe/Madrid:20250311T000000
DTSTAMP:20260423T020459
CREATED:20250303T113357Z
LAST-MODIFIED:20250303T113357Z
UID:16039-1741651200-1741651200@www.admolinos.org
SUMMARY:Curso BIG DATA Y BUSINESS INTELLIGENCE
DESCRIPTION:Fechas: Del 11 al 31 de marzo de 2025.\nHorario: ¡A tu ritmo!\nDuración: 60 horas\nModalidad: Online\nDirigido: Personas desempleadas inscritas como demandantes de empleo en cualquier Oficina de Empleo a nivel NACIONAL.\nRequisitos: Teléfono\, tablet u ordenador con conexión a internet. Conocimientos de español nivel medio.\nContenido: Con este curso aprenderás los fundamentos del Big Data y el Business Intelligence y sabrás aplicarlos de una forma estratégica en tu organización para obtener los resultados esperados.\nInscripciones: rellena el FORMULARIO.\nColabora: aprendea
URL:https://www.admolinos.org/evento/curso-big-data-y-business-intelligence-3/
CATEGORIES:Cursos,Empleo,Formación empleo
END:VEVENT
BEGIN:VEVENT
DTSTART;TZID=Europe/Madrid:20250320T100000
DTEND;TZID=Europe/Madrid:20250320T120000
DTSTAMP:20260423T020459
CREATED:20250303T110815Z
LAST-MODIFIED:20250303T110815Z
UID:16020-1742464800-1742472000@www.admolinos.org
SUMMARY:Taller Online: BECAS Y AYUDAS PARA LA FORMACIÓN
DESCRIPTION:Día: 20 de marzo de 2025\nHorario: de 10:00 a 12:00h\nLugar: Vía ZOOM\nDirigido: Personas residentes en la COMUNIDAD DE MADRID\, en búsqueda activa de empleo y en situación vulnerable\nContenido: Información muy práctica sobre las principales ayudas públicas para cursar cualquier nivel educativo\, cómo cumplimentar los formularios\, documentación que hay que aportar\, plazos de presentación\, etc.\nRequisitos: Conocimientos de español nivel medio. Estar inscrita/o en el Servicio de Empleo de Asociación AD Los Molinos. Disponer de teléfono\, tablet u ordenador con conexión a internet.\nInscripciones: Rellena el FORMULARIO.
URL:https://www.admolinos.org/evento/taller-online-becas-y-ayudas-para-la-formacion-2/
CATEGORIES:Empleo,Taller empleo
END:VEVENT
BEGIN:VEVENT
DTSTART;TZID=Europe/Madrid:20250328T120000
DTEND;TZID=Europe/Madrid:20250328T140000
DTSTAMP:20260423T020459
CREATED:20250303T112012Z
LAST-MODIFIED:20250303T112012Z
UID:16022-1743163200-1743170400@www.admolinos.org
SUMMARY:Aula digital EL ESCORIAL
DESCRIPTION:Día: 28 de marzo de 2025\nHorario: de 12:00 a 14:00h\nLugar: El Escorial (Madrid)\nDirigido: Personas residentes en la COMUNIDAD DE MADRID\, en búsqueda activa de empleo y en situación vulnerable.\nContenido: Sesión práctica para mejorar las competencias digitales relacionadas con el almacenamiento de archivos en la nube\, el registro en webs de empleo\, la realización de trámites adminsitrativos online\, etc.\nRequisitos: Conocimientos de español nivel medio. Estar inscrita/o en el Servicio de Empleo de Asociación AD Los Molinos.\nColabora: Ayuntamiento de El Escorial\nInscripciones: rellena el FORMULARIO
URL:https://www.admolinos.org/evento/aula-digital-el-escorial-22/
CATEGORIES:Empleo,Taller empleo
END:VEVENT
END:VCALENDAR