BEGIN:VCALENDAR
VERSION:2.0
PRODID:-//AD Los Molinos, Asociación - ECPv6.15.18//NONSGML v1.0//EN
CALSCALE:GREGORIAN
METHOD:PUBLISH
X-ORIGINAL-URL:https://www.admolinos.org
X-WR-CALDESC:Eventos para AD Los Molinos, Asociación
REFRESH-INTERVAL;VALUE=DURATION:PT1H
X-Robots-Tag:noindex
X-PUBLISHED-TTL:PT1H
BEGIN:VTIMEZONE
TZID:Europe/Madrid
BEGIN:DAYLIGHT
TZOFFSETFROM:+0100
TZOFFSETTO:+0200
TZNAME:CEST
DTSTART:20240331T010000
END:DAYLIGHT
BEGIN:STANDARD
TZOFFSETFROM:+0200
TZOFFSETTO:+0100
TZNAME:CET
DTSTART:20241027T010000
END:STANDARD
BEGIN:DAYLIGHT
TZOFFSETFROM:+0100
TZOFFSETTO:+0200
TZNAME:CEST
DTSTART:20250330T010000
END:DAYLIGHT
BEGIN:STANDARD
TZOFFSETFROM:+0200
TZOFFSETTO:+0100
TZNAME:CET
DTSTART:20251026T010000
END:STANDARD
BEGIN:DAYLIGHT
TZOFFSETFROM:+0100
TZOFFSETTO:+0200
TZNAME:CEST
DTSTART:20260329T010000
END:DAYLIGHT
BEGIN:STANDARD
TZOFFSETFROM:+0200
TZOFFSETTO:+0100
TZNAME:CET
DTSTART:20261025T010000
END:STANDARD
END:VTIMEZONE
BEGIN:VEVENT
DTSTART;TZID=Europe/Madrid:20250401T080000
DTEND;TZID=Europe/Madrid:20250401T170000
DTSTAMP:20260423T004908
CREATED:20250401T111555Z
LAST-MODIFIED:20250401T111555Z
UID:16205-1743494400-1743526800@www.admolinos.org
SUMMARY:Curso BIG DATA Y BUSINESS INTELLIGENCE
DESCRIPTION:Fechas: Del 1 al 25 de abril de 2025.\nHorario: ¡A tu ritmo!\nDuración: 60 horas\nModalidad: Online\nDirigido: Personas desempleadas inscritas como demandantes de empleo en cualquier Oficina de Empleo a nivel NACIONAL.\nRequisitos: Teléfono\, tablet u ordenador con conexión a internet. Conocimientos de español nivel medio.\nContenido: Con este curso aprenderás los fundamentos del Big Data y el Business Intelligence y sabrás aplicarlos de una forma estratégica en tu organización para obtener los resultados esperados.\nInscripciones: rellena el FORMULARIO.\nColabora: aprendea
URL:https://www.admolinos.org/evento/curso-big-data-y-business-intelligence-4/
CATEGORIES:Cursos,Empleo,Formación empleo
END:VEVENT
BEGIN:VEVENT
DTSTART;TZID=Europe/Madrid:20250410T100000
DTEND;TZID=Europe/Madrid:20250410T120000
DTSTAMP:20260423T004908
CREATED:20250401T094731Z
LAST-MODIFIED:20250401T094731Z
UID:16173-1744279200-1744286400@www.admolinos.org
SUMMARY:Taller Online: ENCUENTRA EMPLEO CON TU MÓVIL
DESCRIPTION:Día: 10 de abril de 2025\nHorario: de 10:00 a 12:00h\nLugar: Vía ZOOM\nDirigido: Personas residentes en la COMUNIDAD DE MADRID\, en búsqueda activa de empleo y en situación vulnerable.\nContenido: Formación muy práctica sobre las principales aplicaciones móviles para la búsqueda de empleo y cómo mejorar tu perfil en redes sociales y la utilización de estas redes para la localización y gestión de ofertas de empleo.\nRequisitos: Conocimientos de español nivel medio. Teléfono/ordenador con conexión a internet. Estar inscrita/o en el Servicio de Empleo de Asociación AD Los Molinos.\nInscripciones: Rellena el FORMULARIO.
URL:https://www.admolinos.org/evento/taller-online-encuentra-empleo-con-tu-movil-2/
CATEGORIES:Empleo,Taller empleo
END:VEVENT
BEGIN:VEVENT
DTSTART;TZID=Europe/Madrid:20250422T093000
DTEND;TZID=Europe/Madrid:20250422T143000
DTSTAMP:20260423T004908
CREATED:20250131T102716Z
LAST-MODIFIED:20250131T102716Z
UID:15900-1745314200-1745332200@www.admolinos.org
SUMMARY:Inicio Curso AUX. DE MANTENIMIENTO DE JARDINES\, PARQUES Y ZONAS VERDES + MANIPULACIÓN DE PRODCUTOS FITOSANITARIOS  (carnet oficial)
DESCRIPTION:Fechas: Del 22 de abril al 10 de junio de 2025.\nHorario: 09:30 a 14:30h.\nDuración: 150 horas (incluye prácticas en empresas)\nLugar: Collado Villalba.\nDirigido: Personas inmigrantes con situación administrativa regularizada.\nRequisitos: Conocimientos de español nivel medio. Estar dado/a de alta en el Servicio de Empleo de Asociación AD Los Molinos.\nContenido: Curso teórico-práctico para adquirir las competencias necesarias para realizar el mantenimiento de elementos vegetales (riego\, abonado\, siega\, poda) Carnet oficial de Manipulación de productos Fitosanitarios (aplicación de productos fitosanitarios para el control de plagas y enfermedades en las plantas y normativa básica vigente).\nFecha límite de inscripción: 9 de abril de 2025\nInscripciones: rellena el FORMULARIO.
URL:https://www.admolinos.org/evento/inicio-curso-aux-de-mantenimiento-de-jardines-parques-y-zonas-verdes-manipulacion-de-prodcutos-fitosanitarios-carnet-oficial/
CATEGORIES:Cursos,Empleo,Formación empleo
END:VEVENT
BEGIN:VEVENT
DTSTART;TZID=Europe/Madrid:20250422T170000
DTEND;TZID=Europe/Madrid:20250422T200000
DTSTAMP:20260423T004908
CREATED:20250204T131226Z
LAST-MODIFIED:20250204T175637Z
UID:15976-1745341200-1745352000@www.admolinos.org
SUMMARY:Inicio Curso Técnico INSERCIÓN SOCIOLABORAL: gestión de la diversidad en el ámbito laboral 2025
DESCRIPTION:Fechas:  22 de Abril al 29 de Mayo 2025. \nModalidades:\nA.- VIRTUAL: Asistir al menos a 6 sesiones virtuales del total de 10 (martes y jueves\, 17 h.-20 h en zoom) + formación a través de plataforma. Imprescindible disponer de cámara (abierta) y micrófono para sesiones.\nB.- ON LINE: Formación a través de plataforma +  realizar un Trabajo Final de Curso (obligatorio).\nPlazas disponibles: 20 plazas modalidad VIRTUAL y 15 plazas modalidad ON LINE\nMás información: https://www.admolinos.org/formacion-tecnica/\nHoras: 100h \nDirigido a profesionales del ámbito social. personal y voluntarios/as de entidades sociales\, y a personas que deseen especializarse en este sector\, de Madrid y otras CCAA. \nINSCRIPCIÓN: Rellena el Formulario
URL:https://www.admolinos.org/evento/inicio-curso-tecnico-insercion-sociolaboral-gestion-de-la-diversidad-en-el-ambito-laboral-2025/
CATEGORIES:Cursos,Empleo,Formación técnica
END:VEVENT
BEGIN:VEVENT
DTSTART;TZID=Europe/Madrid:20250424T100000
DTEND;TZID=Europe/Madrid:20250424T113000
DTSTAMP:20260423T004908
CREATED:20250401T100727Z
LAST-MODIFIED:20250401T100727Z
UID:16183-1745488800-1745494200@www.admolinos.org
SUMMARY:Taller: ¿QUIERES PAGAR MENOS EN LA FACTURA DE LA LUZ?
DESCRIPTION:Día: 24 de abril de 2025\nHorario: de 10:00 a 11:30h\nLugar: El Escorial (Madrid)\nDirigido: Personas residentes en la COMUNIDAD DE MADRID\, en búsqueda activa de empleo y en situación vulnerable.\nContenido: Taller con la Fundación Naturgy para entender mejor la factura de la luz y aprender algunos trucos para ahorrar en el consumo de electricidad. Además\, te contaremos qué es el bono social eléctrico\, si tienes derecho a él y cómo solicitarlo.\nRequisitos: Conocimientos de español nivel medio. Estar inscrita/o en el Servicio de Empleo/Integración de Asociación AD Los Molinos.\nColabora: Ayuntamiento de El Escorial y Fundación Naturgy\nInscripciones: rellena el FORMULARIO
URL:https://www.admolinos.org/evento/taller-quieres-pagar-menos-en-la-factura-de-la-luz/
CATEGORIES:Empleo,Taller empleo
END:VEVENT
BEGIN:VEVENT
DTSTART;TZID=Europe/Madrid:20250425T120000
DTEND;TZID=Europe/Madrid:20250425T140000
DTSTAMP:20260423T004908
CREATED:20250401T101243Z
LAST-MODIFIED:20250401T101243Z
UID:16187-1745582400-1745589600@www.admolinos.org
SUMMARY:Aula digital EL ESCORIAL
DESCRIPTION:Día: 25 de abril de 2025\nHorario: de 12:00 a 14:00h\nLugar: El Escorial (Madrid)\nDirigido: Personas residentes en la COMUNIDAD DE MADRID\, en búsqueda activa de empleo y en situación vulnerable.\nContenido: Sesión práctica para mejorar las competencias digitales relacionadas con el almacenamiento de archivos en la nube\, el registro en webs de empleo\, la realización de trámites administrativos online\, etc.\nRequisitos: Conocimientos de español nivel medio. Estar inscrita/o en el Servicio de Empleo de Asociación AD Los Molinos.\nColabora: Ayuntamiento de El Escorial\nInscripciones: rellena el FORMULARIO
URL:https://www.admolinos.org/evento/aula-digital-el-escorial-23/
CATEGORIES:Empleo,Taller empleo
END:VEVENT
BEGIN:VEVENT
DTSTART;TZID=Europe/Madrid:20250429T100000
DTEND;TZID=Europe/Madrid:20250429T120000
DTSTAMP:20260423T004908
CREATED:20250401T104435Z
LAST-MODIFIED:20250401T104435Z
UID:16189-1745920800-1745928000@www.admolinos.org
SUMMARY:Taller Online: BECAS Y AYUDAS PARA LA FORMACIÓN
DESCRIPTION:Día: 29 de abril de 2025\nHorario: de 10:00 a 12:00h\nLugar: Vía ZOOM\nDirigido: Personas residentes en la COMUNIDAD DE MADRID\, en búsqueda activa de empleo y en situación vulnerable.\nContenido: Información muy práctica sobre las principales ayudas públicas para cursar cualquier nivel educativo\, cómo cumplimentar los formularios\, documentación que hay que aportar\, plazos de presentación\, etc.\nRequisitos: Conocimientos de español nivel medio. Estar inscrita/o en el Servicio de Empleo de Asociación AD Los Molinos. Disponer de teléfono\, tablet u ordenador con conexión a internet.\nInscripciones: Rellena el FORMULARIO.
URL:https://www.admolinos.org/evento/taller-online-becas-y-ayudas-para-la-formacion-3/
CATEGORIES:Empleo,Taller empleo
END:VEVENT
END:VCALENDAR