BEGIN:VCALENDAR
VERSION:2.0
PRODID:-//AD Los Molinos, Asociación - ECPv6.15.18//NONSGML v1.0//EN
CALSCALE:GREGORIAN
METHOD:PUBLISH
X-WR-CALNAME:AD Los Molinos, Asociación
X-ORIGINAL-URL:https://www.admolinos.org
X-WR-CALDESC:Eventos para AD Los Molinos, Asociación
REFRESH-INTERVAL;VALUE=DURATION:PT1H
X-Robots-Tag:noindex
X-PUBLISHED-TTL:PT1H
BEGIN:VTIMEZONE
TZID:Europe/Madrid
BEGIN:DAYLIGHT
TZOFFSETFROM:+0100
TZOFFSETTO:+0200
TZNAME:CEST
DTSTART:20240331T010000
END:DAYLIGHT
BEGIN:STANDARD
TZOFFSETFROM:+0200
TZOFFSETTO:+0100
TZNAME:CET
DTSTART:20241027T010000
END:STANDARD
BEGIN:DAYLIGHT
TZOFFSETFROM:+0100
TZOFFSETTO:+0200
TZNAME:CEST
DTSTART:20250330T010000
END:DAYLIGHT
BEGIN:STANDARD
TZOFFSETFROM:+0200
TZOFFSETTO:+0100
TZNAME:CET
DTSTART:20251026T010000
END:STANDARD
BEGIN:DAYLIGHT
TZOFFSETFROM:+0100
TZOFFSETTO:+0200
TZNAME:CEST
DTSTART:20260329T010000
END:DAYLIGHT
BEGIN:STANDARD
TZOFFSETFROM:+0200
TZOFFSETTO:+0100
TZNAME:CET
DTSTART:20261025T010000
END:STANDARD
END:VTIMEZONE
BEGIN:VEVENT
DTSTART;TZID=Europe/Madrid:20251103T000000
DTEND;TZID=Europe/Madrid:20251103T000000
DTSTAMP:20260422T142156
CREATED:20251103T135348Z
LAST-MODIFIED:20251103T135414Z
UID:16992-1762128000-1762128000@www.admolinos.org
SUMMARY:Cursos de IDIOMAS
DESCRIPTION:Fecha inicio: Varias fechas de inicio\nHorario: ¡A tu ritmo!\nDuración: Diversas duraciones\nModalidad: Online\nDirigido: Personas residentes o trabajando en la COMUNIDAD DE MADRID. Hay cursos tanto para personas desempleadas como para trabajadoras/es en activo.\nRequisitos: Teléfono\, tablet u ordenador con conexión a internet. Consultar requisitos de cada curso en concreto.\nContenido: Mejora tus conocimientos de FRANCÉS\, ALEMÁN\, ITALIANO Y/O CHINO con cursos muy prácticos que incluyen actividades de escucha\, pronunciación\, lectura y escritura. Elige el nivel que más te interese ¡y adelante!\nFechas de inscripción: Varias ediciones. Plazo de inscripción abierto.\nInscripciones: rellena el FORMULARIO.\nColabora: aprendea
URL:https://www.admolinos.org/evento/cursos-de-idiomas-3/
CATEGORIES:Cursos,Empleo,Formación empleo
END:VEVENT
BEGIN:VEVENT
DTSTART;TZID=Europe/Madrid:20251112T100000
DTEND;TZID=Europe/Madrid:20251112T113000
DTSTAMP:20260422T142156
CREATED:20251103T132607Z
LAST-MODIFIED:20251103T132607Z
UID:16964-1762941600-1762947000@www.admolinos.org
SUMMARY:Taller ¿QUIERES PAGAR MENOS EN LA FACTURA DE LA LUZ?
DESCRIPTION:Día: 12 de noviembre de 2025\nHorario: de 10:00 a 11:30h\nLugar: Madrid\, Zona metro Abrantes (línea 12)\nDirigido: Personas residentes en la COMUNIDAD DE MADRID\, en búsqueda activa de empleo y en situación vulnerable.\nContenido: Taller con la Fundación Naturgy para entender mejor la factura de la luz y aprender algunos trucos para ahorrar en el consumo de electricidad. Además\, te contaremos qué es el bono social eléctrico\, si tienes derecho a él y cómo solicitarlo.\nRequisitos: Conocimientos de español nivel medio. Estar inscrita/o en el Servicio de Empleo/Integración de Asociación AD Los Molinos.\nInscripciones: rellena el FORMULARIO\nFecha límite inscripción: 10 de noviembre de 2025
URL:https://www.admolinos.org/evento/taller-quieres-pagar-menos-en-la-factura-de-la-luz-3/
CATEGORIES:Empleo,Taller empleo
END:VEVENT
BEGIN:VEVENT
DTSTART;TZID=Europe/Madrid:20251119T100000
DTEND;TZID=Europe/Madrid:20251119T120000
DTSTAMP:20260422T142156
CREATED:20251103T132957Z
LAST-MODIFIED:20251103T132957Z
UID:16976-1763546400-1763553600@www.admolinos.org
SUMMARY:Taller "VIOLENCIA ECONÓMICA"
DESCRIPTION:Día: 19 de noviembre de 2025\nHorario: de 10:00 a 12:00h\nLugar: Madrid\, Zona metro Abrantes (línea 12)\nDirigido: Personas residentes en la COMUNIDAD DE MADRID\, en búsqueda activa de empleo y en situación vulnerable.\nContenido: La violencia económica se produce cuando a las mujeres se les controla o limita los ingresos económicos y la disposición de los mismos\, o cuando se las priva de los medios indispensables para vivir. Si quieres saber más sobre este tema y qué se puede hacer frente a él\, ¡ven a nuestro taller y te informamos!\nRequisitos: Conocimientos de español nivel medio. Estar inscrita/o en el Servicio de Empleo/Integración de Asociación AD Los Molinos.\nInscripciones: rellena el FORMULARIO\nFecha límite inscripción: 17 de noviembre de 2025
URL:https://www.admolinos.org/evento/taller-violencia-economica/
CATEGORIES:Empleo,Taller empleo
END:VEVENT
BEGIN:VEVENT
DTSTART;TZID=Europe/Madrid:20251127T100000
DTEND;TZID=Europe/Madrid:20251127T120000
DTSTAMP:20260422T142156
CREATED:20251103T133336Z
LAST-MODIFIED:20251103T133336Z
UID:16978-1764237600-1764244800@www.admolinos.org
SUMMARY:Taller Online: ORIENTA TU FORMACIÓN
DESCRIPTION:Día: 27 de noviembre de 2025\nHorario: de 10:00 a 12:00h\nLugar: Online\nDirigido: Personas residentes en la COMUNIDAD DE MADRID\, en búsqueda activa de empleo y en situación vulnerable.\nContenido: Información sobre diferentes opciones de formación gratuita para incrementar las oportunidades de conseguir empleo: formación ocupacional\, certificados de profesionalidad\, formación profesional\, etc.\nRequisitos: Conocimientos de español nivel medio. Disponer de smartphone\, tablet u ordenador con conexión a internet. Estar inscrita/o en el Servicio de Empleo de Asociación AD Los Molinos.\nInscripciones: Rellena el FORMULARIO.\nFecha límite inscripción: 25 de noviembre de 2025
URL:https://www.admolinos.org/evento/taller-online-orienta-tu-formacion-5/
CATEGORIES:Empleo,Taller empleo
END:VEVENT
BEGIN:VEVENT
DTSTART;TZID=Europe/Madrid:20251128T120000
DTEND;TZID=Europe/Madrid:20251128T140000
DTSTAMP:20260422T142156
CREATED:20251103T133642Z
LAST-MODIFIED:20251103T133642Z
UID:16980-1764331200-1764338400@www.admolinos.org
SUMMARY:Aula digital EL ESCORIAL
DESCRIPTION:Día: 28 de noviembre de 2025\nHorario: de 12:00 a 14:00h\nLugar: El Escorial (Madrid)\nDirigido: Personas residentes en la COMUNIDAD DE MADRID\, en búsqueda activa de empleo y en situación vulnerable.\nContenido: Sesión práctica para mejorar las competencias digitales relacionadas con el almacenamiento de archivos en la nube\, el registro en webs de empleo\, la realización de trámites administrativos online\, etc.\nRequisitos: Conocimientos de español nivel medio. Estar inscrita/o en el Servicio de Empleo de Asociación AD Los Molinos.\nColabora: Ayuntamiento de El Escorial\nInscripciones: rellena el FORMULARIO\nFecha límite inscripción: 26 de noviembre de 2025
URL:https://www.admolinos.org/evento/aula-digital-el-escorial-27/
CATEGORIES:Empleo,Taller empleo
END:VEVENT
END:VCALENDAR