BEGIN:VCALENDAR
VERSION:2.0
PRODID:-//AD Los Molinos, Asociación - ECPv6.15.18//NONSGML v1.0//EN
CALSCALE:GREGORIAN
METHOD:PUBLISH
X-WR-CALNAME:AD Los Molinos, Asociación
X-ORIGINAL-URL:https://www.admolinos.org
X-WR-CALDESC:Eventos para AD Los Molinos, Asociación
REFRESH-INTERVAL;VALUE=DURATION:PT1H
X-Robots-Tag:noindex
X-PUBLISHED-TTL:PT1H
BEGIN:VTIMEZONE
TZID:Europe/Helsinki
BEGIN:DAYLIGHT
TZOFFSETFROM:+0200
TZOFFSETTO:+0300
TZNAME:EEST
DTSTART:20210328T010000
END:DAYLIGHT
BEGIN:STANDARD
TZOFFSETFROM:+0300
TZOFFSETTO:+0200
TZNAME:EET
DTSTART:20211031T010000
END:STANDARD
BEGIN:DAYLIGHT
TZOFFSETFROM:+0200
TZOFFSETTO:+0300
TZNAME:EEST
DTSTART:20220327T010000
END:DAYLIGHT
BEGIN:STANDARD
TZOFFSETFROM:+0300
TZOFFSETTO:+0200
TZNAME:EET
DTSTART:20221030T010000
END:STANDARD
BEGIN:DAYLIGHT
TZOFFSETFROM:+0200
TZOFFSETTO:+0300
TZNAME:EEST
DTSTART:20230326T010000
END:DAYLIGHT
BEGIN:STANDARD
TZOFFSETFROM:+0300
TZOFFSETTO:+0200
TZNAME:EET
DTSTART:20231029T010000
END:STANDARD
END:VTIMEZONE
BEGIN:VEVENT
DTSTART;TZID=Europe/Helsinki:20221104T100000
DTEND;TZID=Europe/Helsinki:20221104T140000
DTSTAMP:20260424T162906
CREATED:20220912T131320Z
LAST-MODIFIED:20220927T122202Z
UID:12796-1667556000-1667570400@www.admolinos.org
SUMMARY:VIII Jornadas Estrategias de Empleo 2022
DESCRIPTION:«Impacto de los cambios normativos\, económicos y sociosanitarios en la inserción sociolaboral» \n\nDía: 4/11/2022\nHorario: de 10 a 14h.\nLugar: Caixa Forum Madrid\nModalidad mixta: Presencial hasta completar aforo y Virtual (retransmisión en streaming)\nDirigido a asociaciones y entidades sociales\, técnicos/as de empleo/autoempleo\, personas inmigrantes y a cualquier persona interesada.\nMás información: 91 591 23 36\n\nInscripción gratuita\, a través del enlace «Inscripción VIII Jornadas Estrategias Empleo«.
URL:https://www.admolinos.org/evento/viii-jornadas-estrategias-de-empleo-2022/
CATEGORIES:Autoempleo,Empleo,Jornadas
END:VEVENT
END:VCALENDAR