BEGIN:VCALENDAR
VERSION:2.0
PRODID:-//AD Los Molinos, Asociación - ECPv6.15.18//NONSGML v1.0//EN
CALSCALE:GREGORIAN
METHOD:PUBLISH
X-ORIGINAL-URL:https://www.admolinos.org
X-WR-CALDESC:Eventos para AD Los Molinos, Asociación
REFRESH-INTERVAL;VALUE=DURATION:PT1H
X-Robots-Tag:noindex
X-PUBLISHED-TTL:PT1H
BEGIN:VTIMEZONE
TZID:Europe/Helsinki
BEGIN:DAYLIGHT
TZOFFSETFROM:+0200
TZOFFSETTO:+0300
TZNAME:EEST
DTSTART:20210328T010000
END:DAYLIGHT
BEGIN:STANDARD
TZOFFSETFROM:+0300
TZOFFSETTO:+0200
TZNAME:EET
DTSTART:20211031T010000
END:STANDARD
BEGIN:DAYLIGHT
TZOFFSETFROM:+0200
TZOFFSETTO:+0300
TZNAME:EEST
DTSTART:20220327T010000
END:DAYLIGHT
BEGIN:STANDARD
TZOFFSETFROM:+0300
TZOFFSETTO:+0200
TZNAME:EET
DTSTART:20221030T010000
END:STANDARD
BEGIN:DAYLIGHT
TZOFFSETFROM:+0200
TZOFFSETTO:+0300
TZNAME:EEST
DTSTART:20230326T010000
END:DAYLIGHT
BEGIN:STANDARD
TZOFFSETFROM:+0300
TZOFFSETTO:+0200
TZNAME:EET
DTSTART:20231029T010000
END:STANDARD
END:VTIMEZONE
BEGIN:VEVENT
DTSTART;TZID=Europe/Helsinki:20221213T093000
DTEND;TZID=Europe/Helsinki:20221213T140000
DTSTAMP:20260424T152015
CREATED:20221201T104700Z
LAST-MODIFIED:20221201T104700Z
UID:13196-1670923800-1670940000@www.admolinos.org
SUMMARY:Taller Trabajando en digital
DESCRIPTION:Día: Del 13 al 15 de Diciembre de 2022\nHorario: de 09:30 a 14:00h\nDuración: 15 horas\nLugar: El Escorial (Madrid)\nDirigido: Personas residentes en la COMUNIDAD DE MADRID\, en búsqueda activa de empleo y en situación vulnerable.\nContenido: Sesión práctica para mejorar las competencias digitales relacionadas con el almacenamiento de archivos en la nube\, el registro en webs de empleo\, la realización de trámites administrativos online\, etc.\nColabora: Ayuntamiento de El Escorial y Fundación «la Caixa»\nInscripciones: rellena el FORMULARIO
URL:https://www.admolinos.org/evento/taller-trabajando-en-digital/
CATEGORIES:Empleo,Taller empleo
END:VEVENT
BEGIN:VEVENT
DTSTART;TZID=Europe/Helsinki:20221213T100000
DTEND;TZID=Europe/Helsinki:20221213T140000
DTSTAMP:20260424T152015
CREATED:20221201T105406Z
LAST-MODIFIED:20221212T150801Z
UID:13202-1670925600-1670940000@www.admolinos.org
SUMMARY:Taller BAE TIC
DESCRIPTION:Día: 13 de Diciembre de 2022\nHorario: de 10:00 a 14:00h\nLugar: Galapagar (Madrid)\nDirigido: Personas residentes en la COMUNIDAD DE MADRID\, en búsqueda activa de empleo y en situación vulnerable.\nContenido: Formación muy práctica sobre las principales aplicaciones móviles para la búsqueda de empleo y cómo mejorar tu perfil en redes sociales y la utilización de estas redes para la localización y gestión de ofertas de empleo.\nColabora: Ayuntamiento de Galapagar\nInscripciones: 619 40 61 93.
URL:https://www.admolinos.org/evento/taller-bae-tic/
CATEGORIES:Empleo,Taller empleo
END:VEVENT
END:VCALENDAR