BEGIN:VCALENDAR
VERSION:2.0
PRODID:-//AD Los Molinos, Asociación - ECPv6.15.18//NONSGML v1.0//EN
CALSCALE:GREGORIAN
METHOD:PUBLISH
X-ORIGINAL-URL:https://www.admolinos.org
X-WR-CALDESC:Eventos para AD Los Molinos, Asociación
REFRESH-INTERVAL;VALUE=DURATION:PT1H
X-Robots-Tag:noindex
X-PUBLISHED-TTL:PT1H
BEGIN:VTIMEZONE
TZID:Europe/Helsinki
BEGIN:DAYLIGHT
TZOFFSETFROM:+0200
TZOFFSETTO:+0300
TZNAME:EEST
DTSTART:20210328T010000
END:DAYLIGHT
BEGIN:STANDARD
TZOFFSETFROM:+0300
TZOFFSETTO:+0200
TZNAME:EET
DTSTART:20211031T010000
END:STANDARD
BEGIN:DAYLIGHT
TZOFFSETFROM:+0200
TZOFFSETTO:+0300
TZNAME:EEST
DTSTART:20220327T010000
END:DAYLIGHT
BEGIN:STANDARD
TZOFFSETFROM:+0300
TZOFFSETTO:+0200
TZNAME:EET
DTSTART:20221030T010000
END:STANDARD
BEGIN:DAYLIGHT
TZOFFSETFROM:+0200
TZOFFSETTO:+0300
TZNAME:EEST
DTSTART:20230326T010000
END:DAYLIGHT
BEGIN:STANDARD
TZOFFSETFROM:+0300
TZOFFSETTO:+0200
TZNAME:EET
DTSTART:20231029T010000
END:STANDARD
END:VTIMEZONE
BEGIN:VEVENT
DTSTART;TZID=Europe/Helsinki:20221219T100000
DTEND;TZID=Europe/Helsinki:20221219T120000
DTSTAMP:20260424T151955
CREATED:20221201T110440Z
LAST-MODIFIED:20221201T110440Z
UID:13204-1671444000-1671451200@www.admolinos.org
SUMMARY:Taller Búsqueda Activa de Empleo
DESCRIPTION:Día: 19 de Diciembre de 2022\nHorario: de 10:00 a 12:00h\nLugar: Madrid (metro: Pan Bendito)\nDirigido: Personas residentes en la COMUNIDAD DE MADRID\, en búsqueda activa de empleo y en situación vulnerable.\nContenido: Formación teórica sobre herramientas para la búsqueda activa de empleo: curriculum\, carta de presentación\, webs de empleo\, etc.\nInscripciones: rellena el FORMULARIO.
URL:https://www.admolinos.org/evento/taller-busqueda-activa-de-empleo/
CATEGORIES:Empleo,Taller empleo
END:VEVENT
BEGIN:VEVENT
DTSTART;TZID=Europe/Helsinki:20221219T120000
DTEND;TZID=Europe/Helsinki:20221219T140000
DTSTAMP:20260424T151955
CREATED:20221201T110749Z
LAST-MODIFIED:20221201T110822Z
UID:13208-1671451200-1671458400@www.admolinos.org
SUMMARY:Taller Entrevistas laborales
DESCRIPTION:Día: 19 de Diciembre de 2022\nHorario: de 12:00 a 14:00h\nLugar: Madrid (metro: Pan Bendito)\nDirigido: Personas residentes en la COMUNIDAD DE MADRID\, en búsqueda activa de empleo y en situación vulnerable.\nContenido: Formación teórica-práctica dirigida a adquirir los conocimientos y competencias necesarias para afrontar las entrevistas de selección con más posibilidades de éxito.\nInscripciones: rellena el FORMULARIO.
URL:https://www.admolinos.org/evento/taller-entrevistas-laborales-5/
CATEGORIES:Empleo,Taller empleo
END:VEVENT
END:VCALENDAR