BEGIN:VCALENDAR
VERSION:2.0
PRODID:-//AD Los Molinos, Asociación - ECPv6.15.18//NONSGML v1.0//EN
CALSCALE:GREGORIAN
METHOD:PUBLISH
X-ORIGINAL-URL:https://www.admolinos.org
X-WR-CALDESC:Eventos para AD Los Molinos, Asociación
REFRESH-INTERVAL;VALUE=DURATION:PT1H
X-Robots-Tag:noindex
X-PUBLISHED-TTL:PT1H
BEGIN:VTIMEZONE
TZID:Europe/Helsinki
BEGIN:DAYLIGHT
TZOFFSETFROM:+0200
TZOFFSETTO:+0300
TZNAME:EEST
DTSTART:20210328T010000
END:DAYLIGHT
BEGIN:STANDARD
TZOFFSETFROM:+0300
TZOFFSETTO:+0200
TZNAME:EET
DTSTART:20211031T010000
END:STANDARD
BEGIN:DAYLIGHT
TZOFFSETFROM:+0200
TZOFFSETTO:+0300
TZNAME:EEST
DTSTART:20220327T010000
END:DAYLIGHT
BEGIN:STANDARD
TZOFFSETFROM:+0300
TZOFFSETTO:+0200
TZNAME:EET
DTSTART:20221030T010000
END:STANDARD
BEGIN:DAYLIGHT
TZOFFSETFROM:+0200
TZOFFSETTO:+0300
TZNAME:EEST
DTSTART:20230326T010000
END:DAYLIGHT
BEGIN:STANDARD
TZOFFSETFROM:+0300
TZOFFSETTO:+0200
TZNAME:EET
DTSTART:20231029T010000
END:STANDARD
END:VTIMEZONE
BEGIN:VEVENT
DTSTART;TZID=Europe/Helsinki:20221220T100000
DTEND;TZID=Europe/Helsinki:20221220T120000
DTSTAMP:20260424T151958
CREATED:20221201T111206Z
LAST-MODIFIED:20221201T111206Z
UID:13212-1671530400-1671537600@www.admolinos.org
SUMMARY:Taller BAE TIC
DESCRIPTION:Día: 20 de Diciembre de 2022\nHorario: de 10:00 a 12:00h\nLugar: Madrid (metro: Pan Bendito)\nDirigido: Personas residentes en la COMUNIDAD DE MADRID\, en búsqueda activa de empleo y en situación vulnerable.\nContenido: Cómo mejorar tu perfil en redes sociales y la utilización de estas redes y aplicaciones móviles para la búsqueda de empleo.\nInscripciones: rellena el FORMULARIO.
URL:https://www.admolinos.org/evento/taller-bae-tic-2/
CATEGORIES:Empleo,Taller empleo
END:VEVENT
BEGIN:VEVENT
DTSTART;TZID=Europe/Helsinki:20221220T120000
DTEND;TZID=Europe/Helsinki:20221220T140000
DTSTAMP:20260424T151958
CREATED:20221201T111655Z
LAST-MODIFIED:20221201T111655Z
UID:13216-1671537600-1671544800@www.admolinos.org
SUMMARY:Taller sobre Homologación de estudios y Certificados de profesionalidad
DESCRIPTION:Día: 20 de Diciembre de 2022\nHorario: de 12:00 a 14:00h\nLugar: Madrid (metro: Pan Bendito)\nDirigido: Personas residentes en la COMUNIDAD DE MADRID\, en búsqueda activa de empleo y en situación vulnerable.\nContenido: Información sobre procedimientos\, trámites\, documentación necesaria\, etc. para homologar estudios extranjeros y/o cómo acceder al certificado de profesionalidad en la rama sociosanitaria.\nInscripciones: rellena el FORMULARIO.
URL:https://www.admolinos.org/evento/taller-sobre-homologacion-de-estudios-y-certificados-de-profesionalidad/
CATEGORIES:Empleo,Taller empleo
END:VEVENT
END:VCALENDAR