BEGIN:VCALENDAR
VERSION:2.0
PRODID:-//AD Los Molinos, Asociación - ECPv6.15.18//NONSGML v1.0//EN
CALSCALE:GREGORIAN
METHOD:PUBLISH
X-ORIGINAL-URL:https://www.admolinos.org
X-WR-CALDESC:Eventos para AD Los Molinos, Asociación
REFRESH-INTERVAL;VALUE=DURATION:PT1H
X-Robots-Tag:noindex
X-PUBLISHED-TTL:PT1H
BEGIN:VTIMEZONE
TZID:Europe/Helsinki
BEGIN:DAYLIGHT
TZOFFSETFROM:+0200
TZOFFSETTO:+0300
TZNAME:EEST
DTSTART:20220327T010000
END:DAYLIGHT
BEGIN:STANDARD
TZOFFSETFROM:+0300
TZOFFSETTO:+0200
TZNAME:EET
DTSTART:20221030T010000
END:STANDARD
BEGIN:DAYLIGHT
TZOFFSETFROM:+0200
TZOFFSETTO:+0300
TZNAME:EEST
DTSTART:20230326T010000
END:DAYLIGHT
BEGIN:STANDARD
TZOFFSETFROM:+0300
TZOFFSETTO:+0200
TZNAME:EET
DTSTART:20231029T010000
END:STANDARD
BEGIN:DAYLIGHT
TZOFFSETFROM:+0200
TZOFFSETTO:+0300
TZNAME:EEST
DTSTART:20240331T010000
END:DAYLIGHT
BEGIN:STANDARD
TZOFFSETFROM:+0300
TZOFFSETTO:+0200
TZNAME:EET
DTSTART:20241027T010000
END:STANDARD
END:VTIMEZONE
BEGIN:VEVENT
DTSTART;TZID=Europe/Helsinki:20230227T110000
DTEND;TZID=Europe/Helsinki:20230227T130000
DTSTAMP:20260424T113107
CREATED:20230207T142810Z
LAST-MODIFIED:20230207T142810Z
UID:13441-1677495600-1677502800@www.admolinos.org
SUMMARY:Taller ECHANDO CUENTAS…
DESCRIPTION:Día: 27 de febrero de 2023\nHorario: de 11:00 a 13:00h\nLugar: Madrid (zona metro Pan Bendito)\nDirigido: Personas residentes en la COMUNIDAD DE MADRID\, en búsqueda activa de empleo y en situación vulnerable.\nContenido: Sesión muy práctica donde una experta nos aconsejará sobre cómo gestionar mejor nuestro dinero para facilitar «llegar a fin de mes»\, poder ahorrar y las características de los diferentes tipos de tarjetas bancarias así como los tipos de préstamos y sus riesgos.\nRequisitos: Conocimientos de español nivel medio. Estar inscrita/o en el Servicio de Empleo de Asociación AD Los Molinos.\nInscripciones: rellena el FORMULARIO.
URL:https://www.admolinos.org/evento/taller-echando-cuentas/
CATEGORIES:Empleo,Taller empleo
END:VEVENT
END:VCALENDAR