BEGIN:VCALENDAR
VERSION:2.0
PRODID:-//AD Los Molinos, Asociación - ECPv6.15.18//NONSGML v1.0//EN
CALSCALE:GREGORIAN
METHOD:PUBLISH
X-ORIGINAL-URL:https://www.admolinos.org
X-WR-CALDESC:Eventos para AD Los Molinos, Asociación
REFRESH-INTERVAL;VALUE=DURATION:PT1H
X-Robots-Tag:noindex
X-PUBLISHED-TTL:PT1H
BEGIN:VTIMEZONE
TZID:Europe/Helsinki
BEGIN:DAYLIGHT
TZOFFSETFROM:+0200
TZOFFSETTO:+0300
TZNAME:EEST
DTSTART:20220327T010000
END:DAYLIGHT
BEGIN:STANDARD
TZOFFSETFROM:+0300
TZOFFSETTO:+0200
TZNAME:EET
DTSTART:20221030T010000
END:STANDARD
BEGIN:DAYLIGHT
TZOFFSETFROM:+0200
TZOFFSETTO:+0300
TZNAME:EEST
DTSTART:20230326T010000
END:DAYLIGHT
BEGIN:STANDARD
TZOFFSETFROM:+0300
TZOFFSETTO:+0200
TZNAME:EET
DTSTART:20231029T010000
END:STANDARD
BEGIN:DAYLIGHT
TZOFFSETFROM:+0200
TZOFFSETTO:+0300
TZNAME:EEST
DTSTART:20240331T010000
END:DAYLIGHT
BEGIN:STANDARD
TZOFFSETFROM:+0300
TZOFFSETTO:+0200
TZNAME:EET
DTSTART:20241027T010000
END:STANDARD
END:VTIMEZONE
BEGIN:VEVENT
DTSTART;TZID=Europe/Helsinki:20230322T110000
DTEND;TZID=Europe/Helsinki:20230322T130000
DTSTAMP:20260424T113750
CREATED:20230227T161217Z
LAST-MODIFIED:20230314T092742Z
UID:13495-1679482800-1679490000@www.admolinos.org
SUMMARY:Taller Online Mi banco y yo
DESCRIPTION:Día: 22 de marzo de 2023\nHorario: de 11:00 a 13:00h\nModalidad: ON LINE\nDirigido: Personas residentes en la COMUNIDAD DE MADRID\, en búsqueda activa de empleo y en situación vulnerable.\nRequisitos: Conocimientos de español nivel medio. Estar inscrita/o en el Servicio de Empleo de Asociación AD Los Molinos.\nContenido: Información muy práctica sobre las gestiones más habituales con los bancos: apertura y cancelación de cuentas\, cobro de comisiones\, tipos de tarjetas bancarias\, los tipos de préstamos y sus riesgos\, la banca online\, etc.\nCon la colaboración de: Voluntariado Caixabank\nInscripciones: rellena el FORMULARIO.
URL:https://www.admolinos.org/evento/taller-online-echando-cuentas/
CATEGORIES:Empleo,Taller empleo
END:VEVENT
END:VCALENDAR