BEGIN:VCALENDAR
VERSION:2.0
PRODID:-//AD Los Molinos, Asociación - ECPv6.15.18//NONSGML v1.0//EN
CALSCALE:GREGORIAN
METHOD:PUBLISH
X-ORIGINAL-URL:https://www.admolinos.org
X-WR-CALDESC:Eventos para AD Los Molinos, Asociación
REFRESH-INTERVAL;VALUE=DURATION:PT1H
X-Robots-Tag:noindex
X-PUBLISHED-TTL:PT1H
BEGIN:VTIMEZONE
TZID:Europe/Helsinki
BEGIN:DAYLIGHT
TZOFFSETFROM:+0200
TZOFFSETTO:+0300
TZNAME:EEST
DTSTART:20220327T010000
END:DAYLIGHT
BEGIN:STANDARD
TZOFFSETFROM:+0300
TZOFFSETTO:+0200
TZNAME:EET
DTSTART:20221030T010000
END:STANDARD
BEGIN:DAYLIGHT
TZOFFSETFROM:+0200
TZOFFSETTO:+0300
TZNAME:EEST
DTSTART:20230326T010000
END:DAYLIGHT
BEGIN:STANDARD
TZOFFSETFROM:+0300
TZOFFSETTO:+0200
TZNAME:EET
DTSTART:20231029T010000
END:STANDARD
BEGIN:DAYLIGHT
TZOFFSETFROM:+0200
TZOFFSETTO:+0300
TZNAME:EEST
DTSTART:20240331T010000
END:DAYLIGHT
BEGIN:STANDARD
TZOFFSETFROM:+0300
TZOFFSETTO:+0200
TZNAME:EET
DTSTART:20241027T010000
END:STANDARD
END:VTIMEZONE
BEGIN:VEVENT
DTSTART;TZID=Europe/Helsinki:20230323T100000
DTEND;TZID=Europe/Helsinki:20230323T120000
DTSTAMP:20260424T113355
CREATED:20230228T103642Z
LAST-MODIFIED:20230228T103642Z
UID:13516-1679565600-1679572800@www.admolinos.org
SUMMARY:Taller Online ENCUENTRA EMPLEO CON TU MÓVIL
DESCRIPTION:Día: 23 de marzo de 2023\nHorario: de 10:00 a 12:00h\nModalidad: ON LINE\nDirigido: Personas residentes en la COMUNIDAD DE MADRID\, en búsqueda activa de empleo y en situación vulnerable.\nRequisitos: Teléfono/ordenador con conexión a internet. Conocimientos de español nivel medio. Estar inscrita/o en el Servicio de Empleo de Asociación AD Los Molinos.\nContenido: Formación muy práctica sobre las principales aplicaciones móviles para la búsqueda de empleo y cómo mejorar tu perfil en redes sociales y la utilización de estas redes para la localización y gestión de ofertas de empleo.\nInscripciones: rellena el FORMULARIO.
URL:https://www.admolinos.org/evento/taller-online-encuentra-empleo-con-tu-movil/
CATEGORIES:Empleo,Taller empleo
END:VEVENT
BEGIN:VEVENT
DTSTART;TZID=Europe/Helsinki:20230323T170000
DTEND;TZID=Europe/Helsinki:20230323T200000
DTSTAMP:20260424T113355
CREATED:20230221T125131Z
LAST-MODIFIED:20230221T125131Z
UID:13470-1679590800-1679601600@www.admolinos.org
SUMMARY:Inicio Curso Técnico INSERCIÓN SOCIOLABORAL DE INMIGRANTES 2023
DESCRIPTION:Fechas: 28 de Mayo al 25 de Mayo 2023.\n\nModalidades:\nA.- VIRTUAL: Asistir al menos a 9 sesiones virtuales del total de 16 (martes y jueves\, 17 h.-20 h en zoom) + formación a través de plataforma. Imprescindible disponer de cámara (abierta) y micrófono para sesiones.\nB.- ON LINE: Formación a través de plataforma +  realizar un Trabajo Final de Curso (obligatorio).\n\n\nPlazas disponibles: 20 plazas modalidad VIRTUAL y 15 plazas modalidad ON LINE\n\n\nMás información: https://www.admolinos.org/formacion-tecnica/\n\nHoras: 150h\nDirigido a profesionales del ámbito social. personal y voluntarios/as de entidades sociales\, y a personas que deseen especializarse en este sector\, de Madrid y otras CCAA.\nINSCRIPCIÓN: Rellena el Formulario
URL:https://www.admolinos.org/evento/inicio-curso-tecnico-insercion-sociolaboral-de-inmigrantes-2023/
CATEGORIES:Empleo,Formación técnica
END:VEVENT
END:VCALENDAR