BEGIN:VCALENDAR
VERSION:2.0
PRODID:-//AD Los Molinos, Asociación - ECPv6.15.18//NONSGML v1.0//EN
CALSCALE:GREGORIAN
METHOD:PUBLISH
X-ORIGINAL-URL:https://www.admolinos.org
X-WR-CALDESC:Eventos para AD Los Molinos, Asociación
REFRESH-INTERVAL;VALUE=DURATION:PT1H
X-Robots-Tag:noindex
X-PUBLISHED-TTL:PT1H
BEGIN:VTIMEZONE
TZID:Europe/Helsinki
BEGIN:DAYLIGHT
TZOFFSETFROM:+0200
TZOFFSETTO:+0300
TZNAME:EEST
DTSTART:20220327T010000
END:DAYLIGHT
BEGIN:STANDARD
TZOFFSETFROM:+0300
TZOFFSETTO:+0200
TZNAME:EET
DTSTART:20221030T010000
END:STANDARD
BEGIN:DAYLIGHT
TZOFFSETFROM:+0200
TZOFFSETTO:+0300
TZNAME:EEST
DTSTART:20230326T010000
END:DAYLIGHT
BEGIN:STANDARD
TZOFFSETFROM:+0300
TZOFFSETTO:+0200
TZNAME:EET
DTSTART:20231029T010000
END:STANDARD
BEGIN:DAYLIGHT
TZOFFSETFROM:+0200
TZOFFSETTO:+0300
TZNAME:EEST
DTSTART:20240331T010000
END:DAYLIGHT
BEGIN:STANDARD
TZOFFSETFROM:+0300
TZOFFSETTO:+0200
TZNAME:EET
DTSTART:20241027T010000
END:STANDARD
END:VTIMEZONE
BEGIN:VEVENT
DTSTART;TZID=Europe/Helsinki:20230414T100000
DTEND;TZID=Europe/Helsinki:20230414T120000
DTSTAMP:20260424T102301
CREATED:20230403T100959Z
LAST-MODIFIED:20230403T101445Z
UID:13749-1681466400-1681473600@www.admolinos.org
SUMMARY:Taller ON LINE: ORIENTACIÓN FORMATIVA
DESCRIPTION:Día: 14 de abril de 2023\nHorario: de 10:00 a 12:00h\nLugar: ON LINE\nDirigido: Personas residentes en la COMUNIDAD DE MADRID\, en búsqueda activa de empleo y en situación vulnerable.\nContenido: Información sobre el Servicio de Orientación Profesional de El Escorial y sobre diferentes opciones de formación gratuita para aumentar las oportunidades de conseguir empleo: formación ocupacional\, certificados de profesionalidad\, formación profesional\, etc.\nRequisitos: Teléfono/ordenador con conexión a internet. Conocimientos de español nivel medio.\nColabora: Ayuntamiento de El Escorial\nInscripciones: rellena el FORMULARIO
URL:https://www.admolinos.org/evento/taller-on-line-orientacion-formativa-8/
CATEGORIES:Empleo,Taller empleo
END:VEVENT
END:VCALENDAR