BEGIN:VCALENDAR
VERSION:2.0
PRODID:-//AD Los Molinos, Asociación - ECPv6.15.18//NONSGML v1.0//EN
CALSCALE:GREGORIAN
METHOD:PUBLISH
X-ORIGINAL-URL:https://www.admolinos.org
X-WR-CALDESC:Eventos para AD Los Molinos, Asociación
REFRESH-INTERVAL;VALUE=DURATION:PT1H
X-Robots-Tag:noindex
X-PUBLISHED-TTL:PT1H
BEGIN:VTIMEZONE
TZID:Europe/Helsinki
BEGIN:DAYLIGHT
TZOFFSETFROM:+0200
TZOFFSETTO:+0300
TZNAME:EEST
DTSTART:20220327T010000
END:DAYLIGHT
BEGIN:STANDARD
TZOFFSETFROM:+0300
TZOFFSETTO:+0200
TZNAME:EET
DTSTART:20221030T010000
END:STANDARD
BEGIN:DAYLIGHT
TZOFFSETFROM:+0200
TZOFFSETTO:+0300
TZNAME:EEST
DTSTART:20230326T010000
END:DAYLIGHT
BEGIN:STANDARD
TZOFFSETFROM:+0300
TZOFFSETTO:+0200
TZNAME:EET
DTSTART:20231029T010000
END:STANDARD
BEGIN:DAYLIGHT
TZOFFSETFROM:+0200
TZOFFSETTO:+0300
TZNAME:EEST
DTSTART:20240331T010000
END:DAYLIGHT
BEGIN:STANDARD
TZOFFSETFROM:+0300
TZOFFSETTO:+0200
TZNAME:EET
DTSTART:20241027T010000
END:STANDARD
END:VTIMEZONE
BEGIN:VEVENT
DTSTART;TZID=Europe/Helsinki:20230418T093000
DTEND;TZID=Europe/Helsinki:20230418T143000
DTSTAMP:20260424T100737
CREATED:20230207T150203Z
LAST-MODIFIED:20230207T150203Z
UID:13457-1681810200-1681828200@www.admolinos.org
SUMMARY:Inicio Curso AUX. DE MANTENIMIENTO DE JARDINES\, PARQUES Y ZONAS VERDES + MANIPULACIÓN DE PRODUCTOS FITOSANITARIOS  (carnet oficial)
DESCRIPTION:Fechas: Del 18 de abril al 6 de junio de 2023.\nHorario: 09:30 a 14:30h.\nDuración: 155 horas (incluye prácticas en empresas)\nLugar: Collado Villalba.\nDirigido: Personas inmigrantes con situación administrativa regularizada.\nRequisitos: Conocimientos de español nivel medio. Estar dado/a de alta en el Servicio de Empleo de Asociación AD Los Molinos.\nContenido: Curso teórico-práctico para adquirir las competencias necesarias para realizar el mantenimiento de elementos vegetales (riego\, abonado\, siega\, poda)\, la aplicación de productos fitosanitarios para el control de plagas y enfermedades en las plantas\, así como conocer la Normativa básica vigente en materia de mantenimiento de jardines\, parques y zonas verdes.\nInscripciones: rellena el FORMULARIO.
URL:https://www.admolinos.org/evento/inicio-curso-aux-de-mantenimiento-de-jardines-parques-y-zonas-verdes-manipulacion-de-productos-fitosanitarios-carnet-oficial/
CATEGORIES:Empleo,Formación empleo
END:VEVENT
END:VCALENDAR