BEGIN:VCALENDAR
VERSION:2.0
PRODID:-//AD Los Molinos, Asociación - ECPv6.15.18//NONSGML v1.0//EN
CALSCALE:GREGORIAN
METHOD:PUBLISH
X-WR-CALNAME:AD Los Molinos, Asociación
X-ORIGINAL-URL:https://www.admolinos.org
X-WR-CALDESC:Eventos para AD Los Molinos, Asociación
REFRESH-INTERVAL;VALUE=DURATION:PT1H
X-Robots-Tag:noindex
X-PUBLISHED-TTL:PT1H
BEGIN:VTIMEZONE
TZID:Europe/Madrid
BEGIN:DAYLIGHT
TZOFFSETFROM:+0100
TZOFFSETTO:+0200
TZNAME:CEST
DTSTART:20230326T010000
END:DAYLIGHT
BEGIN:STANDARD
TZOFFSETFROM:+0200
TZOFFSETTO:+0100
TZNAME:CET
DTSTART:20231029T010000
END:STANDARD
BEGIN:DAYLIGHT
TZOFFSETFROM:+0100
TZOFFSETTO:+0200
TZNAME:CEST
DTSTART:20240331T010000
END:DAYLIGHT
BEGIN:STANDARD
TZOFFSETFROM:+0200
TZOFFSETTO:+0100
TZNAME:CET
DTSTART:20241027T010000
END:STANDARD
BEGIN:DAYLIGHT
TZOFFSETFROM:+0100
TZOFFSETTO:+0200
TZNAME:CEST
DTSTART:20250330T010000
END:DAYLIGHT
BEGIN:STANDARD
TZOFFSETFROM:+0200
TZOFFSETTO:+0100
TZNAME:CET
DTSTART:20251026T010000
END:STANDARD
END:VTIMEZONE
BEGIN:VEVENT
DTSTART;TZID=Europe/Madrid:20240229T100000
DTEND;TZID=Europe/Madrid:20240229T120000
DTSTAMP:20260423T193115
CREATED:20240201T102830Z
LAST-MODIFIED:20240201T102830Z
UID:14669-1709200800-1709208000@www.admolinos.org
SUMMARY:Taller ONLINE: ORIENTA TU FORMACIÓN
DESCRIPTION:Día: 29 de febrero de 2024\nHorario: de 10:00 a 12:00h\nLugar: Vía ZOOM\nDirigido: Personas residentes en la COMUNIDAD DE MADRID\, en búsqueda activa de empleo y en situación vulnerable.\nContenido: Información sobre diferentes opciones de formación gratuita para aumentar las oportunidades de conseguir empleo: formación ocupacional\, certificados de profesionalidad\, formación profesional\, etc.\nRequisitos: Teléfono/ordenador con conexión a internet. Conocimientos de español nivel medio. Estar inscrita/o en el Servicio de Empleo de Asociación AD Los Molinos.\nInscripciones: Rellena el FORMULARIO.\n\n 
URL:https://www.admolinos.org/evento/taller-online-orienta-tu-formacion-2/
CATEGORIES:Empleo,Taller empleo
END:VEVENT
END:VCALENDAR