BEGIN:VCALENDAR
VERSION:2.0
PRODID:-//AD Los Molinos, Asociación - ECPv6.15.18//NONSGML v1.0//EN
CALSCALE:GREGORIAN
METHOD:PUBLISH
X-ORIGINAL-URL:https://www.admolinos.org
X-WR-CALDESC:Eventos para AD Los Molinos, Asociación
REFRESH-INTERVAL;VALUE=DURATION:PT1H
X-Robots-Tag:noindex
X-PUBLISHED-TTL:PT1H
BEGIN:VTIMEZONE
TZID:Europe/Madrid
BEGIN:DAYLIGHT
TZOFFSETFROM:+0100
TZOFFSETTO:+0200
TZNAME:CEST
DTSTART:20230326T010000
END:DAYLIGHT
BEGIN:STANDARD
TZOFFSETFROM:+0200
TZOFFSETTO:+0100
TZNAME:CET
DTSTART:20231029T010000
END:STANDARD
BEGIN:DAYLIGHT
TZOFFSETFROM:+0100
TZOFFSETTO:+0200
TZNAME:CEST
DTSTART:20240331T010000
END:DAYLIGHT
BEGIN:STANDARD
TZOFFSETFROM:+0200
TZOFFSETTO:+0100
TZNAME:CET
DTSTART:20241027T010000
END:STANDARD
BEGIN:DAYLIGHT
TZOFFSETFROM:+0100
TZOFFSETTO:+0200
TZNAME:CEST
DTSTART:20250330T010000
END:DAYLIGHT
BEGIN:STANDARD
TZOFFSETFROM:+0200
TZOFFSETTO:+0100
TZNAME:CET
DTSTART:20251026T010000
END:STANDARD
END:VTIMEZONE
BEGIN:VEVENT
DTSTART;TZID=Europe/Madrid:20241021T080000
DTEND;TZID=Europe/Madrid:20241021T080000
DTSTAMP:20260423T101645
CREATED:20241002T114802Z
LAST-MODIFIED:20241002T114802Z
UID:15572-1729497600-1729497600@www.admolinos.org
SUMMARY:Curso INTELIGENCIA ARTIFICIAL APLICADA A LA EMPRESA
DESCRIPTION:Fechas: Del 21 de octubre al 7 de diciembre de 2024.\nHorario: ¡A tu ritmo!\nDuración: 280 horas\nModalidad: Online\nDirigido: Personas desempleadas inscritas como demandantes de empleo en una Oficina de Empleo de la Comunidad de Madrid.\nRequisitos: Personas con buen nivel de español y que dispongan de smartphone\, tablet u ordenador y acceso a internet.\nContenido: Formación de 280 horas que incluye los siguientes contenidos: Aplicación del algoritmo de inteligencia artificial\, Uso en el Machine Learning: modelos supervisados\, Uso en el Machine learning: modelos no supervisados\, Aprendizaje por refuerzo\, Modelos profundos (Deep learning)\, Asimilación de ejemplos con Weka/Orange\, etc.\nInscripciones: rellena el FORMULARIO.\nColabora: aprendea\n\n 
URL:https://www.admolinos.org/evento/curso-inteligencia-artificial-aplicada-a-la-empresa/
CATEGORIES:Cursos,Empleo,Formación empleo
END:VEVENT
END:VCALENDAR