BEGIN:VCALENDAR
VERSION:2.0
PRODID:-//AD Los Molinos, Asociación - ECPv6.15.18//NONSGML v1.0//EN
CALSCALE:GREGORIAN
METHOD:PUBLISH
X-ORIGINAL-URL:https://www.admolinos.org
X-WR-CALDESC:Eventos para AD Los Molinos, Asociación
REFRESH-INTERVAL;VALUE=DURATION:PT1H
X-Robots-Tag:noindex
X-PUBLISHED-TTL:PT1H
BEGIN:VTIMEZONE
TZID:Europe/Madrid
BEGIN:DAYLIGHT
TZOFFSETFROM:+0100
TZOFFSETTO:+0200
TZNAME:CEST
DTSTART:20240331T010000
END:DAYLIGHT
BEGIN:STANDARD
TZOFFSETFROM:+0200
TZOFFSETTO:+0100
TZNAME:CET
DTSTART:20241027T010000
END:STANDARD
BEGIN:DAYLIGHT
TZOFFSETFROM:+0100
TZOFFSETTO:+0200
TZNAME:CEST
DTSTART:20250330T010000
END:DAYLIGHT
BEGIN:STANDARD
TZOFFSETFROM:+0200
TZOFFSETTO:+0100
TZNAME:CET
DTSTART:20251026T010000
END:STANDARD
BEGIN:DAYLIGHT
TZOFFSETFROM:+0100
TZOFFSETTO:+0200
TZNAME:CEST
DTSTART:20260329T010000
END:DAYLIGHT
BEGIN:STANDARD
TZOFFSETFROM:+0200
TZOFFSETTO:+0100
TZNAME:CET
DTSTART:20261025T010000
END:STANDARD
END:VTIMEZONE
BEGIN:VEVENT
DTSTART;TZID=Europe/Madrid:20250514T100000
DTEND;TZID=Europe/Madrid:20250514T113000
DTSTAMP:20260423T005132
CREATED:20250505T085140Z
LAST-MODIFIED:20250505T085140Z
UID:16282-1747216800-1747222200@www.admolinos.org
SUMMARY:Taller: ¿QUIERES PAGAR MENOS EN LA FACTURA DE LA LUZ?
DESCRIPTION:Día: 14 de mayo de 2025\nHorario: de 10:00 a 11:30h\nLugar: Madrid\, Zona metro Abrantes (línea 12)\nDirigido: Personas residentes en la COMUNIDAD DE MADRID\, en búsqueda activa de empleo y en situación vulnerable.\nContenido: Taller con la Fundación Naturgy para entender mejor la factura de la luz y aprender algunos trucos para ahorrar en el consumo de electricidad. Además\, te contaremos qué es el bono social eléctrico\, si tienes derecho a él y cómo solicitarlo.\nRequisitos: Conocimientos de español nivel medio. Estar inscrita/o en el Servicio de Empleo/Integración de Asociación AD Los Molinos.\nColabora: Fundación Naturgy\nInscripciones: rellena el FORMULARIO
URL:https://www.admolinos.org/evento/taller-quieres-pagar-menos-en-la-factura-de-la-luz-2/
CATEGORIES:Empleo,Taller empleo
END:VEVENT
END:VCALENDAR