BEGIN:VCALENDAR
VERSION:2.0
PRODID:-//AD Los Molinos, Asociación - ECPv6.15.18//NONSGML v1.0//EN
CALSCALE:GREGORIAN
METHOD:PUBLISH
X-ORIGINAL-URL:https://www.admolinos.org
X-WR-CALDESC:Eventos para AD Los Molinos, Asociación
REFRESH-INTERVAL;VALUE=DURATION:PT1H
X-Robots-Tag:noindex
X-PUBLISHED-TTL:PT1H
BEGIN:VTIMEZONE
TZID:Europe/Madrid
BEGIN:DAYLIGHT
TZOFFSETFROM:+0100
TZOFFSETTO:+0200
TZNAME:CEST
DTSTART:20240331T010000
END:DAYLIGHT
BEGIN:STANDARD
TZOFFSETFROM:+0200
TZOFFSETTO:+0100
TZNAME:CET
DTSTART:20241027T010000
END:STANDARD
BEGIN:DAYLIGHT
TZOFFSETFROM:+0100
TZOFFSETTO:+0200
TZNAME:CEST
DTSTART:20250330T010000
END:DAYLIGHT
BEGIN:STANDARD
TZOFFSETFROM:+0200
TZOFFSETTO:+0100
TZNAME:CET
DTSTART:20251026T010000
END:STANDARD
BEGIN:DAYLIGHT
TZOFFSETFROM:+0100
TZOFFSETTO:+0200
TZNAME:CEST
DTSTART:20260329T010000
END:DAYLIGHT
BEGIN:STANDARD
TZOFFSETFROM:+0200
TZOFFSETTO:+0100
TZNAME:CET
DTSTART:20261025T010000
END:STANDARD
END:VTIMEZONE
BEGIN:VEVENT
DTSTART;TZID=Europe/Madrid:20250605T100000
DTEND;TZID=Europe/Madrid:20250605T120000
DTSTAMP:20260422T231342
CREATED:20250604T122408Z
LAST-MODIFIED:20250604T122408Z
UID:16472-1749117600-1749124800@www.admolinos.org
SUMMARY:Taller Online: COMPETENCIAS PROFESIONALES EN LOS TRABAJOS EN ALTURA
DESCRIPTION:Día: 5 de junio de 2025\nHorario: de 10:00 a 12:00h\nLugar: Vía ZOOM\nDirigido: Personas residentes en la COMUNIDAD DE MADRID\, en búsqueda activa de empleo y en situación vulnerable.\nContenido: Sesión informativa sobre el curso «Seguridad en trabajos en altura» que realizaremos este mes\, además de las salidas laborales de este tipo de formación y las competencias y requisitos que están exigiendo las empresas relacionadas con esta formación.\nRequisitos: Conocimientos de español nivel medio. Estar inscrita/o en el Servicio de Empleo de Asociación AD Los Molinos.\nInscripciones: Rellena el FORMULARIO.
URL:https://www.admolinos.org/evento/taller-online-competencias-profesionales-en-los-trabajos-en-altura/
CATEGORIES:Empleo,Formación empleo,Taller empleo
END:VEVENT
END:VCALENDAR