BEGIN:VCALENDAR
VERSION:2.0
PRODID:-//AD Los Molinos, Asociación - ECPv6.15.18//NONSGML v1.0//EN
CALSCALE:GREGORIAN
METHOD:PUBLISH
X-ORIGINAL-URL:https://www.admolinos.org
X-WR-CALDESC:Eventos para AD Los Molinos, Asociación
REFRESH-INTERVAL;VALUE=DURATION:PT1H
X-Robots-Tag:noindex
X-PUBLISHED-TTL:PT1H
BEGIN:VTIMEZONE
TZID:Europe/Madrid
BEGIN:DAYLIGHT
TZOFFSETFROM:+0100
TZOFFSETTO:+0200
TZNAME:CEST
DTSTART:20230326T010000
END:DAYLIGHT
BEGIN:STANDARD
TZOFFSETFROM:+0200
TZOFFSETTO:+0100
TZNAME:CET
DTSTART:20231029T010000
END:STANDARD
BEGIN:DAYLIGHT
TZOFFSETFROM:+0100
TZOFFSETTO:+0200
TZNAME:CEST
DTSTART:20240331T010000
END:DAYLIGHT
BEGIN:STANDARD
TZOFFSETFROM:+0200
TZOFFSETTO:+0100
TZNAME:CET
DTSTART:20241027T010000
END:STANDARD
BEGIN:DAYLIGHT
TZOFFSETFROM:+0100
TZOFFSETTO:+0200
TZNAME:CEST
DTSTART:20250330T010000
END:DAYLIGHT
BEGIN:STANDARD
TZOFFSETFROM:+0200
TZOFFSETTO:+0100
TZNAME:CET
DTSTART:20251026T010000
END:STANDARD
END:VTIMEZONE
BEGIN:VEVENT
DTSTART;TZID=Europe/Madrid:20241115T100000
DTEND;TZID=Europe/Madrid:20241115T120000
DTSTAMP:20260419T163455
CREATED:20241029T113811Z
LAST-MODIFIED:20241029T113811Z
UID:15672-1731664800-1731672000@www.admolinos.org
SUMMARY:Taller Orientación formativa
DESCRIPTION:Día: 15 de noviembre de 2024\nHorario: de 10:00 a 12:00h\nLugar: Calle Vía Carpetana\, 99. Madrid.\nContenido: Actividad informativa donde ofreceremos información relativa al sistema académico español y a la homologación de estudios extranjeros.\nRequisitos: Inscripción en el formulario.\nColabora: Oficina Municipal de Información Población Inmigrante Sur La Rueca\nInscripciones: En el FORMULARIO
URL:https://www.admolinos.org/evento/taller-orientacion-formativa-40/
CATEGORIES:Homologación de estudios,Integración Social,Talleres
END:VEVENT
BEGIN:VEVENT
DTSTART;TZID=Europe/Madrid:20241120T120000
DTEND;TZID=Europe/Madrid:20241120T140000
DTSTAMP:20260419T163455
CREATED:20241029T114508Z
LAST-MODIFIED:20241029T114508Z
UID:15678-1732104000-1732111200@www.admolinos.org
SUMMARY:Taller Orientación formativa
DESCRIPTION:Día: 20 de noviembre de 2024\nHorario: de 12:00 a 14:00h\nLugar: Calle Francisco del Pino\, 16\, local bajo\, Madrid\nContenido: Actividad informativa donde ofreceremos información relativa al sistema académico español y a la homologación de estudios extranjeros.\nRequisitos: Inscripción en el formulario.\nColabora: CEPI de Usera-Villaverde y Fundación Altius \nInscripciones: En el FORMULARIO
URL:https://www.admolinos.org/evento/taller-orientacion-formativa-41/
CATEGORIES:Homologación de estudios,Integración Social,Talleres
END:VEVENT
BEGIN:VEVENT
DTSTART;TZID=Europe/Madrid:20241122T100000
DTEND;TZID=Europe/Madrid:20241122T120000
DTSTAMP:20260419T163455
CREATED:20241028T163113Z
LAST-MODIFIED:20241028T163113Z
UID:15662-1732269600-1732276800@www.admolinos.org
SUMMARY:Taller Orientación formativa
DESCRIPTION:Día: 22 de noviembre de 2024\nHorario: de 10:00 a 12:00h\nLugar: Calle Juan Pantoja 2\, Madrid\nContenido: Actividad informativa donde ofreceremos información relativa al sistema académico español y a la homologación de estudios extranjeros.\nRequisitos: Inscripción en el formulario.\nColabora: Oficina Municipal de Información Población Inmigrante Norte. La Rueca\nInscripciones: En el FORMULARIO
URL:https://www.admolinos.org/evento/taller-orientacion-formativa-39/
CATEGORIES:Homologación de estudios,Integración Social,Talleres
END:VEVENT
END:VCALENDAR