BEGIN:VCALENDAR
VERSION:2.0
PRODID:-//AD Los Molinos, Asociación - ECPv6.15.18//NONSGML v1.0//EN
CALSCALE:GREGORIAN
METHOD:PUBLISH
X-ORIGINAL-URL:https://www.admolinos.org
X-WR-CALDESC:Eventos para AD Los Molinos, Asociación
REFRESH-INTERVAL;VALUE=DURATION:PT1H
X-Robots-Tag:noindex
X-PUBLISHED-TTL:PT1H
BEGIN:VTIMEZONE
TZID:Europe/Madrid
BEGIN:DAYLIGHT
TZOFFSETFROM:+0100
TZOFFSETTO:+0200
TZNAME:CEST
DTSTART:20250330T010000
END:DAYLIGHT
BEGIN:STANDARD
TZOFFSETFROM:+0200
TZOFFSETTO:+0100
TZNAME:CET
DTSTART:20251026T010000
END:STANDARD
BEGIN:DAYLIGHT
TZOFFSETFROM:+0100
TZOFFSETTO:+0200
TZNAME:CEST
DTSTART:20260329T010000
END:DAYLIGHT
BEGIN:STANDARD
TZOFFSETFROM:+0200
TZOFFSETTO:+0100
TZNAME:CET
DTSTART:20261025T010000
END:STANDARD
BEGIN:DAYLIGHT
TZOFFSETFROM:+0100
TZOFFSETTO:+0200
TZNAME:CEST
DTSTART:20270328T010000
END:DAYLIGHT
BEGIN:STANDARD
TZOFFSETFROM:+0200
TZOFFSETTO:+0100
TZNAME:CET
DTSTART:20271031T010000
END:STANDARD
END:VTIMEZONE
BEGIN:VEVENT
DTSTART;TZID=Europe/Madrid:20260209T103000
DTEND;TZID=Europe/Madrid:20260209T123000
DTSTAMP:20260424T102554
CREATED:20260204T102444Z
LAST-MODIFIED:20260204T102444Z
UID:17236-1770633000-1770640200@www.admolinos.org
SUMMARY:Taller Mujeres que Avanzan: Iniciando el 2026 Con Poder
DESCRIPTION:Día: 9 de febrero de 2026\nHorario: de 10:30 a 12:30 h\nLugar:  Casa de la Cultura Giralt La Porta\, C/ de la Paz\, 51. Sierra Oeste\, Valdemorillo.\nDirigido: Mujeres.\nContenido: Taller en el que las mujeres participantes puedan identificar una meta para 2026 y reconocer sus fortalezas personales\, utilizando un lenguaje accesible y dinámicas visuales que facilitan la comprensión y la participación de todas\nColabora: Casa de Cultura. Ayuntamiento de Valdemorillo \nMás información: 674 321 372 / acogida.sierra@admolinos.org\nInscripciones: a través del FORMULARIO\n\n  
URL:https://www.admolinos.org/evento/taller-mujeres-que-avanzan-iniciando-el-2026-con-poder/
CATEGORIES:Integración Social,Talleres
END:VEVENT
BEGIN:VEVENT
DTSTART;TZID=Europe/Madrid:20260209T160000
DTEND;TZID=Europe/Madrid:20260209T180000
DTSTAMP:20260424T102554
CREATED:20260204T110000Z
LAST-MODIFIED:20260206T131602Z
UID:17238-1770652800-1770660000@www.admolinos.org
SUMMARY:Taller Online Diseña tu 2026: El Año para Cumplir tus Sueños
DESCRIPTION:Día: 9 de febrero de 2026\nHorario: de 16:00 a 18:00h\nLugar: VIA ZOOM\nDirigido a: Mujeres y hombres.\nContenido: Taller en el cual se suministrarán herramientas para el planteamiento de metas en miras al inicio del nuevo año y para estimular la motivación al logro y el empoderamiento en las mujeres participantes.\nMás información: 697 489 362 / intermediación@admolinos.org\nInscripciones: a través del FORMULARIO\n\n 
URL:https://www.admolinos.org/evento/taller-online-disena-tu-2026-el-ano-para-cumplir-tus-suenos/
CATEGORIES:Integración Social,Talleres
END:VEVENT
END:VCALENDAR