BEGIN:VCALENDAR
VERSION:2.0
PRODID:-//AD Los Molinos, Asociación - ECPv6.15.18//NONSGML v1.0//EN
CALSCALE:GREGORIAN
METHOD:PUBLISH
X-WR-CALNAME:AD Los Molinos, Asociación
X-ORIGINAL-URL:https://www.admolinos.org
X-WR-CALDESC:Eventos para AD Los Molinos, Asociación
REFRESH-INTERVAL;VALUE=DURATION:PT1H
X-Robots-Tag:noindex
X-PUBLISHED-TTL:PT1H
BEGIN:VTIMEZONE
TZID:Europe/Madrid
BEGIN:DAYLIGHT
TZOFFSETFROM:+0100
TZOFFSETTO:+0200
TZNAME:CEST
DTSTART:20250330T010000
END:DAYLIGHT
BEGIN:STANDARD
TZOFFSETFROM:+0200
TZOFFSETTO:+0100
TZNAME:CET
DTSTART:20251026T010000
END:STANDARD
BEGIN:DAYLIGHT
TZOFFSETFROM:+0100
TZOFFSETTO:+0200
TZNAME:CEST
DTSTART:20260329T010000
END:DAYLIGHT
BEGIN:STANDARD
TZOFFSETFROM:+0200
TZOFFSETTO:+0100
TZNAME:CET
DTSTART:20261025T010000
END:STANDARD
BEGIN:DAYLIGHT
TZOFFSETFROM:+0100
TZOFFSETTO:+0200
TZNAME:CEST
DTSTART:20270328T010000
END:DAYLIGHT
BEGIN:STANDARD
TZOFFSETFROM:+0200
TZOFFSETTO:+0100
TZNAME:CET
DTSTART:20271031T010000
END:STANDARD
END:VTIMEZONE
BEGIN:VEVENT
DTSTART;TZID=Europe/Madrid:20260211T100000
DTEND;TZID=Europe/Madrid:20260211T120000
DTSTAMP:20260424T102251
CREATED:20260313T092855Z
LAST-MODIFIED:20260313T092855Z
UID:17456-1770804000-1770811200@www.admolinos.org
SUMMARY:Taller: Digitalización para la mejora profesional
DESCRIPTION:Día: 11 de febrero de 2026\nHorario: de 10:00 a 12:00h\nLugar: Calle Carrero Juan Ramón 8\, Madrid.\nContenido: Actividad informativa donde se promueve que las personas participantes puedan identificar fortalezas\, debilidades y el perfil propio de competencias y talentos aplicables al entorno personal y profesional.\nInscripciones: rellena el FORMULARIO\n\n 
URL:https://www.admolinos.org/evento/taller-digitalizacion-para-la-mejora-profesional/
CATEGORIES:Integración Social,Talleres
END:VEVENT
END:VCALENDAR