BEGIN:VCALENDAR
VERSION:2.0
PRODID:-//AD Los Molinos, Asociación - ECPv6.15.18//NONSGML v1.0//EN
CALSCALE:GREGORIAN
METHOD:PUBLISH
X-WR-CALNAME:AD Los Molinos, Asociación
X-ORIGINAL-URL:https://www.admolinos.org
X-WR-CALDESC:Eventos para AD Los Molinos, Asociación
REFRESH-INTERVAL;VALUE=DURATION:PT1H
X-Robots-Tag:noindex
X-PUBLISHED-TTL:PT1H
BEGIN:VTIMEZONE
TZID:Europe/Madrid
BEGIN:DAYLIGHT
TZOFFSETFROM:+0100
TZOFFSETTO:+0200
TZNAME:CEST
DTSTART:20250330T010000
END:DAYLIGHT
BEGIN:STANDARD
TZOFFSETFROM:+0200
TZOFFSETTO:+0100
TZNAME:CET
DTSTART:20251026T010000
END:STANDARD
BEGIN:DAYLIGHT
TZOFFSETFROM:+0100
TZOFFSETTO:+0200
TZNAME:CEST
DTSTART:20260329T010000
END:DAYLIGHT
BEGIN:STANDARD
TZOFFSETFROM:+0200
TZOFFSETTO:+0100
TZNAME:CET
DTSTART:20261025T010000
END:STANDARD
BEGIN:DAYLIGHT
TZOFFSETFROM:+0100
TZOFFSETTO:+0200
TZNAME:CEST
DTSTART:20270328T010000
END:DAYLIGHT
BEGIN:STANDARD
TZOFFSETFROM:+0200
TZOFFSETTO:+0100
TZNAME:CET
DTSTART:20271031T010000
END:STANDARD
END:VTIMEZONE
BEGIN:VEVENT
DTSTART;TZID=Europe/Madrid:20260226T100000
DTEND;TZID=Europe/Madrid:20260226T120000
DTSTAMP:20260424T091420
CREATED:20260204T121432Z
LAST-MODIFIED:20260204T121432Z
UID:17257-1772100000-1772107200@www.admolinos.org
SUMMARY:Taller Online: Mi Año\, mi Camino: Construyendo el 2026
DESCRIPTION:Día: 26 de febrero de 2026\nHorario: de 10:00 a 12:00h\nLugar: VIA ZOOM\nDirigido a : Mujeres\nContenido: Actividad en la que las mujeres tienen un espacio para identificar una meta sencilla para 2026 y reconocer sus fortalezas personales.\nMás información: 674 321 372 / acogida.sierra@admolinos.org\nInscripciones: a través del FORMULARIO\n\n   
URL:https://www.admolinos.org/evento/taller-online-mi-ano-mi-camino-construyendo-el-2026/
CATEGORIES:Integración Social,Talleres
END:VEVENT
BEGIN:VEVENT
DTSTART;TZID=Europe/Madrid:20260226T100000
DTEND;TZID=Europe/Madrid:20260226T120000
DTSTAMP:20260424T091420
CREATED:20260313T093303Z
LAST-MODIFIED:20260313T093405Z
UID:17466-1772100000-1772107200@www.admolinos.org
SUMMARY:Taller Online: Competencias Digitales
DESCRIPTION:Día: 26 de febrero de 2026\nHorario: de 10:00 a 12:00h\nLugar: VIA ZOOM\nContenido: Actividad informativa que busca capacitar a las participantes en el uso de herramientas tecnológicas para facilitar las gestiones administrativas\, promoviendo la autonomía digital de forma segura y eficiente.\nInscripciones: Rellena el FORMULARIO.\n\n 
URL:https://www.admolinos.org/evento/taller-online-competencias-digitales/
CATEGORIES:Integración Social,Talleres
END:VEVENT
END:VCALENDAR