BEGIN:VCALENDAR
VERSION:2.0
PRODID:-//AD Los Molinos, Asociación - ECPv6.15.18//NONSGML v1.0//EN
CALSCALE:GREGORIAN
METHOD:PUBLISH
X-ORIGINAL-URL:https://www.admolinos.org
X-WR-CALDESC:Eventos para AD Los Molinos, Asociación
REFRESH-INTERVAL;VALUE=DURATION:PT1H
X-Robots-Tag:noindex
X-PUBLISHED-TTL:PT1H
BEGIN:VTIMEZONE
TZID:Europe/Madrid
BEGIN:DAYLIGHT
TZOFFSETFROM:+0100
TZOFFSETTO:+0200
TZNAME:CEST
DTSTART:20250330T010000
END:DAYLIGHT
BEGIN:STANDARD
TZOFFSETFROM:+0200
TZOFFSETTO:+0100
TZNAME:CET
DTSTART:20251026T010000
END:STANDARD
BEGIN:DAYLIGHT
TZOFFSETFROM:+0100
TZOFFSETTO:+0200
TZNAME:CEST
DTSTART:20260329T010000
END:DAYLIGHT
BEGIN:STANDARD
TZOFFSETFROM:+0200
TZOFFSETTO:+0100
TZNAME:CET
DTSTART:20261025T010000
END:STANDARD
BEGIN:DAYLIGHT
TZOFFSETFROM:+0100
TZOFFSETTO:+0200
TZNAME:CEST
DTSTART:20270328T010000
END:DAYLIGHT
BEGIN:STANDARD
TZOFFSETFROM:+0200
TZOFFSETTO:+0100
TZNAME:CET
DTSTART:20271031T010000
END:STANDARD
END:VTIMEZONE
BEGIN:VEVENT
DTSTART;TZID=Europe/Madrid:20260312T103000
DTEND;TZID=Europe/Madrid:20260312T123000
DTSTAMP:20260424T091553
CREATED:20260304T111533Z
LAST-MODIFIED:20260304T111534Z
UID:17390-1773311400-1773318600@www.admolinos.org
SUMMARY:8m: Mujeres que migran\, mujeres que crean futuro
DESCRIPTION:Día: 12 de marzo de 2026\nHorario: de 10:30 a 12:30 h\nLugar: Espacio Joven de El Escorial\, Calle de Carlos V\, 6\nDirigido: Mujeres.\nContenido: En el marco del 8M\, se realiza este taller en un espacio seguro para compartir experiencias migratorias\, reconocer la fuerza de cada mujer y crear juntas nuevas formas de apoyo y sororidad.\nMás información:  674 321 372 / acogida.sierra@admolinos.org\nColabora: Ayuntamiento El Escorial\nInscripciones: a través del FORMULARIO\n\n     
URL:https://www.admolinos.org/evento/8m-mujeres-que-migran-mujeres-que-crean-futuro/
CATEGORIES:Integración Social,Talleres
END:VEVENT
BEGIN:VEVENT
DTSTART;TZID=Europe/Madrid:20260312T110000
DTEND;TZID=Europe/Madrid:20260312T130000
DTSTAMP:20260424T091553
CREATED:20260304T110922Z
LAST-MODIFIED:20260304T110922Z
UID:17388-1773313200-1773320400@www.admolinos.org
SUMMARY:Taller Online: Trámites administrativos para la autonomía personal
DESCRIPTION:Día: 12 de marzo de 2026\nHorario: de 11:00 a 13:00h\nLugar: VIA ZOOM\nContenido: Actividad informativa que busca dotar a las participantes de los conocimientos\, habilidades y confianza necesarios para gestionar sus procedimientos administrativos de manera autónoma\, segura y eficiente a través de internet\, reduciendo así la brecha digital y fomentando su autonomía personal.\nMás información: 697 489 362 / intermediación@admolinos.org\nInscripciones: a través del FORMULARIO\n\n    
URL:https://www.admolinos.org/evento/taller-online-tramites-administrativos-para-la-autonomia-personal/
CATEGORIES:Integración Social,Talleres
END:VEVENT
END:VCALENDAR