BEGIN:VCALENDAR
VERSION:2.0
PRODID:-//AD Los Molinos, Asociación - ECPv6.15.18//NONSGML v1.0//EN
CALSCALE:GREGORIAN
METHOD:PUBLISH
X-ORIGINAL-URL:https://www.admolinos.org
X-WR-CALDESC:Eventos para AD Los Molinos, Asociación
REFRESH-INTERVAL;VALUE=DURATION:PT1H
X-Robots-Tag:noindex
X-PUBLISHED-TTL:PT1H
BEGIN:VTIMEZONE
TZID:Europe/Madrid
BEGIN:DAYLIGHT
TZOFFSETFROM:+0100
TZOFFSETTO:+0200
TZNAME:CEST
DTSTART:20250330T010000
END:DAYLIGHT
BEGIN:STANDARD
TZOFFSETFROM:+0200
TZOFFSETTO:+0100
TZNAME:CET
DTSTART:20251026T010000
END:STANDARD
BEGIN:DAYLIGHT
TZOFFSETFROM:+0100
TZOFFSETTO:+0200
TZNAME:CEST
DTSTART:20260329T010000
END:DAYLIGHT
BEGIN:STANDARD
TZOFFSETFROM:+0200
TZOFFSETTO:+0100
TZNAME:CET
DTSTART:20261025T010000
END:STANDARD
BEGIN:DAYLIGHT
TZOFFSETFROM:+0100
TZOFFSETTO:+0200
TZNAME:CEST
DTSTART:20270328T010000
END:DAYLIGHT
BEGIN:STANDARD
TZOFFSETFROM:+0200
TZOFFSETTO:+0100
TZNAME:CET
DTSTART:20271031T010000
END:STANDARD
END:VTIMEZONE
BEGIN:VEVENT
DTSTART;TZID=Europe/Madrid:20260316T103000
DTEND;TZID=Europe/Madrid:20260316T123000
DTSTAMP:20260424T091558
CREATED:20260304T114212Z
LAST-MODIFIED:20260304T114212Z
UID:17394-1773657000-1773664200@www.admolinos.org
SUMMARY:8M: Mujeres con talento: preparándonos para trabajar
DESCRIPTION:Día: 16 de marzo de 2026\nHorario: de 10:30 a 12:30 h\nLugar:  Casa de la Cultura Giralt La Porta\, C/ de la Paz\, 51. Sierra Oeste\, Valdemorillo.\nDirigido: Mujeres.\nContenido: Se realiza este taller para reconocer nuestro talento\, transformar experiencias de vida en competencias laborales y prepararnos para iniciar nuestra búsqueda de empleo con confianza y seguridad.\nColabora: Casa de Cultura. Ayuntamiento de Valdemorillo \nMás información: 674 321 372 / acogida.sierra@admolinos.org\nInscripciones: a través del FORMULARIO\n\n   
URL:https://www.admolinos.org/evento/8m-mujeres-con-talento-preparandonos-para-trabajar/
CATEGORIES:Integración Social,Talleres
END:VEVENT
END:VCALENDAR