BEGIN:VCALENDAR
VERSION:2.0
PRODID:-//AD Los Molinos, Asociación - ECPv6.15.18//NONSGML v1.0//EN
CALSCALE:GREGORIAN
METHOD:PUBLISH
X-WR-CALNAME:AD Los Molinos, Asociación
X-ORIGINAL-URL:https://www.admolinos.org
X-WR-CALDESC:Eventos para AD Los Molinos, Asociación
REFRESH-INTERVAL;VALUE=DURATION:PT1H
X-Robots-Tag:noindex
X-PUBLISHED-TTL:PT1H
BEGIN:VTIMEZONE
TZID:Europe/Madrid
BEGIN:DAYLIGHT
TZOFFSETFROM:+0100
TZOFFSETTO:+0200
TZNAME:CEST
DTSTART:20250330T010000
END:DAYLIGHT
BEGIN:STANDARD
TZOFFSETFROM:+0200
TZOFFSETTO:+0100
TZNAME:CET
DTSTART:20251026T010000
END:STANDARD
BEGIN:DAYLIGHT
TZOFFSETFROM:+0100
TZOFFSETTO:+0200
TZNAME:CEST
DTSTART:20260329T010000
END:DAYLIGHT
BEGIN:STANDARD
TZOFFSETFROM:+0200
TZOFFSETTO:+0100
TZNAME:CET
DTSTART:20261025T010000
END:STANDARD
BEGIN:DAYLIGHT
TZOFFSETFROM:+0100
TZOFFSETTO:+0200
TZNAME:CEST
DTSTART:20270328T010000
END:DAYLIGHT
BEGIN:STANDARD
TZOFFSETFROM:+0200
TZOFFSETTO:+0100
TZNAME:CET
DTSTART:20271031T010000
END:STANDARD
END:VTIMEZONE
BEGIN:VEVENT
DTSTART;TZID=Europe/Madrid:20260323T160000
DTEND;TZID=Europe/Madrid:20260323T180000
DTSTAMP:20260424T102425
CREATED:20260320T130440Z
LAST-MODIFIED:20260320T130702Z
UID:17484-1774281600-1774288800@www.admolinos.org
SUMMARY:8M: El Poder de la Mujer - Online
DESCRIPTION:Día: 23 de marzo de 2026\nHorario: de 16:00 a 18:00h\nLugar: VIA ZOOM\nContenido: Taller en el cual se suministrarán herramientas para fomentar el empoderamiento personal y colectivo\, potenciando la autoestima\, el liderazgo y la autonomía de las participantes para que reconozcan su valor y desafíen roles de género tradicionales o limitaciones estructurales.\nMás información: 697 489 362 / intermediación@admolinos.org\nCon la colaboración de: ALTERNATIVAS – Asociación para la promoción de la Justicia Social.\nInscripciones: a través del FORMULARIO\n\n      
URL:https://www.admolinos.org/evento/8m-el-poder-de-la-mujer-online/
CATEGORIES:Integración Social,Talleres
END:VEVENT
END:VCALENDAR