BEGIN:VCALENDAR
VERSION:2.0
PRODID:-//AD Los Molinos, Asociación - ECPv6.15.18//NONSGML v1.0//EN
CALSCALE:GREGORIAN
METHOD:PUBLISH
X-ORIGINAL-URL:https://www.admolinos.org
X-WR-CALDESC:Eventos para AD Los Molinos, Asociación
REFRESH-INTERVAL;VALUE=DURATION:PT1H
X-Robots-Tag:noindex
X-PUBLISHED-TTL:PT1H
BEGIN:VTIMEZONE
TZID:Europe/Madrid
BEGIN:DAYLIGHT
TZOFFSETFROM:+0100
TZOFFSETTO:+0200
TZNAME:CEST
DTSTART:20250330T010000
END:DAYLIGHT
BEGIN:STANDARD
TZOFFSETFROM:+0200
TZOFFSETTO:+0100
TZNAME:CET
DTSTART:20251026T010000
END:STANDARD
BEGIN:DAYLIGHT
TZOFFSETFROM:+0100
TZOFFSETTO:+0200
TZNAME:CEST
DTSTART:20260329T010000
END:DAYLIGHT
BEGIN:STANDARD
TZOFFSETFROM:+0200
TZOFFSETTO:+0100
TZNAME:CET
DTSTART:20261025T010000
END:STANDARD
BEGIN:DAYLIGHT
TZOFFSETFROM:+0100
TZOFFSETTO:+0200
TZNAME:CEST
DTSTART:20270328T010000
END:DAYLIGHT
BEGIN:STANDARD
TZOFFSETFROM:+0200
TZOFFSETTO:+0100
TZNAME:CET
DTSTART:20271031T010000
END:STANDARD
END:VTIMEZONE
BEGIN:VEVENT
DTSTART;TZID=Europe/Madrid:20260326T100000
DTEND;TZID=Europe/Madrid:20260326T120000
DTSTAMP:20260424T091604
CREATED:20260304T100701Z
LAST-MODIFIED:20260304T100701Z
UID:17358-1774519200-1774526400@www.admolinos.org
SUMMARY:Taller Online: BECAS Y AYUDAS PARA LA FORMACIÓN
DESCRIPTION:Día: 26 de marzo de 2026\nHorario: de 10:00 a 12:00h\nLugar: Online\nDirigido: Personas residentes en la COMUNIDAD DE MADRID\, en búsqueda activa de empleo y en situación vulnerable.\nContenido: Información muy práctica sobre las principales ayudas públicas para cursar cualquier nivel educativo\, cómo cumplimentar los formularios\, documentación que hay que aportar\, plazos de presentación\, etc.\nRequisitos: Conocimientos de español nivel medio. Teléfono/ordenador con conexión a internet. Estar inscrita/o en el Servicio de Empleo de Asociación AD Los Molinos.\nInscripciones: Rellena el FORMULARIO.\nFecha límite inscripción: 24 de marzo de 2026\n\n 
URL:https://www.admolinos.org/evento/taller-online-becas-y-ayudas-para-la-formacion-4/
CATEGORIES:Empleo,Talleres
END:VEVENT
BEGIN:VEVENT
DTSTART;TZID=Europe/Madrid:20260326T100000
DTEND;TZID=Europe/Madrid:20260326T120000
DTSTAMP:20260424T091604
CREATED:20260304T115156Z
LAST-MODIFIED:20260304T115156Z
UID:17398-1774519200-1774526400@www.admolinos.org
SUMMARY:Orientación formativa: Homologación de estudios extranjeros
DESCRIPTION:Día: 26 de marzo de 2026\nHorario: de 10:00 a 12:00h\nLugar: Calle Comandante Fontanes\, 8. Madrid.\nContenido: Actividad informativa donde ofreceremos información relativa al sistema académico español y a la homologación de estudios extranjeros.\nRequisitos: Inscripción en el formulario.\nColabora: E.I Lourdes Hernández\nMás información: 697 489 362 / intermediación@admolinos.org\nInscripciones: En el FORMULARIO\n\n    
URL:https://www.admolinos.org/evento/orientacion-formativa-homologacion-de-estudios-extranjeros-2/
CATEGORIES:Homologación de estudios,Integración Social,Talleres
END:VEVENT
BEGIN:VEVENT
DTSTART;TZID=Europe/Madrid:20260326T100000
DTEND;TZID=Europe/Madrid:20260326T120000
DTSTAMP:20260424T091604
CREATED:20260304T115614Z
LAST-MODIFIED:20260304T115614Z
UID:17400-1774519200-1774526400@www.admolinos.org
SUMMARY:8M: Mi voz\, mi historia\, mi fuerza: un espacio para reconocernos
DESCRIPTION:Día: 26 de marzo de 2026\nHorario: de 10:00 a 12:00h\nLugar: VIA ZOOM\nContenido: Taller para explorar nuestras historias\, fortalecer la autoestima y poner en valor las capacidades que nos han traído hasta aquí\, y descubrir la fuerza que cada una lleva dentro.\nMás información: 697 489 362 / intermediación@admolinos.org\nInscripciones: a través del FORMULARIO\n\n    
URL:https://www.admolinos.org/evento/8m-mi-voz-mi-historia-mi-fuerza-un-espacio-para-reconocernos/
CATEGORIES:Integración Social,Talleres
END:VEVENT
BEGIN:VEVENT
DTSTART;TZID=Europe/Madrid:20260326T100000
DTEND;TZID=Europe/Madrid:20260326T120000
DTSTAMP:20260424T091604
CREATED:20260323T112356Z
LAST-MODIFIED:20260323T112356Z
UID:17499-1774519200-1774526400@www.admolinos.org
SUMMARY:Taller Online: Becas y ayudas para la formación
DESCRIPTION:Día: 26 de marzo de 2026\nHorario: de 10:00 a 12:00h\nLugar: VIA ZOOM\nContenido: Actividad informativa que busca capacitar a las participantes en el uso de herramientas tecnológicas para facilitar las gestiones administrativas\, promoviendo la autonomía digital de forma segura y eficiente.\nMás información: 697 489 362 / intermediación@admolinos.org\nInscripciones: Rellena el FORMULARIO.\n\n 
URL:https://www.admolinos.org/evento/taller-online-becas-y-ayudas-para-la-formacion-5/
CATEGORIES:Integración Social,Talleres
END:VEVENT
END:VCALENDAR