BEGIN:VCALENDAR
VERSION:2.0
PRODID:-//AD Los Molinos, Asociación - ECPv6.15.18//NONSGML v1.0//EN
CALSCALE:GREGORIAN
METHOD:PUBLISH
X-ORIGINAL-URL:https://www.admolinos.org
X-WR-CALDESC:Eventos para AD Los Molinos, Asociación
REFRESH-INTERVAL;VALUE=DURATION:PT1H
X-Robots-Tag:noindex
X-PUBLISHED-TTL:PT1H
BEGIN:VTIMEZONE
TZID:Europe/Madrid
BEGIN:DAYLIGHT
TZOFFSETFROM:+0100
TZOFFSETTO:+0200
TZNAME:CEST
DTSTART:20250330T010000
END:DAYLIGHT
BEGIN:STANDARD
TZOFFSETFROM:+0200
TZOFFSETTO:+0100
TZNAME:CET
DTSTART:20251026T010000
END:STANDARD
BEGIN:DAYLIGHT
TZOFFSETFROM:+0100
TZOFFSETTO:+0200
TZNAME:CEST
DTSTART:20260329T010000
END:DAYLIGHT
BEGIN:STANDARD
TZOFFSETFROM:+0200
TZOFFSETTO:+0100
TZNAME:CET
DTSTART:20261025T010000
END:STANDARD
BEGIN:DAYLIGHT
TZOFFSETFROM:+0100
TZOFFSETTO:+0200
TZNAME:CEST
DTSTART:20270328T010000
END:DAYLIGHT
BEGIN:STANDARD
TZOFFSETFROM:+0200
TZOFFSETTO:+0100
TZNAME:CET
DTSTART:20271031T010000
END:STANDARD
END:VTIMEZONE
BEGIN:VEVENT
DTSTART;TZID=Europe/Madrid:20260408T120000
DTEND;TZID=Europe/Madrid:20260408T140000
DTSTAMP:20260424T080631
CREATED:20260331T081806Z
LAST-MODIFIED:20260331T081806Z
UID:17537-1775649600-1775656800@www.admolinos.org
SUMMARY:Taller De la Ansiedad a la Calma: Taller de Regulación del Estrés
DESCRIPTION:Día: 8 de abril de 2026\nHorario: de 12:00 a 14:00h\nLugar: Calle Francisco del Pino\, 16\, local bajo\, Madrid\nContenido: En estos tiempos tan complejos\, realizamos un taller en el que\, a través de actividades sencillas\, se realizará un pequeño diagnóstico de la ansiedad y del estrés y se suministrarán algunas herramientas para su manejo.\nRequisitos: Inscripción en el formulario.\nColabora: CEPI de Usera-Villaverde y Fundación Altius \nInscripciones: En el FORMULARIO\n\n    
URL:https://www.admolinos.org/evento/taller-de-la-ansiedad-a-la-calma-taller-de-regulacion-del-estres/
CATEGORIES:Integración Social,Talleres
END:VEVENT
END:VCALENDAR