BEGIN:VCALENDAR
VERSION:2.0
PRODID:-//AD Los Molinos, Asociación - ECPv6.15.18//NONSGML v1.0//EN
CALSCALE:GREGORIAN
METHOD:PUBLISH
X-ORIGINAL-URL:https://www.admolinos.org
X-WR-CALDESC:Eventos para AD Los Molinos, Asociación
REFRESH-INTERVAL;VALUE=DURATION:PT1H
X-Robots-Tag:noindex
X-PUBLISHED-TTL:PT1H
BEGIN:VTIMEZONE
TZID:Europe/Madrid
BEGIN:DAYLIGHT
TZOFFSETFROM:+0100
TZOFFSETTO:+0200
TZNAME:CEST
DTSTART:20250330T010000
END:DAYLIGHT
BEGIN:STANDARD
TZOFFSETFROM:+0200
TZOFFSETTO:+0100
TZNAME:CET
DTSTART:20251026T010000
END:STANDARD
BEGIN:DAYLIGHT
TZOFFSETFROM:+0100
TZOFFSETTO:+0200
TZNAME:CEST
DTSTART:20260329T010000
END:DAYLIGHT
BEGIN:STANDARD
TZOFFSETFROM:+0200
TZOFFSETTO:+0100
TZNAME:CET
DTSTART:20261025T010000
END:STANDARD
BEGIN:DAYLIGHT
TZOFFSETFROM:+0100
TZOFFSETTO:+0200
TZNAME:CEST
DTSTART:20270328T010000
END:DAYLIGHT
BEGIN:STANDARD
TZOFFSETFROM:+0200
TZOFFSETTO:+0100
TZNAME:CET
DTSTART:20271031T010000
END:STANDARD
END:VTIMEZONE
BEGIN:VEVENT
DTSTART;TZID=Europe/Madrid:20260413T103000
DTEND;TZID=Europe/Madrid:20260413T123000
DTSTAMP:20260424T074937
CREATED:20260331T083224Z
LAST-MODIFIED:20260331T083224Z
UID:17541-1776076200-1776083400@www.admolinos.org
SUMMARY:Taller Fortaleza y Futuro: Mujeres que Crecen
DESCRIPTION:Día: 13 de abril de 2026\nHorario: de 10:30 a 12:30 h\nLugar:  Casa de la Cultura Giralt La Porta\, C/ de la Paz\, 51. Sierra Oeste\, Valdemorillo.\nDirigido: Mujeres.\nContenido: Se realiza esta actividad para impulsar el desarrollo de competencias profesionales para que cada participante fortalezca sus habilidades\, mejore su preparación y avance con seguridad hacia nuevas oportunidades laborales.\nColabora: Casa de Cultura. Ayuntamiento de Valdemorillo \nMás información: 674 321 372 / acogida.sierra@admolinos.org\nInscripciones: a través del FORMULARIO\n\n    
URL:https://www.admolinos.org/evento/taller-fortaleza-y-futuro-mujeres-que-crecen/
CATEGORIES:Integración Social,Talleres
END:VEVENT
BEGIN:VEVENT
DTSTART;TZID=Europe/Madrid:20260413T160000
DTEND;TZID=Europe/Madrid:20260413T180000
DTSTAMP:20260424T074937
CREATED:20260331T084902Z
LAST-MODIFIED:20260331T084902Z
UID:17543-1776096000-1776103200@www.admolinos.org
SUMMARY:Taller: Saber es poder
DESCRIPTION:Día: 13 de abril de 2026\nHorario: de 16:00 a 18:00h\nLugar: VIA ZOOM\nContenido: Taller para conocer los derechos que tenemos a nuestro alcance\, tomar conciencia de cómo estos derechos fortalecen nuestra autonomía personal y adquirir herramientas para emprender acciones que mejoren nuestras oportunidades de vida\, empleo y participación social.\nMás información: 697 489 362 / intermediación@admolinos.org\nCon la colaboración de: ALTERNATIVAS – Asociación para la promoción de la Justicia Social.\nInscripciones: a través del FORMULARIO\n\n       
URL:https://www.admolinos.org/evento/taller-saber-es-poder/
CATEGORIES:Integración Social,Talleres
END:VEVENT
END:VCALENDAR